BEGIN:VCALENDAR
VERSION:2.0
PRODID:-//Lancaster Elks Lodge #1625 - ECPv6.15.20//NONSGML v1.0//EN
CALSCALE:GREGORIAN
METHOD:PUBLISH
X-ORIGINAL-URL:https://lancasterelkslodge1625.org
X-WR-CALDESC:Events for Lancaster Elks Lodge #1625
REFRESH-INTERVAL;VALUE=DURATION:PT1H
X-Robots-Tag:noindex
X-PUBLISHED-TTL:PT1H
BEGIN:VTIMEZONE
TZID:America/Los_Angeles
BEGIN:DAYLIGHT
TZOFFSETFROM:-0800
TZOFFSETTO:-0700
TZNAME:PDT
DTSTART:20240310T100000
END:DAYLIGHT
BEGIN:STANDARD
TZOFFSETFROM:-0700
TZOFFSETTO:-0800
TZNAME:PST
DTSTART:20241103T090000
END:STANDARD
BEGIN:DAYLIGHT
TZOFFSETFROM:-0800
TZOFFSETTO:-0700
TZNAME:PDT
DTSTART:20250309T100000
END:DAYLIGHT
BEGIN:STANDARD
TZOFFSETFROM:-0700
TZOFFSETTO:-0800
TZNAME:PST
DTSTART:20251102T090000
END:STANDARD
BEGIN:DAYLIGHT
TZOFFSETFROM:-0800
TZOFFSETTO:-0700
TZNAME:PDT
DTSTART:20260308T100000
END:DAYLIGHT
BEGIN:STANDARD
TZOFFSETFROM:-0700
TZOFFSETTO:-0800
TZNAME:PST
DTSTART:20261101T090000
END:STANDARD
END:VTIMEZONE
BEGIN:VEVENT
DTSTART;TZID=America/Los_Angeles:20250210T030000
DTEND;TZID=America/Los_Angeles:20250210T060000
DTSTAMP:20260423T085353
CREATED:20250205T215726Z
LAST-MODIFIED:20250206T002340Z
UID:398-1739156400-1739167200@lancasterelkslodge1625.org
SUMMARY:Burgers & Dogs
DESCRIPTION:
URL:https://lancasterelkslodge1625.org/event/burgers-dogs/
LOCATION:Elks Lodge #1625\, 240 E Ave k\, Lancaster\, CA\, 93535\, United States
CATEGORIES:Dining,Social
END:VEVENT
BEGIN:VEVENT
DTSTART;TZID=America/Los_Angeles:20250210T080000
DTEND;TZID=America/Los_Angeles:20250210T090000
DTSTAMP:20260423T085353
CREATED:20250205T215804Z
LAST-MODIFIED:20250206T004713Z
UID:401-1739174400-1739178000@lancasterelkslodge1625.org
SUMMARY:Cribbage
DESCRIPTION:
URL:https://lancasterelkslodge1625.org/event/cribbage-2/
LOCATION:Elks Lodge #1625\, 240 E Ave k\, Lancaster\, CA\, 93535\, United States
CATEGORIES:Social
ATTACH;FMTTYPE=image/png:https://lancasterelkslodge1625.org/wp-content/uploads/2025/02/image-3.png
END:VEVENT
BEGIN:VEVENT
DTSTART;TZID=America/Los_Angeles:20250210T080000
DTEND;TZID=America/Los_Angeles:20250210T110000
DTSTAMP:20260423T085353
CREATED:20250205T215846Z
LAST-MODIFIED:20250205T234123Z
UID:404-1739174400-1739185200@lancasterelkslodge1625.org
SUMMARY:Hotdogs @ the bar
DESCRIPTION:
URL:https://lancasterelkslodge1625.org/event/hotdogs-the-bar/
LOCATION:CA
CATEGORIES:Dining,Social
END:VEVENT
BEGIN:VEVENT
DTSTART;TZID=America/Los_Angeles:20250210T100000
DTEND;TZID=America/Los_Angeles:20250210T110000
DTSTAMP:20260423T085353
CREATED:20250205T215939Z
LAST-MODIFIED:20250205T215939Z
UID:407-1739181600-1739185200@lancasterelkslodge1625.org
SUMMARY:Rage of the Sage RV Meeting
DESCRIPTION:
URL:https://lancasterelkslodge1625.org/event/rage-of-the-sage-rv-meeting/
LOCATION:CA
CATEGORIES:Social
END:VEVENT
BEGIN:VEVENT
DTSTART;TZID=America/Los_Angeles:20250210T103000
DTEND;TZID=America/Los_Angeles:20250210T113000
DTSTAMP:20260423T085353
CREATED:20250205T220020Z
LAST-MODIFIED:20250205T220935Z
UID:410-1739183400-1739187000@lancasterelkslodge1625.org
SUMMARY:Line Dancing
DESCRIPTION:
URL:https://lancasterelkslodge1625.org/event/line-dancing-2/
LOCATION:CA
CATEGORIES:Exercise,Social
END:VEVENT
END:VCALENDAR