BEGIN:VCALENDAR
VERSION:2.0
PRODID:-//Lancaster Elks Lodge #1625 - ECPv6.15.20//NONSGML v1.0//EN
CALSCALE:GREGORIAN
METHOD:PUBLISH
X-ORIGINAL-URL:https://lancasterelkslodge1625.org
X-WR-CALDESC:Events for Lancaster Elks Lodge #1625
REFRESH-INTERVAL;VALUE=DURATION:PT1H
X-Robots-Tag:noindex
X-PUBLISHED-TTL:PT1H
BEGIN:VTIMEZONE
TZID:America/Los_Angeles
BEGIN:DAYLIGHT
TZOFFSETFROM:-0800
TZOFFSETTO:-0700
TZNAME:PDT
DTSTART:20240310T100000
END:DAYLIGHT
BEGIN:STANDARD
TZOFFSETFROM:-0700
TZOFFSETTO:-0800
TZNAME:PST
DTSTART:20241103T090000
END:STANDARD
BEGIN:DAYLIGHT
TZOFFSETFROM:-0800
TZOFFSETTO:-0700
TZNAME:PDT
DTSTART:20250309T100000
END:DAYLIGHT
BEGIN:STANDARD
TZOFFSETFROM:-0700
TZOFFSETTO:-0800
TZNAME:PST
DTSTART:20251102T090000
END:STANDARD
BEGIN:DAYLIGHT
TZOFFSETFROM:-0800
TZOFFSETTO:-0700
TZNAME:PDT
DTSTART:20260308T100000
END:DAYLIGHT
BEGIN:STANDARD
TZOFFSETFROM:-0700
TZOFFSETTO:-0800
TZNAME:PST
DTSTART:20261101T090000
END:STANDARD
END:VTIMEZONE
BEGIN:VEVENT
DTSTART;TZID=America/Los_Angeles:20250219T090000
DTEND;TZID=America/Los_Angeles:20250219T103000
DTSTAMP:20260423T085353
CREATED:20250205T230901Z
LAST-MODIFIED:20250205T230901Z
UID:461-1739955600-1739961000@lancasterelkslodge1625.org
SUMMARY:Ribs BBQ
DESCRIPTION:
URL:https://lancasterelkslodge1625.org/event/ribs-bbq/
LOCATION:CA
CATEGORIES:Dining,Social
END:VEVENT
BEGIN:VEVENT
DTSTART;TZID=America/Los_Angeles:20250219T093000
DTEND;TZID=America/Los_Angeles:20250219T103000
DTSTAMP:20260423T085353
CREATED:20250205T231005Z
LAST-MODIFIED:20250205T231005Z
UID:464-1739957400-1739961000@lancasterelkslodge1625.org
SUMMARY:Ritual Practice
DESCRIPTION:
URL:https://lancasterelkslodge1625.org/event/ritual-practice-3/
LOCATION:CA
CATEGORIES:Closed Meeting
END:VEVENT
END:VCALENDAR