BEGIN:VCALENDAR
VERSION:2.0
PRODID:-//Lancaster Elks Lodge #1625 - ECPv6.15.20//NONSGML v1.0//EN
CALSCALE:GREGORIAN
METHOD:PUBLISH
X-ORIGINAL-URL:https://lancasterelkslodge1625.org
X-WR-CALDESC:Events for Lancaster Elks Lodge #1625
REFRESH-INTERVAL;VALUE=DURATION:PT1H
X-Robots-Tag:noindex
X-PUBLISHED-TTL:PT1H
BEGIN:VTIMEZONE
TZID:America/Los_Angeles
BEGIN:DAYLIGHT
TZOFFSETFROM:-0800
TZOFFSETTO:-0700
TZNAME:PDT
DTSTART:20240310T100000
END:DAYLIGHT
BEGIN:STANDARD
TZOFFSETFROM:-0700
TZOFFSETTO:-0800
TZNAME:PST
DTSTART:20241103T090000
END:STANDARD
BEGIN:DAYLIGHT
TZOFFSETFROM:-0800
TZOFFSETTO:-0700
TZNAME:PDT
DTSTART:20250309T100000
END:DAYLIGHT
BEGIN:STANDARD
TZOFFSETFROM:-0700
TZOFFSETTO:-0800
TZNAME:PST
DTSTART:20251102T090000
END:STANDARD
BEGIN:DAYLIGHT
TZOFFSETFROM:-0800
TZOFFSETTO:-0700
TZNAME:PDT
DTSTART:20260308T100000
END:DAYLIGHT
BEGIN:STANDARD
TZOFFSETFROM:-0700
TZOFFSETTO:-0800
TZNAME:PST
DTSTART:20261101T090000
END:STANDARD
END:VTIMEZONE
BEGIN:VEVENT
DTSTART;TZID=America/Los_Angeles:20250414T110000
DTEND;TZID=America/Los_Angeles:20250414T120000
DTSTAMP:20260423T034712
CREATED:20250327T043925Z
LAST-MODIFIED:20250327T043925Z
UID:1216-1744628400-1744632000@lancasterelkslodge1625.org
SUMMARY:Burgers and Dogs
DESCRIPTION:
URL:https://lancasterelkslodge1625.org/event/burgers-and-dogs-7/
LOCATION:Elks Lodge #1625\, 240 E Ave k\, Lancaster\, CA\, 93535\, United States
CATEGORIES:Dining
ATTACH;FMTTYPE=image/png:https://lancasterelkslodge1625.org/wp-content/uploads/2025/02/image.png
END:VEVENT
BEGIN:VEVENT
DTSTART;TZID=America/Los_Angeles:20250414T160000
DTEND;TZID=America/Los_Angeles:20250414T173000
DTSTAMP:20260423T034712
CREATED:20250327T044029Z
LAST-MODIFIED:20250327T044656Z
UID:1219-1744646400-1744651800@lancasterelkslodge1625.org
SUMMARY:Cribbage
DESCRIPTION:
URL:https://lancasterelkslodge1625.org/event/cribbage-11/
LOCATION:Elks Lodge #1625\, 240 E Ave k\, Lancaster\, CA\, 93535\, United States
ATTACH;FMTTYPE=image/png:https://lancasterelkslodge1625.org/wp-content/uploads/2025/02/image-3.png
END:VEVENT
BEGIN:VEVENT
DTSTART;TZID=America/Los_Angeles:20250414T160000
DTEND;TZID=America/Los_Angeles:20250414T190000
DTSTAMP:20260423T034712
CREATED:20250327T045824Z
LAST-MODIFIED:20250327T045824Z
UID:1222-1744646400-1744657200@lancasterelkslodge1625.org
SUMMARY:Dogs at the bar
DESCRIPTION:
URL:https://lancasterelkslodge1625.org/event/dogs-at-the-bar-18/
LOCATION:Elks Lodge #1625\, 240 E Ave k\, Lancaster\, CA\, 93535\, United States
CATEGORIES:Dining,Social
ATTACH;FMTTYPE=image/webp:https://lancasterelkslodge1625.org/wp-content/uploads/2025/02/hotdogs.webp
END:VEVENT
BEGIN:VEVENT
DTSTART;TZID=America/Los_Angeles:20250414T180000
DTEND;TZID=America/Los_Angeles:20250414T190000
DTSTAMP:20260423T034712
CREATED:20250327T051541Z
LAST-MODIFIED:20250327T051541Z
UID:1225-1744653600-1744657200@lancasterelkslodge1625.org
SUMMARY:Rage of the Sage Mtg
DESCRIPTION:
URL:https://lancasterelkslodge1625.org/event/rage-of-the-sage-mtg/
LOCATION:Elks Lodge #1625\, 240 E Ave k\, Lancaster\, CA\, 93535\, United States
CATEGORIES:Committee,Social
END:VEVENT
BEGIN:VEVENT
DTSTART;TZID=America/Los_Angeles:20250414T183000
DTEND;TZID=America/Los_Angeles:20250414T210000
DTSTAMP:20260423T034712
CREATED:20250327T051720Z
LAST-MODIFIED:20250327T051720Z
UID:1228-1744655400-1744664400@lancasterelkslodge1625.org
SUMMARY:Line Dancing
DESCRIPTION:
URL:https://lancasterelkslodge1625.org/event/line-dancing-11/
LOCATION:Elks Lodge #1625\, 240 E Ave k\, Lancaster\, CA\, 93535\, United States
CATEGORIES:Exercise,Social
ATTACH;FMTTYPE=image/png:https://lancasterelkslodge1625.org/wp-content/uploads/2025/02/image-1.png
END:VEVENT
END:VCALENDAR