BEGIN:VCALENDAR
VERSION:2.0
PRODID:-//Lancaster Elks Lodge #1625 - ECPv6.15.20//NONSGML v1.0//EN
CALSCALE:GREGORIAN
METHOD:PUBLISH
X-WR-CALNAME:Lancaster Elks Lodge #1625
X-ORIGINAL-URL:https://lancasterelkslodge1625.org
X-WR-CALDESC:Events for Lancaster Elks Lodge #1625
REFRESH-INTERVAL;VALUE=DURATION:PT1H
X-Robots-Tag:noindex
X-PUBLISHED-TTL:PT1H
BEGIN:VTIMEZONE
TZID:America/Los_Angeles
BEGIN:DAYLIGHT
TZOFFSETFROM:-0800
TZOFFSETTO:-0700
TZNAME:PDT
DTSTART:20240310T100000
END:DAYLIGHT
BEGIN:STANDARD
TZOFFSETFROM:-0700
TZOFFSETTO:-0800
TZNAME:PST
DTSTART:20241103T090000
END:STANDARD
BEGIN:DAYLIGHT
TZOFFSETFROM:-0800
TZOFFSETTO:-0700
TZNAME:PDT
DTSTART:20250309T100000
END:DAYLIGHT
BEGIN:STANDARD
TZOFFSETFROM:-0700
TZOFFSETTO:-0800
TZNAME:PST
DTSTART:20251102T090000
END:STANDARD
BEGIN:DAYLIGHT
TZOFFSETFROM:-0800
TZOFFSETTO:-0700
TZNAME:PDT
DTSTART:20260308T100000
END:DAYLIGHT
BEGIN:STANDARD
TZOFFSETFROM:-0700
TZOFFSETTO:-0800
TZNAME:PST
DTSTART:20261101T090000
END:STANDARD
END:VTIMEZONE
BEGIN:VEVENT
DTSTART;VALUE=DATE:20251215
DTEND;VALUE=DATE:20251223
DTSTAMP:20260422T151853
CREATED:20251102T013400Z
LAST-MODIFIED:20250213T140221Z
UID:722-1765756800-1766447999@lancasterelkslodge1625.org
SUMMARY:Hanukkah
DESCRIPTION:
URL:https://lancasterelkslodge1625.org/event/hanukkah/
LOCATION:CA
CATEGORIES:Holiday
ATTACH;FMTTYPE=image/jpeg:https://lancasterelkslodge1625.org/wp-content/uploads/2025/02/hanukkah.jpg
END:VEVENT
BEGIN:VEVENT
DTSTART;TZID=America/Los_Angeles:20251219T160000
DTEND;TZID=America/Los_Angeles:20251219T190000
DTSTAMP:20260422T151853
CREATED:20251125T183027Z
LAST-MODIFIED:20251125T183027Z
UID:3210-1766160000-1766170800@lancasterelkslodge1625.org
SUMMARY:Dogs at the bar
DESCRIPTION:
URL:https://lancasterelkslodge1625.org/event/dogs-at-the-bar-124/
LOCATION:Elks Lodge #1625\, 240 E Ave k\, Lancaster\, CA\, 93535\, United States
CATEGORIES:Dining,Social
ATTACH;FMTTYPE=image/webp:https://lancasterelkslodge1625.org/wp-content/uploads/2025/02/hotdogs.webp
END:VEVENT
BEGIN:VEVENT
DTSTART;TZID=America/Los_Angeles:20251219T180000
DTEND;TZID=America/Los_Angeles:20251219T220000
DTSTAMP:20260422T151853
CREATED:20251125T183238Z
LAST-MODIFIED:20251125T183940Z
UID:3213-1766167200-1766181600@lancasterelkslodge1625.org
SUMMARY:Games Night
DESCRIPTION:Game Night
URL:https://lancasterelkslodge1625.org/event/games-night-2/
LOCATION:Elks Lodge #1625\, 240 E Ave k\, Lancaster\, CA\, 93535\, United States
CATEGORIES:Social
ATTACH;FMTTYPE=application/pdf:https://lancasterelkslodge1625.org/wp-content/uploads/2025/11/Game-Night-1.pdf
END:VEVENT
END:VCALENDAR