BEGIN:VCALENDAR
VERSION:2.0
PRODID:-//Lancaster Elks Lodge #1625 - ECPv6.15.20//NONSGML v1.0//EN
CALSCALE:GREGORIAN
METHOD:PUBLISH
X-ORIGINAL-URL:https://lancasterelkslodge1625.org
X-WR-CALDESC:Events for Lancaster Elks Lodge #1625
REFRESH-INTERVAL;VALUE=DURATION:PT1H
X-Robots-Tag:noindex
X-PUBLISHED-TTL:PT1H
BEGIN:VTIMEZONE
TZID:America/Los_Angeles
BEGIN:DAYLIGHT
TZOFFSETFROM:-0800
TZOFFSETTO:-0700
TZNAME:PDT
DTSTART:20240310T100000
END:DAYLIGHT
BEGIN:STANDARD
TZOFFSETFROM:-0700
TZOFFSETTO:-0800
TZNAME:PST
DTSTART:20241103T090000
END:STANDARD
BEGIN:DAYLIGHT
TZOFFSETFROM:-0800
TZOFFSETTO:-0700
TZNAME:PDT
DTSTART:20250309T100000
END:DAYLIGHT
BEGIN:STANDARD
TZOFFSETFROM:-0700
TZOFFSETTO:-0800
TZNAME:PST
DTSTART:20251102T090000
END:STANDARD
BEGIN:DAYLIGHT
TZOFFSETFROM:-0800
TZOFFSETTO:-0700
TZNAME:PDT
DTSTART:20260308T100000
END:DAYLIGHT
BEGIN:STANDARD
TZOFFSETFROM:-0700
TZOFFSETTO:-0800
TZNAME:PST
DTSTART:20261101T090000
END:STANDARD
END:VTIMEZONE
BEGIN:VEVENT
DTSTART;TZID=America/Los_Angeles:20250502T090000
DTEND;TZID=America/Los_Angeles:20250502T110000
DTSTAMP:20260423T020951
CREATED:20250428T014710Z
LAST-MODIFIED:20250428T014910Z
UID:1403-1746176400-1746183600@lancasterelkslodge1625.org
SUMMARY:Ritual Contest
DESCRIPTION:
URL:https://lancasterelkslodge1625.org/event/ritual-contest/
LOCATION:Elks Lodge #1625\, 240 E Ave k\, Lancaster\, CA\, 93535\, United States
CATEGORIES:Closed Meeting
END:VEVENT
BEGIN:VEVENT
DTSTART;TZID=America/Los_Angeles:20250502T180000
DTEND;TZID=America/Los_Angeles:20250502T190000
DTSTAMP:20260423T020951
CREATED:20250428T014542Z
LAST-MODIFIED:20250428T014542Z
UID:1400-1746208800-1746212400@lancasterelkslodge1625.org
SUMMARY:Investigation
DESCRIPTION:
URL:https://lancasterelkslodge1625.org/event/investigation-4/
LOCATION:Elks Lodge #1625\, 240 E Ave k\, Lancaster\, CA\, 93535\, United States
CATEGORIES:Closed Meeting
END:VEVENT
BEGIN:VEVENT
DTSTART;TZID=America/Los_Angeles:20250503T090000
DTEND;TZID=America/Los_Angeles:20250503T100000
DTSTAMP:20260423T020951
CREATED:20250428T014817Z
LAST-MODIFIED:20250428T014831Z
UID:1406-1746262800-1746266400@lancasterelkslodge1625.org
SUMMARY:Ritual Contest
DESCRIPTION:
URL:https://lancasterelkslodge1625.org/event/ritual-contest-2/
LOCATION:Elks Lodge #1625\, 240 E Ave k\, Lancaster\, CA\, 93535\, United States
CATEGORIES:Closed Meeting
END:VEVENT
BEGIN:VEVENT
DTSTART;TZID=America/Los_Angeles:20250505T183000
DTEND;TZID=America/Los_Angeles:20250505T190000
DTSTAMP:20260423T020951
CREATED:20250428T024212Z
LAST-MODIFIED:20250428T024212Z
UID:1468-1746469800-1746471600@lancasterelkslodge1625.org
SUMMARY:Board / House Meeting
DESCRIPTION:
URL:https://lancasterelkslodge1625.org/event/board-house-meeting/
LOCATION:Elks Lodge #1625\, 240 E Ave k\, Lancaster\, CA\, 93535\, United States
CATEGORIES:Closed Meeting,Committee
END:VEVENT
BEGIN:VEVENT
DTSTART;TZID=America/Los_Angeles:20250506T190000
DTEND;TZID=America/Los_Angeles:20250506T200000
DTSTAMP:20260423T020951
CREATED:20250428T025007Z
LAST-MODIFIED:20250428T025007Z
UID:1486-1746558000-1746561600@lancasterelkslodge1625.org
SUMMARY:Meeting (Balloting)
DESCRIPTION:
URL:https://lancasterelkslodge1625.org/event/meeting-balloting/
LOCATION:Elks Lodge #1625\, 240 E Ave k\, Lancaster\, CA\, 93535\, United States
CATEGORIES:Closed Meeting,Social
END:VEVENT
BEGIN:VEVENT
DTSTART;TZID=America/Los_Angeles:20250513T190000
DTEND;TZID=America/Los_Angeles:20250513T200000
DTSTAMP:20260423T020951
CREATED:20250428T045445Z
LAST-MODIFIED:20250428T045445Z
UID:1518-1747162800-1747166400@lancasterelkslodge1625.org
SUMMARY:Elks Meeting
DESCRIPTION:
URL:https://lancasterelkslodge1625.org/event/elks-meeting-2/
LOCATION:Elks Lodge #1625\, 240 E Ave k\, Lancaster\, CA\, 93535\, United States
CATEGORIES:Closed Meeting,Social
END:VEVENT
BEGIN:VEVENT
DTSTART;TZID=America/Los_Angeles:20250514T180000
DTEND;TZID=America/Los_Angeles:20250514T190000
DTSTAMP:20260423T020951
CREATED:20250428T050817Z
LAST-MODIFIED:20250428T050817Z
UID:1527-1747245600-1747249200@lancasterelkslodge1625.org
SUMMARY:PER Meeting
DESCRIPTION:
URL:https://lancasterelkslodge1625.org/event/per-meeting-3/
LOCATION:Elks Lodge #1625\, 240 E Ave k\, Lancaster\, CA\, 93535\, United States
CATEGORIES:Closed Meeting,Social
END:VEVENT
BEGIN:VEVENT
DTSTART;TZID=America/Los_Angeles:20250520T190000
DTEND;TZID=America/Los_Angeles:20250520T200000
DTSTAMP:20260423T020951
CREATED:20250428T051400Z
LAST-MODIFIED:20250428T051400Z
UID:1536-1747767600-1747771200@lancasterelkslodge1625.org
SUMMARY:Elks Meeting
DESCRIPTION:
URL:https://lancasterelkslodge1625.org/event/elks-meeting-3/
LOCATION:Elks Lodge #1625\, 240 E Ave k\, Lancaster\, CA\, 93535\, United States
CATEGORIES:Closed Meeting,Social
END:VEVENT
BEGIN:VEVENT
DTSTART;TZID=America/Los_Angeles:20250521T180000
DTEND;TZID=America/Los_Angeles:20250521T190000
DTSTAMP:20260423T020951
CREATED:20250428T051458Z
LAST-MODIFIED:20250428T051458Z
UID:1539-1747850400-1747854000@lancasterelkslodge1625.org
SUMMARY:Orientation
DESCRIPTION:
URL:https://lancasterelkslodge1625.org/event/orientation-3/
LOCATION:Elks Lodge #1625\, 240 E Ave k\, Lancaster\, CA\, 93535\, United States
CATEGORIES:Closed Meeting
END:VEVENT
BEGIN:VEVENT
DTSTART;TZID=America/Los_Angeles:20250527T190000
DTEND;TZID=America/Los_Angeles:20250527T200000
DTSTAMP:20260423T020951
CREATED:20250428T052516Z
LAST-MODIFIED:20250428T052516Z
UID:1557-1748372400-1748376000@lancasterelkslodge1625.org
SUMMARY:Elks Meeting (Initiation)
DESCRIPTION:
URL:https://lancasterelkslodge1625.org/event/elks-meeting-initiation/
LOCATION:Elks Lodge #1625\, 240 E Ave k\, Lancaster\, CA\, 93535\, United States
CATEGORIES:Closed Meeting,Social
END:VEVENT
END:VCALENDAR