BEGIN:VCALENDAR
VERSION:2.0
PRODID:-//Lancaster Elks Lodge #1625 - ECPv6.15.20//NONSGML v1.0//EN
CALSCALE:GREGORIAN
METHOD:PUBLISH
X-ORIGINAL-URL:https://lancasterelkslodge1625.org
X-WR-CALDESC:Events for Lancaster Elks Lodge #1625
REFRESH-INTERVAL;VALUE=DURATION:PT1H
X-Robots-Tag:noindex
X-PUBLISHED-TTL:PT1H
BEGIN:VTIMEZONE
TZID:America/Los_Angeles
BEGIN:DAYLIGHT
TZOFFSETFROM:-0800
TZOFFSETTO:-0700
TZNAME:PDT
DTSTART:20250309T100000
END:DAYLIGHT
BEGIN:STANDARD
TZOFFSETFROM:-0700
TZOFFSETTO:-0800
TZNAME:PST
DTSTART:20251102T090000
END:STANDARD
BEGIN:DAYLIGHT
TZOFFSETFROM:-0800
TZOFFSETTO:-0700
TZNAME:PDT
DTSTART:20260308T100000
END:DAYLIGHT
BEGIN:STANDARD
TZOFFSETFROM:-0700
TZOFFSETTO:-0800
TZNAME:PST
DTSTART:20261101T090000
END:STANDARD
BEGIN:DAYLIGHT
TZOFFSETFROM:-0800
TZOFFSETTO:-0700
TZNAME:PDT
DTSTART:20270314T100000
END:DAYLIGHT
BEGIN:STANDARD
TZOFFSETFROM:-0700
TZOFFSETTO:-0800
TZNAME:PST
DTSTART:20271107T090000
END:STANDARD
END:VTIMEZONE
BEGIN:VEVENT
DTSTART;TZID=America/Los_Angeles:20260505T190000
DTEND;TZID=America/Los_Angeles:20260505T210000
DTSTAMP:20260422T150046
CREATED:20260417T154302Z
LAST-MODIFIED:20260417T182950Z
UID:4147-1778007600-1778014800@lancasterelkslodge1625.org
SUMMARY:Elks Meeting
DESCRIPTION:
URL:https://lancasterelkslodge1625.org/event/elks-meeting-37/
LOCATION:Elks Lodge #1625\, 240 E Ave k\, Lancaster\, CA\, 93535\, United States
CATEGORIES:Closed Meeting,Social
ATTACH;FMTTYPE=image/jpeg:https://lancasterelkslodge1625.org/wp-content/uploads/2026/03/650946025_1223580746608018_8035688406577368261_n.jpg
END:VEVENT
BEGIN:VEVENT
DTSTART;TZID=America/Los_Angeles:20260512T190000
DTEND;TZID=America/Los_Angeles:20260512T203000
DTSTAMP:20260422T150046
CREATED:20260417T165840Z
LAST-MODIFIED:20260417T165840Z
UID:4196-1778612400-1778617800@lancasterelkslodge1625.org
SUMMARY:Elks Youth Program Presentation
DESCRIPTION:
URL:https://lancasterelkslodge1625.org/event/elks-youth-program-presentation/
LOCATION:Elks Lodge #1625\, 240 E Ave k\, Lancaster\, CA\, 93535\, United States
CATEGORIES:Closed Meeting
END:VEVENT
BEGIN:VEVENT
DTSTART;TZID=America/Los_Angeles:20260512T190000
DTEND;TZID=America/Los_Angeles:20260512T210000
DTSTAMP:20260422T150046
CREATED:20260417T165505Z
LAST-MODIFIED:20260417T182922Z
UID:4193-1778612400-1778619600@lancasterelkslodge1625.org
SUMMARY:Elks Meeting
DESCRIPTION:
URL:https://lancasterelkslodge1625.org/event/elks-meeting-38/
LOCATION:Elks Lodge #1625\, 240 E Ave k\, Lancaster\, CA\, 93535\, United States
CATEGORIES:Closed Meeting
ATTACH;FMTTYPE=image/jpeg:https://lancasterelkslodge1625.org/wp-content/uploads/2026/03/650946025_1223580746608018_8035688406577368261_n.jpg
END:VEVENT
BEGIN:VEVENT
DTSTART;TZID=America/Los_Angeles:20260513T180000
DTEND;TZID=America/Los_Angeles:20260513T190000
DTSTAMP:20260422T150046
CREATED:20260417T171455Z
LAST-MODIFIED:20260417T171455Z
UID:4202-1778695200-1778698800@lancasterelkslodge1625.org
SUMMARY:PER Meeting
DESCRIPTION:
URL:https://lancasterelkslodge1625.org/event/per-meeting-16/
LOCATION:Elks Lodge #1625\, 240 E Ave k\, Lancaster\, CA\, 93535\, United States
CATEGORIES:Closed Meeting
END:VEVENT
BEGIN:VEVENT
DTSTART;TZID=America/Los_Angeles:20260519T070000
DTEND;TZID=America/Los_Angeles:20260519T210000
DTSTAMP:20260422T150046
CREATED:20260417T180836Z
LAST-MODIFIED:20260417T182857Z
UID:4245-1779174000-1779224400@lancasterelkslodge1625.org
SUMMARY:Elks Meeting
DESCRIPTION:
URL:https://lancasterelkslodge1625.org/event/elks-meeting-39/
LOCATION:Elks Lodge #1625\, 240 E Ave k\, Lancaster\, CA\, 93535\, United States
CATEGORIES:Closed Meeting,Social
ATTACH;FMTTYPE=image/jpeg:https://lancasterelkslodge1625.org/wp-content/uploads/2026/03/650946025_1223580746608018_8035688406577368261_n.jpg
END:VEVENT
BEGIN:VEVENT
DTSTART;TZID=America/Los_Angeles:20260520T180000
DTEND;TZID=America/Los_Angeles:20260520T190000
DTSTAMP:20260422T150046
CREATED:20260417T181108Z
LAST-MODIFIED:20260417T181108Z
UID:4251-1779300000-1779303600@lancasterelkslodge1625.org
SUMMARY:Orientation
DESCRIPTION:
URL:https://lancasterelkslodge1625.org/event/orientation-14/
LOCATION:Elks Lodge #1625\, 240 E Ave k\, Lancaster\, CA\, 93535\, United States
CATEGORIES:Closed Meeting,Social
END:VEVENT
END:VCALENDAR