BEGIN:VCALENDAR
VERSION:2.0
PRODID:-//Lancaster Elks Lodge #1625 - ECPv6.15.20//NONSGML v1.0//EN
CALSCALE:GREGORIAN
METHOD:PUBLISH
X-ORIGINAL-URL:https://lancasterelkslodge1625.org
X-WR-CALDESC:Events for Lancaster Elks Lodge #1625
REFRESH-INTERVAL;VALUE=DURATION:PT1H
X-Robots-Tag:noindex
X-PUBLISHED-TTL:PT1H
BEGIN:VTIMEZONE
TZID:America/Los_Angeles
BEGIN:DAYLIGHT
TZOFFSETFROM:-0800
TZOFFSETTO:-0700
TZNAME:PDT
DTSTART:20250309T100000
END:DAYLIGHT
BEGIN:STANDARD
TZOFFSETFROM:-0700
TZOFFSETTO:-0800
TZNAME:PST
DTSTART:20251102T090000
END:STANDARD
BEGIN:DAYLIGHT
TZOFFSETFROM:-0800
TZOFFSETTO:-0700
TZNAME:PDT
DTSTART:20260308T100000
END:DAYLIGHT
BEGIN:STANDARD
TZOFFSETFROM:-0700
TZOFFSETTO:-0800
TZNAME:PST
DTSTART:20261101T090000
END:STANDARD
BEGIN:DAYLIGHT
TZOFFSETFROM:-0800
TZOFFSETTO:-0700
TZNAME:PDT
DTSTART:20270314T100000
END:DAYLIGHT
BEGIN:STANDARD
TZOFFSETFROM:-0700
TZOFFSETTO:-0800
TZNAME:PST
DTSTART:20271107T090000
END:STANDARD
END:VTIMEZONE
BEGIN:VEVENT
DTSTART;TZID=America/Los_Angeles:20260120T190000
DTEND;TZID=America/Los_Angeles:20260120T200000
DTSTAMP:20260423T024026
CREATED:20260112T172252Z
LAST-MODIFIED:20260112T172252Z
UID:3415-1768935600-1768939200@lancasterelkslodge1625.org
SUMMARY:Elks Meeting
DESCRIPTION:
URL:https://lancasterelkslodge1625.org/event/elks-meeting-27/
LOCATION:Elks Lodge #1625\, 240 E Ave k\, Lancaster\, CA\, 93535\, United States
CATEGORIES:Closed Meeting
END:VEVENT
BEGIN:VEVENT
DTSTART;TZID=America/Los_Angeles:20260121T180000
DTEND;TZID=America/Los_Angeles:20260121T190000
DTSTAMP:20260423T024026
CREATED:20260112T175129Z
LAST-MODIFIED:20260112T175129Z
UID:3421-1769018400-1769022000@lancasterelkslodge1625.org
SUMMARY:Orientation
DESCRIPTION:
URL:https://lancasterelkslodge1625.org/event/orientation-10/
LOCATION:CA
CATEGORIES:Closed Meeting
END:VEVENT
BEGIN:VEVENT
DTSTART;TZID=America/Los_Angeles:20260127T190000
DTEND;TZID=America/Los_Angeles:20260127T203000
DTSTAMP:20260423T024026
CREATED:20260113T140158Z
LAST-MODIFIED:20260113T140158Z
UID:3451-1769540400-1769545800@lancasterelkslodge1625.org
SUMMARY:Elks Meeting
DESCRIPTION:
URL:https://lancasterelkslodge1625.org/event/elks-meeting-28/
LOCATION:Elks Lodge #1625\, 240 E Ave k\, Lancaster\, CA\, 93535\, United States
CATEGORIES:Closed Meeting
END:VEVENT
BEGIN:VEVENT
DTSTART;TZID=America/Los_Angeles:20260127T190000
DTEND;TZID=America/Los_Angeles:20260127T203000
DTSTAMP:20260423T024026
CREATED:20260113T140230Z
LAST-MODIFIED:20260113T140230Z
UID:3454-1769540400-1769545800@lancasterelkslodge1625.org
SUMMARY:Initiation
DESCRIPTION:
URL:https://lancasterelkslodge1625.org/event/initiation/
LOCATION:Elks Lodge #1625\, 240 E Ave k\, Lancaster\, CA\, 93535\, United States
CATEGORIES:Closed Meeting
END:VEVENT
BEGIN:VEVENT
DTSTART;TZID=America/Los_Angeles:20260203T190000
DTEND;TZID=America/Los_Angeles:20260203T203000
DTSTAMP:20260423T024026
CREATED:20260207T034550Z
LAST-MODIFIED:20260207T034614Z
UID:3500-1770145200-1770150600@lancasterelkslodge1625.org
SUMMARY:Elks Meeting / First Nominations
DESCRIPTION:
URL:https://lancasterelkslodge1625.org/event/elks-meeting-29/
LOCATION:Elks Lodge #1625\, 240 E Ave k\, Lancaster\, CA\, 93535\, United States
CATEGORIES:Closed Meeting,Social
END:VEVENT
BEGIN:VEVENT
DTSTART;TZID=America/Los_Angeles:20260206T180000
DTEND;TZID=America/Los_Angeles:20260206T190000
DTSTAMP:20260423T024026
CREATED:20260207T035540Z
LAST-MODIFIED:20260207T035540Z
UID:3514-1770400800-1770404400@lancasterelkslodge1625.org
SUMMARY:Investigation
DESCRIPTION:
URL:https://lancasterelkslodge1625.org/event/investigation-12/
LOCATION:Elks Lodge #1625\, 240 E Ave k\, Lancaster\, CA\, 93535\, United States
CATEGORIES:Closed Meeting
END:VEVENT
BEGIN:VEVENT
DTSTART;TZID=America/Los_Angeles:20260210T190000
DTEND;TZID=America/Los_Angeles:20260210T203000
DTSTAMP:20260423T024026
CREATED:20260207T042704Z
LAST-MODIFIED:20260207T043004Z
UID:3534-1770750000-1770755400@lancasterelkslodge1625.org
SUMMARY:Elks Meeting - 2nd Nominations / Balloting
DESCRIPTION:
URL:https://lancasterelkslodge1625.org/event/elks-meeting-30/
LOCATION:CA
CATEGORIES:Closed Meeting
END:VEVENT
BEGIN:VEVENT
DTSTART;TZID=America/Los_Angeles:20260211T180000
DTEND;TZID=America/Los_Angeles:20260211T190000
DTSTAMP:20260423T024026
CREATED:20260207T043413Z
LAST-MODIFIED:20260207T043413Z
UID:3541-1770832800-1770836400@lancasterelkslodge1625.org
SUMMARY:PER Meeting
DESCRIPTION:
URL:https://lancasterelkslodge1625.org/event/per-meeting-13/
LOCATION:Elks Lodge #1625\, 240 E Ave k\, Lancaster\, CA\, 93535\, United States
CATEGORIES:Closed Meeting
END:VEVENT
BEGIN:VEVENT
DTSTART;TZID=America/Los_Angeles:20260217T190000
DTEND;TZID=America/Los_Angeles:20260217T203000
DTSTAMP:20260423T024026
CREATED:20260207T050543Z
LAST-MODIFIED:20260207T050543Z
UID:3566-1771354800-1771360200@lancasterelkslodge1625.org
SUMMARY:Elks Meeting - Voting for Officers
DESCRIPTION:
URL:https://lancasterelkslodge1625.org/event/elks-meeting-voting-for-officers/
LOCATION:Elks Lodge #1625\, 240 E Ave k\, Lancaster\, CA\, 93535\, United States
CATEGORIES:Closed Meeting,Social
END:VEVENT
BEGIN:VEVENT
DTSTART;TZID=America/Los_Angeles:20260218T180000
DTEND;TZID=America/Los_Angeles:20260218T190000
DTSTAMP:20260423T024026
CREATED:20260207T050745Z
LAST-MODIFIED:20260207T050745Z
UID:3571-1771437600-1771441200@lancasterelkslodge1625.org
SUMMARY:Orientation
DESCRIPTION:
URL:https://lancasterelkslodge1625.org/event/orientation-11/
LOCATION:Elks Lodge #1625\, 240 E Ave k\, Lancaster\, CA\, 93535\, United States
CATEGORIES:Closed Meeting
END:VEVENT
BEGIN:VEVENT
DTSTART;TZID=America/Los_Angeles:20260224T190000
DTEND;TZID=America/Los_Angeles:20260224T203000
DTSTAMP:20260423T024026
CREATED:20260207T052816Z
LAST-MODIFIED:20260207T052816Z
UID:3595-1771959600-1771965000@lancasterelkslodge1625.org
SUMMARY:Elks Meeting - Initiation
DESCRIPTION:
URL:https://lancasterelkslodge1625.org/event/elks-meeting-initiation-4/
LOCATION:Elks Lodge #1625\, 240 E Ave k\, Lancaster\, CA\, 93535\, United States
CATEGORIES:Closed Meeting
END:VEVENT
BEGIN:VEVENT
DTSTART;TZID=America/Los_Angeles:20260302T180000
DTEND;TZID=America/Los_Angeles:20260302T190000
DTSTAMP:20260423T024026
CREATED:20260227T194724Z
LAST-MODIFIED:20260227T194724Z
UID:3628-1772474400-1772478000@lancasterelkslodge1625.org
SUMMARY:Board Meeting
DESCRIPTION:
URL:https://lancasterelkslodge1625.org/event/board-meeting-8/
LOCATION:Elks Lodge #1625\, 240 E Ave k\, Lancaster\, CA\, 93535\, United States
CATEGORIES:Closed Meeting,Social
END:VEVENT
BEGIN:VEVENT
DTSTART;TZID=America/Los_Angeles:20260306T180000
DTEND;TZID=America/Los_Angeles:20260306T190000
DTSTAMP:20260423T024026
CREATED:20260227T201018Z
LAST-MODIFIED:20260227T201018Z
UID:3665-1772820000-1772823600@lancasterelkslodge1625.org
SUMMARY:Investigation
DESCRIPTION:
URL:https://lancasterelkslodge1625.org/event/investigation-13/
LOCATION:Elks Lodge #1625\, 240 E Ave k\, Lancaster\, CA\, 93535\, United States
CATEGORIES:Closed Meeting
END:VEVENT
BEGIN:VEVENT
DTSTART;TZID=America/Los_Angeles:20260310T190000
DTEND;TZID=America/Los_Angeles:20260310T210000
DTSTAMP:20260423T024026
CREATED:20260227T211510Z
LAST-MODIFIED:20260227T211510Z
UID:3703-1773169200-1773176400@lancasterelkslodge1625.org
SUMMARY:Elks Meeting (Balloting)
DESCRIPTION:
URL:https://lancasterelkslodge1625.org/event/elks-meeting-balloting-3/
LOCATION:Elks Lodge #1625\, 240 E Ave k\, Lancaster\, CA\, 93535\, United States
CATEGORIES:Closed Meeting
END:VEVENT
BEGIN:VEVENT
DTSTART;TZID=America/Los_Angeles:20260311T180000
DTEND;TZID=America/Los_Angeles:20260311T190000
DTSTAMP:20260423T024026
CREATED:20260227T212154Z
LAST-MODIFIED:20260227T212154Z
UID:3709-1773252000-1773255600@lancasterelkslodge1625.org
SUMMARY:PER Meeting
DESCRIPTION:
URL:https://lancasterelkslodge1625.org/event/per-meeting-14/
LOCATION:Elks Lodge #1625\, 240 E Ave k\, Lancaster\, CA\, 93535\, United States
CATEGORIES:Closed Meeting
END:VEVENT
BEGIN:VEVENT
DTSTART;TZID=America/Los_Angeles:20260317T190000
DTEND;TZID=America/Los_Angeles:20260317T210000
DTSTAMP:20260423T024026
CREATED:20260227T215031Z
LAST-MODIFIED:20260307T165835Z
UID:3753-1773774000-1773781200@lancasterelkslodge1625.org
SUMMARY:Elks Meeting (CLOSED MEETING)
DESCRIPTION:
URL:https://lancasterelkslodge1625.org/event/elks-meeting-32/
LOCATION:Elks Lodge #1625\, 240 E Ave k\, Lancaster\, CA\, 93535\, United States
CATEGORIES:Closed Meeting
END:VEVENT
BEGIN:VEVENT
DTSTART;TZID=America/Los_Angeles:20260318T180000
DTEND;TZID=America/Los_Angeles:20260318T190000
DTSTAMP:20260423T024026
CREATED:20260227T215318Z
LAST-MODIFIED:20260227T215318Z
UID:3762-1773856800-1773860400@lancasterelkslodge1625.org
SUMMARY:Orientation
DESCRIPTION:
URL:https://lancasterelkslodge1625.org/event/orientation-12/
LOCATION:Elks Lodge #1625\, 240 E Ave k\, Lancaster\, CA\, 93535\, United States
CATEGORIES:Closed Meeting,Social
END:VEVENT
BEGIN:VEVENT
DTSTART;TZID=America/Los_Angeles:20260331T190000
DTEND;TZID=America/Los_Angeles:20260331T210000
DTSTAMP:20260423T024026
CREATED:20260227T232146Z
LAST-MODIFIED:20260319T142359Z
UID:3831-1774983600-1774990800@lancasterelkslodge1625.org
SUMMARY:Elks Meeting (Initiation)
DESCRIPTION:
URL:https://lancasterelkslodge1625.org/event/elks-meeting-33/
LOCATION:Elks Lodge #1625\, 240 E Ave k\, Lancaster\, CA\, 93535\, United States
CATEGORIES:Closed Meeting,Social
ATTACH;FMTTYPE=image/jpeg:https://lancasterelkslodge1625.org/wp-content/uploads/2026/03/650946025_1223580746608018_8035688406577368261_n.jpg
END:VEVENT
BEGIN:VEVENT
DTSTART;TZID=America/Los_Angeles:20260403T180000
DTEND;TZID=America/Los_Angeles:20260403T190000
DTSTAMP:20260423T024026
CREATED:20260318T173222Z
LAST-MODIFIED:20260318T173222Z
UID:3872-1775239200-1775242800@lancasterelkslodge1625.org
SUMMARY:Investigation
DESCRIPTION:
URL:https://lancasterelkslodge1625.org/event/investigation-14/
LOCATION:Elks Lodge #1625\, 240 E Ave k\, Lancaster\, CA\, 93535\, United States
CATEGORIES:Closed Meeting
END:VEVENT
BEGIN:VEVENT
DTSTART;TZID=America/Los_Angeles:20260406T180000
DTEND;TZID=America/Los_Angeles:20260406T190000
DTSTAMP:20260423T024026
CREATED:20260319T141307Z
LAST-MODIFIED:20260319T141307Z
UID:3901-1775498400-1775502000@lancasterelkslodge1625.org
SUMMARY:Board Meeting
DESCRIPTION:
URL:https://lancasterelkslodge1625.org/event/board-meeting-9/
LOCATION:Elks Lodge #1625\, 240 E Ave k\, Lancaster\, CA\, 93535\, United States
CATEGORIES:Closed Meeting,Committee
END:VEVENT
BEGIN:VEVENT
DTSTART;TZID=America/Los_Angeles:20260407T190000
DTEND;TZID=America/Los_Angeles:20260407T210000
DTSTAMP:20260423T024026
CREATED:20260319T142324Z
LAST-MODIFIED:20260319T143647Z
UID:3913-1775588400-1775595600@lancasterelkslodge1625.org
SUMMARY:Elks Meeting; Balloting
DESCRIPTION:
URL:https://lancasterelkslodge1625.org/event/elks-meeting-34/
LOCATION:Elks Lodge #1625\, 240 E Ave k\, Lancaster\, CA\, 93535\, United States
CATEGORIES:Closed Meeting,Social
ATTACH;FMTTYPE=image/jpeg:https://lancasterelkslodge1625.org/wp-content/uploads/2026/03/650946025_1223580746608018_8035688406577368261_n.jpg
END:VEVENT
BEGIN:VEVENT
DTSTART;TZID=America/Los_Angeles:20260408T180000
DTEND;TZID=America/Los_Angeles:20260408T190000
DTSTAMP:20260423T024026
CREATED:20260319T142644Z
LAST-MODIFIED:20260319T142644Z
UID:3920-1775671200-1775674800@lancasterelkslodge1625.org
SUMMARY:PER Meeting
DESCRIPTION:
URL:https://lancasterelkslodge1625.org/event/per-meeting-15/
LOCATION:Elks Lodge #1625\, 240 E Ave k\, Lancaster\, CA\, 93535\, United States
CATEGORIES:Closed Meeting
END:VEVENT
BEGIN:VEVENT
DTSTART;TZID=America/Los_Angeles:20260414T190000
DTEND;TZID=America/Los_Angeles:20260414T210000
DTSTAMP:20260423T024026
CREATED:20260319T151649Z
LAST-MODIFIED:20260319T151650Z
UID:3959-1776193200-1776200400@lancasterelkslodge1625.org
SUMMARY:Elks Meeting
DESCRIPTION:
URL:https://lancasterelkslodge1625.org/event/elks-meeting-35/
LOCATION:Elks Lodge #1625\, 240 E Ave k\, Lancaster\, CA\, 93535\, United States
CATEGORIES:Closed Meeting
ATTACH;FMTTYPE=image/jpeg:https://lancasterelkslodge1625.org/wp-content/uploads/2026/03/650946025_1223580746608018_8035688406577368261_n.jpg
END:VEVENT
BEGIN:VEVENT
DTSTART;TZID=America/Los_Angeles:20260415T183000
DTEND;TZID=America/Los_Angeles:20260415T193000
DTSTAMP:20260423T024026
CREATED:20260319T153043Z
LAST-MODIFIED:20260319T153043Z
UID:3968-1776277800-1776281400@lancasterelkslodge1625.org
SUMMARY:Orientation
DESCRIPTION:
URL:https://lancasterelkslodge1625.org/event/orientation-13/
LOCATION:Elks Lodge #1625\, 240 E Ave k\, Lancaster\, CA\, 93535\, United States
CATEGORIES:Closed Meeting
END:VEVENT
BEGIN:VEVENT
DTSTART;TZID=America/Los_Angeles:20260421T190000
DTEND;TZID=America/Los_Angeles:20260421T210000
DTSTAMP:20260423T024026
CREATED:20260319T160152Z
LAST-MODIFIED:20260319T160204Z
UID:4000-1776798000-1776805200@lancasterelkslodge1625.org
SUMMARY:Elks Meeting
DESCRIPTION:
URL:https://lancasterelkslodge1625.org/event/elks-meeting-36/
LOCATION:Elks Lodge #1625\, 240 E Ave k\, Lancaster\, CA\, 93535\, United States
CATEGORIES:Closed Meeting
ATTACH;FMTTYPE=image/jpeg:https://lancasterelkslodge1625.org/wp-content/uploads/2026/03/650946025_1223580746608018_8035688406577368261_n.jpg
END:VEVENT
BEGIN:VEVENT
DTSTART;VALUE=DATE:20260424
DTEND;VALUE=DATE:20260425
DTSTAMP:20260423T024026
CREATED:20260319T160705Z
LAST-MODIFIED:20260319T160823Z
UID:4012-1776988800-1777075199@lancasterelkslodge1625.org
SUMMARY:Ritual Contest
DESCRIPTION:
URL:https://lancasterelkslodge1625.org/event/ritual-contest-3/
LOCATION:CA
CATEGORIES:Closed Meeting,Ritual
END:VEVENT
BEGIN:VEVENT
DTSTART;VALUE=DATE:20260425
DTEND;VALUE=DATE:20260426
DTSTAMP:20260423T024026
CREATED:20260319T160808Z
LAST-MODIFIED:20260319T160829Z
UID:4015-1777075200-1777161599@lancasterelkslodge1625.org
SUMMARY:Ritual Contest
DESCRIPTION:
URL:https://lancasterelkslodge1625.org/event/ritual-contest-4/
LOCATION:CA
CATEGORIES:Closed Meeting,Ritual
END:VEVENT
BEGIN:VEVENT
DTSTART;VALUE=DATE:20260426
DTEND;VALUE=DATE:20260427
DTSTAMP:20260423T024026
CREATED:20260319T161444Z
LAST-MODIFIED:20260319T161444Z
UID:4021-1777161600-1777247999@lancasterelkslodge1625.org
SUMMARY:Ritual Contest
DESCRIPTION:
URL:https://lancasterelkslodge1625.org/event/ritual-contest-5/
LOCATION:CA
CATEGORIES:Closed Meeting,Ritual
END:VEVENT
BEGIN:VEVENT
DTSTART;TZID=America/Los_Angeles:20260428T190000
DTEND;TZID=America/Los_Angeles:20260428T210000
DTSTAMP:20260423T024026
CREATED:20260319T162508Z
LAST-MODIFIED:20260319T162535Z
UID:4042-1777402800-1777410000@lancasterelkslodge1625.org
SUMMARY:Lodge Meeting; Initiation
DESCRIPTION:
URL:https://lancasterelkslodge1625.org/event/lodge-meeting-initiation/
LOCATION:Elks Lodge #1625\, 240 E Ave k\, Lancaster\, CA\, 93535\, United States
CATEGORIES:Closed Meeting,Social
ATTACH;FMTTYPE=image/jpeg:https://lancasterelkslodge1625.org/wp-content/uploads/2026/03/650946025_1223580746608018_8035688406577368261_n.jpg
END:VEVENT
BEGIN:VEVENT
DTSTART;TZID=America/Los_Angeles:20260501T180000
DTEND;TZID=America/Los_Angeles:20260501T190000
DTSTAMP:20260423T024026
CREATED:20260417T152136Z
LAST-MODIFIED:20260417T152136Z
UID:4113-1777658400-1777662000@lancasterelkslodge1625.org
SUMMARY:Investigation
DESCRIPTION:
URL:https://lancasterelkslodge1625.org/event/investigation-15/
LOCATION:Elks Lodge #1625\, 240 E Ave k\, Lancaster\, CA\, 93535\, United States
CATEGORIES:Closed Meeting
END:VEVENT
END:VCALENDAR