BEGIN:VCALENDAR
VERSION:2.0
PRODID:-//Lancaster Elks Lodge #1625 - ECPv6.15.20//NONSGML v1.0//EN
CALSCALE:GREGORIAN
METHOD:PUBLISH
X-WR-CALNAME:Lancaster Elks Lodge #1625
X-ORIGINAL-URL:https://lancasterelkslodge1625.org
X-WR-CALDESC:Events for Lancaster Elks Lodge #1625
REFRESH-INTERVAL;VALUE=DURATION:PT1H
X-Robots-Tag:noindex
X-PUBLISHED-TTL:PT1H
BEGIN:VTIMEZONE
TZID:America/Los_Angeles
BEGIN:DAYLIGHT
TZOFFSETFROM:-0800
TZOFFSETTO:-0700
TZNAME:PDT
DTSTART:20240310T100000
END:DAYLIGHT
BEGIN:STANDARD
TZOFFSETFROM:-0700
TZOFFSETTO:-0800
TZNAME:PST
DTSTART:20241103T090000
END:STANDARD
BEGIN:DAYLIGHT
TZOFFSETFROM:-0800
TZOFFSETTO:-0700
TZNAME:PDT
DTSTART:20250309T100000
END:DAYLIGHT
BEGIN:STANDARD
TZOFFSETFROM:-0700
TZOFFSETTO:-0800
TZNAME:PST
DTSTART:20251102T090000
END:STANDARD
BEGIN:DAYLIGHT
TZOFFSETFROM:-0800
TZOFFSETTO:-0700
TZNAME:PDT
DTSTART:20260308T100000
END:DAYLIGHT
BEGIN:STANDARD
TZOFFSETFROM:-0700
TZOFFSETTO:-0800
TZNAME:PST
DTSTART:20261101T090000
END:STANDARD
END:VTIMEZONE
BEGIN:VEVENT
DTSTART;TZID=America/Los_Angeles:20250402T080000
DTEND;TZID=America/Los_Angeles:20250402T170000
DTSTAMP:20260423T045953
CREATED:20250327T033913Z
LAST-MODIFIED:20250327T033913Z
UID:1138-1743580800-1743613200@lancasterelkslodge1625.org
SUMMARY:Desert Sunrise Mtg
DESCRIPTION:
URL:https://lancasterelkslodge1625.org/event/desert-sunrise-mtg/
LOCATION:Elks Lodge #1625\, 240 E Ave k\, Lancaster\, CA\, 93535\, United States
CATEGORIES:Committee,Open Meeting
END:VEVENT
BEGIN:VEVENT
DTSTART;TZID=America/Los_Angeles:20250407T113000
DTEND;TZID=America/Los_Angeles:20250407T123000
DTSTAMP:20260423T045953
CREATED:20250327T040733Z
LAST-MODIFIED:20250327T040733Z
UID:1168-1744025400-1744029000@lancasterelkslodge1625.org
SUMMARY:Veterans Committee Mtg
DESCRIPTION:The printed calendar erroneously states that this meeting will be held at 11 p.m. – please note that it is being investigated.
URL:https://lancasterelkslodge1625.org/event/veterans-committee-mtg/
LOCATION:Elks Lodge #1625\, 240 E Ave k\, Lancaster\, CA\, 93535\, United States
CATEGORIES:Committee
END:VEVENT
BEGIN:VEVENT
DTSTART;TZID=America/Los_Angeles:20250409T183000
DTEND;TZID=America/Los_Angeles:20250409T193000
DTSTAMP:20260423T045953
CREATED:20250327T041943Z
LAST-MODIFIED:20250327T041943Z
UID:1198-1744223400-1744227000@lancasterelkslodge1625.org
SUMMARY:Calendar Mtg
DESCRIPTION:
URL:https://lancasterelkslodge1625.org/event/calendar-mtg/
LOCATION:Elks Lodge #1625\, 240 E Ave k\, Lancaster\, CA\, 93535\, United States
CATEGORIES:Committee
END:VEVENT
BEGIN:VEVENT
DTSTART;TZID=America/Los_Angeles:20250414T180000
DTEND;TZID=America/Los_Angeles:20250414T190000
DTSTAMP:20260423T045953
CREATED:20250327T051541Z
LAST-MODIFIED:20250327T051541Z
UID:1225-1744653600-1744657200@lancasterelkslodge1625.org
SUMMARY:Rage of the Sage Mtg
DESCRIPTION:
URL:https://lancasterelkslodge1625.org/event/rage-of-the-sage-mtg/
LOCATION:Elks Lodge #1625\, 240 E Ave k\, Lancaster\, CA\, 93535\, United States
CATEGORIES:Committee,Social
END:VEVENT
END:VCALENDAR