BEGIN:VCALENDAR
VERSION:2.0
PRODID:-//Lancaster Elks Lodge #1625 - ECPv6.15.20//NONSGML v1.0//EN
CALSCALE:GREGORIAN
METHOD:PUBLISH
X-WR-CALNAME:Lancaster Elks Lodge #1625
X-ORIGINAL-URL:https://lancasterelkslodge1625.org
X-WR-CALDESC:Events for Lancaster Elks Lodge #1625
REFRESH-INTERVAL;VALUE=DURATION:PT1H
X-Robots-Tag:noindex
X-PUBLISHED-TTL:PT1H
BEGIN:VTIMEZONE
TZID:America/Los_Angeles
BEGIN:DAYLIGHT
TZOFFSETFROM:-0800
TZOFFSETTO:-0700
TZNAME:PDT
DTSTART:20240310T100000
END:DAYLIGHT
BEGIN:STANDARD
TZOFFSETFROM:-0700
TZOFFSETTO:-0800
TZNAME:PST
DTSTART:20241103T090000
END:STANDARD
BEGIN:DAYLIGHT
TZOFFSETFROM:-0800
TZOFFSETTO:-0700
TZNAME:PDT
DTSTART:20250309T100000
END:DAYLIGHT
BEGIN:STANDARD
TZOFFSETFROM:-0700
TZOFFSETTO:-0800
TZNAME:PST
DTSTART:20251102T090000
END:STANDARD
BEGIN:DAYLIGHT
TZOFFSETFROM:-0800
TZOFFSETTO:-0700
TZNAME:PDT
DTSTART:20260308T100000
END:DAYLIGHT
BEGIN:STANDARD
TZOFFSETFROM:-0700
TZOFFSETTO:-0800
TZNAME:PST
DTSTART:20261101T090000
END:STANDARD
END:VTIMEZONE
BEGIN:VEVENT
DTSTART;TZID=America/Los_Angeles:20250804T110000
DTEND;TZID=America/Los_Angeles:20250804T140000
DTSTAMP:20260422T224519
CREATED:20250726T145505Z
LAST-MODIFIED:20250726T145505Z
UID:2134-1754305200-1754316000@lancasterelkslodge1625.org
SUMMARY:Veterans Committee
DESCRIPTION:
URL:https://lancasterelkslodge1625.org/event/veterans-committee-4/
LOCATION:Elks Lodge #1625\, 240 E Ave k\, Lancaster\, CA\, 93535\, United States
CATEGORIES:Committee
END:VEVENT
BEGIN:VEVENT
DTSTART;TZID=America/Los_Angeles:20250806T180000
DTEND;TZID=America/Los_Angeles:20250806T190000
DTSTAMP:20260422T224519
CREATED:20250726T151037Z
LAST-MODIFIED:20250726T151037Z
UID:2159-1754503200-1754506800@lancasterelkslodge1625.org
SUMMARY:Calendar Meeting
DESCRIPTION:
URL:https://lancasterelkslodge1625.org/event/calendar-meeting-4/
LOCATION:Elks Lodge #1625\, 240 E Ave k\, Lancaster\, CA\, 93535\, United States
CATEGORIES:Committee
END:VEVENT
BEGIN:VEVENT
DTSTART;TZID=America/Los_Angeles:20250806T180000
DTEND;TZID=America/Los_Angeles:20250806T190000
DTSTAMP:20260422T224519
CREATED:20250726T151321Z
LAST-MODIFIED:20250726T151321Z
UID:2162-1754503200-1754506800@lancasterelkslodge1625.org
SUMMARY:PER Meeting
DESCRIPTION:
URL:https://lancasterelkslodge1625.org/event/per-meeting-6/
LOCATION:Elks Lodge #1625\, 240 E Ave k\, Lancaster\, CA\, 93535\, United States
CATEGORIES:Closed Meeting,Committee
END:VEVENT
BEGIN:VEVENT
DTSTART;TZID=America/Los_Angeles:20250806T183000
DTEND;TZID=America/Los_Angeles:20250806T193000
DTSTAMP:20260422T224519
CREATED:20250726T151417Z
LAST-MODIFIED:20250726T151417Z
UID:2165-1754505000-1754508600@lancasterelkslodge1625.org
SUMMARY:Desert Sunrise RV Meeting
DESCRIPTION:
URL:https://lancasterelkslodge1625.org/event/desert-sunrise-rv-meeting-4/
LOCATION:Elks Lodge #1625\, 240 E Ave k\, Lancaster\, CA\, 93535\, United States
CATEGORIES:Committee
END:VEVENT
BEGIN:VEVENT
DTSTART;TZID=America/Los_Angeles:20250811T180000
DTEND;TZID=America/Los_Angeles:20250811T190000
DTSTAMP:20260422T224519
CREATED:20250726T152720Z
LAST-MODIFIED:20250726T152720Z
UID:2192-1754935200-1754938800@lancasterelkslodge1625.org
SUMMARY:Rage of the Sage RV Meeting
DESCRIPTION:
URL:https://lancasterelkslodge1625.org/event/rage-of-the-sage-rv-meeting-4/
LOCATION:Elks Lodge #1625\, 240 E Ave k\, Lancaster\, CA\, 93535\, United States
CATEGORIES:Committee
END:VEVENT
END:VCALENDAR