BEGIN:VCALENDAR
VERSION:2.0
PRODID:-//Lancaster Elks Lodge #1625 - ECPv6.15.20//NONSGML v1.0//EN
CALSCALE:GREGORIAN
METHOD:PUBLISH
X-ORIGINAL-URL:https://lancasterelkslodge1625.org
X-WR-CALDESC:Events for Lancaster Elks Lodge #1625
REFRESH-INTERVAL;VALUE=DURATION:PT1H
X-Robots-Tag:noindex
X-PUBLISHED-TTL:PT1H
BEGIN:VTIMEZONE
TZID:America/Los_Angeles
BEGIN:DAYLIGHT
TZOFFSETFROM:-0800
TZOFFSETTO:-0700
TZNAME:PDT
DTSTART:20240310T100000
END:DAYLIGHT
BEGIN:STANDARD
TZOFFSETFROM:-0700
TZOFFSETTO:-0800
TZNAME:PST
DTSTART:20241103T090000
END:STANDARD
BEGIN:DAYLIGHT
TZOFFSETFROM:-0800
TZOFFSETTO:-0700
TZNAME:PDT
DTSTART:20250309T100000
END:DAYLIGHT
BEGIN:STANDARD
TZOFFSETFROM:-0700
TZOFFSETTO:-0800
TZNAME:PST
DTSTART:20251102T090000
END:STANDARD
BEGIN:DAYLIGHT
TZOFFSETFROM:-0800
TZOFFSETTO:-0700
TZNAME:PDT
DTSTART:20260308T100000
END:DAYLIGHT
BEGIN:STANDARD
TZOFFSETFROM:-0700
TZOFFSETTO:-0800
TZNAME:PST
DTSTART:20261101T090000
END:STANDARD
END:VTIMEZONE
BEGIN:VEVENT
DTSTART;TZID=America/Los_Angeles:20250726T170000
DTEND;TZID=America/Los_Angeles:20250726T183000
DTSTAMP:20260423T035510
CREATED:20250627T010954Z
LAST-MODIFIED:20250627T010954Z
UID:2086-1753549200-1753554600@lancasterelkslodge1625.org
SUMMARY:Fish Fry
DESCRIPTION:
URL:https://lancasterelkslodge1625.org/event/fish-fry-5/
LOCATION:Elks Lodge #1625\, 240 E Ave k\, Lancaster\, CA\, 93535\, United States
CATEGORIES:Dining,Social
END:VEVENT
BEGIN:VEVENT
DTSTART;TZID=America/Los_Angeles:20250727T090000
DTEND;TZID=America/Los_Angeles:20250727T120000
DTSTAMP:20260423T035510
CREATED:20250627T011059Z
LAST-MODIFIED:20250627T011059Z
UID:2089-1753606800-1753617600@lancasterelkslodge1625.org
SUMMARY:Breakfast
DESCRIPTION:
URL:https://lancasterelkslodge1625.org/event/breakfast-5/
LOCATION:Elks Lodge #1625\, 240 E Ave k\, Lancaster\, CA\, 93535\, United States
CATEGORIES:Dining,Social
ATTACH;FMTTYPE=image/jpeg:https://lancasterelkslodge1625.org/wp-content/uploads/2025/02/471604501_903223825310380_8747720846203576067_n.jpg
END:VEVENT
BEGIN:VEVENT
DTSTART;TZID=America/Los_Angeles:20250728T110000
DTEND;TZID=America/Los_Angeles:20250728T140000
DTSTAMP:20260423T035510
CREATED:20250627T011234Z
LAST-MODIFIED:20250627T011234Z
UID:2092-1753700400-1753711200@lancasterelkslodge1625.org
SUMMARY:Burgers and Dogs
DESCRIPTION:
URL:https://lancasterelkslodge1625.org/event/burgers-and-dogs-21/
LOCATION:Elks Lodge #1625\, 240 E Ave k\, Lancaster\, CA\, 93535\, United States
CATEGORIES:Dining,Social
ATTACH;FMTTYPE=image/png:https://lancasterelkslodge1625.org/wp-content/uploads/2025/02/image.png
END:VEVENT
BEGIN:VEVENT
DTSTART;TZID=America/Los_Angeles:20250728T160000
DTEND;TZID=America/Los_Angeles:20250728T190000
DTSTAMP:20260423T035510
CREATED:20250627T011637Z
LAST-MODIFIED:20250627T011637Z
UID:2101-1753718400-1753729200@lancasterelkslodge1625.org
SUMMARY:Dogs at the Bar
DESCRIPTION:
URL:https://lancasterelkslodge1625.org/event/dogs-at-the-bar-60/
LOCATION:Elks Lodge #1625\, 240 E Ave k\, Lancaster\, CA\, 93535\, United States
CATEGORIES:Dining,Social
ATTACH;FMTTYPE=image/webp:https://lancasterelkslodge1625.org/wp-content/uploads/2025/02/hotdogs.webp
END:VEVENT
BEGIN:VEVENT
DTSTART;TZID=America/Los_Angeles:20250729T170000
DTEND;TZID=America/Los_Angeles:20250729T183000
DTSTAMP:20260423T035510
CREATED:20250627T011749Z
LAST-MODIFIED:20250627T011749Z
UID:2104-1753808400-1753813800@lancasterelkslodge1625.org
SUMMARY:Dinner
DESCRIPTION:
URL:https://lancasterelkslodge1625.org/event/dinner-8/
LOCATION:Elks Lodge #1625\, 240 E Ave k\, Lancaster\, CA\, 93535\, United States
CATEGORIES:Dining,Social
END:VEVENT
BEGIN:VEVENT
DTSTART;TZID=America/Los_Angeles:20250730T160000
DTEND;TZID=America/Los_Angeles:20250730T190000
DTSTAMP:20260423T035510
CREATED:20250627T011927Z
LAST-MODIFIED:20250627T011927Z
UID:2110-1753891200-1753902000@lancasterelkslodge1625.org
SUMMARY:Dogs at the Bar
DESCRIPTION:
URL:https://lancasterelkslodge1625.org/event/dogs-at-the-bar-61/
LOCATION:Elks Lodge #1625\, 240 E Ave k\, Lancaster\, CA\, 93535\, United States
CATEGORIES:Dining,Social
ATTACH;FMTTYPE=image/webp:https://lancasterelkslodge1625.org/wp-content/uploads/2025/02/hotdogs.webp
END:VEVENT
BEGIN:VEVENT
DTSTART;TZID=America/Los_Angeles:20250801T160000
DTEND;TZID=America/Los_Angeles:20250801T190000
DTSTAMP:20260423T035510
CREATED:20250726T145157Z
LAST-MODIFIED:20250726T145157Z
UID:2125-1754064000-1754074800@lancasterelkslodge1625.org
SUMMARY:Dogs at the Bar
DESCRIPTION:
URL:https://lancasterelkslodge1625.org/event/dogs-at-the-bar-62/
LOCATION:Elks Lodge #1625\, 240 E Ave k\, Lancaster\, CA\, 93535\, United States
CATEGORIES:Dining,Social
ATTACH;FMTTYPE=image/webp:https://lancasterelkslodge1625.org/wp-content/uploads/2025/02/hotdogs.webp
END:VEVENT
BEGIN:VEVENT
DTSTART;TZID=America/Los_Angeles:20250803T090000
DTEND;TZID=America/Los_Angeles:20250803T120000
DTSTAMP:20260423T035510
CREATED:20250726T145259Z
LAST-MODIFIED:20250726T145259Z
UID:2128-1754211600-1754222400@lancasterelkslodge1625.org
SUMMARY:Breakfast
DESCRIPTION:
URL:https://lancasterelkslodge1625.org/event/breakfast-6/
LOCATION:Elks Lodge #1625\, 240 E Ave k\, Lancaster\, CA\, 93535\, United States
CATEGORIES:Dining,Social
ATTACH;FMTTYPE=image/jpeg:https://lancasterelkslodge1625.org/wp-content/uploads/2025/02/471604501_903223825310380_8747720846203576067_n.jpg
END:VEVENT
BEGIN:VEVENT
DTSTART;TZID=America/Los_Angeles:20250804T110000
DTEND;TZID=America/Los_Angeles:20250804T140000
DTSTAMP:20260423T035510
CREATED:20250726T145408Z
LAST-MODIFIED:20250726T145408Z
UID:2131-1754305200-1754316000@lancasterelkslodge1625.org
SUMMARY:Burgers and Dogs
DESCRIPTION:
URL:https://lancasterelkslodge1625.org/event/burgers-and-dogs-22/
LOCATION:Elks Lodge #1625\, 240 E Ave k\, Lancaster\, CA\, 93535\, United States
CATEGORIES:Dining,Social
ATTACH;FMTTYPE=image/png:https://lancasterelkslodge1625.org/wp-content/uploads/2025/02/image.png
END:VEVENT
BEGIN:VEVENT
DTSTART;TZID=America/Los_Angeles:20250804T160000
DTEND;TZID=America/Los_Angeles:20250804T190000
DTSTAMP:20260423T035510
CREATED:20250726T145933Z
LAST-MODIFIED:20250726T145933Z
UID:2147-1754323200-1754334000@lancasterelkslodge1625.org
SUMMARY:Dogs at the Bar
DESCRIPTION:
URL:https://lancasterelkslodge1625.org/event/dogs-at-the-bar-63/
LOCATION:Elks Lodge #1625\, 240 E Ave k\, Lancaster\, CA\, 93535\, United States
CATEGORIES:Dining,Social
ATTACH;FMTTYPE=image/webp:https://lancasterelkslodge1625.org/wp-content/uploads/2025/02/hotdogs.webp
END:VEVENT
BEGIN:VEVENT
DTSTART;TZID=America/Los_Angeles:20250805T170000
DTEND;TZID=America/Los_Angeles:20250805T183000
DTSTAMP:20260423T035510
CREATED:20250726T150036Z
LAST-MODIFIED:20250726T150036Z
UID:2150-1754413200-1754418600@lancasterelkslodge1625.org
SUMMARY:Dinner
DESCRIPTION:
URL:https://lancasterelkslodge1625.org/event/dinner-9/
LOCATION:Elks Lodge #1625\, 240 E Ave k\, Lancaster\, CA\, 93535\, United States
CATEGORIES:Dining,Social
END:VEVENT
BEGIN:VEVENT
DTSTART;TZID=America/Los_Angeles:20250806T160000
DTEND;TZID=America/Los_Angeles:20250806T190000
DTSTAMP:20260423T035510
CREATED:20250726T150929Z
LAST-MODIFIED:20250726T150929Z
UID:2156-1754496000-1754506800@lancasterelkslodge1625.org
SUMMARY:Dogs at the Bar
DESCRIPTION:
URL:https://lancasterelkslodge1625.org/event/dogs-at-the-bar-64/
LOCATION:Elks Lodge #1625\, 240 E Ave k\, Lancaster\, CA\, 93535\, United States
CATEGORIES:Dining,Social
ATTACH;FMTTYPE=image/webp:https://lancasterelkslodge1625.org/wp-content/uploads/2025/02/hotdogs.webp
END:VEVENT
BEGIN:VEVENT
DTSTART;TZID=America/Los_Angeles:20250808T160000
DTEND;TZID=America/Los_Angeles:20250808T190000
DTSTAMP:20260423T035510
CREATED:20250726T151755Z
LAST-MODIFIED:20250726T151755Z
UID:2171-1754668800-1754679600@lancasterelkslodge1625.org
SUMMARY:Dogs at the Bar
DESCRIPTION:
URL:https://lancasterelkslodge1625.org/event/dogs-at-the-bar-65/
LOCATION:Elks Lodge #1625\, 240 E Ave k\, Lancaster\, CA\, 93535\, United States
CATEGORIES:Dining,Social
ATTACH;FMTTYPE=image/webp:https://lancasterelkslodge1625.org/wp-content/uploads/2025/02/hotdogs.webp
END:VEVENT
BEGIN:VEVENT
DTSTART;TZID=America/Los_Angeles:20250809T123000
DTEND;TZID=America/Los_Angeles:20250809T140000
DTSTAMP:20260423T035510
CREATED:20250726T152126Z
LAST-MODIFIED:20250726T152126Z
UID:2180-1754742600-1754748000@lancasterelkslodge1625.org
SUMMARY:Luncheon
DESCRIPTION:
URL:https://lancasterelkslodge1625.org/event/luncheon/
LOCATION:Elks Lodge #1625\, 240 E Ave k\, Lancaster\, CA\, 93535\, United States
CATEGORIES:Dining,Social
END:VEVENT
BEGIN:VEVENT
DTSTART;TZID=America/Los_Angeles:20250809T170000
DTEND;TZID=America/Los_Angeles:20250809T183000
DTSTAMP:20260423T035510
CREATED:20250726T152320Z
LAST-MODIFIED:20250726T152320Z
UID:2183-1754758800-1754764200@lancasterelkslodge1625.org
SUMMARY:Hesperia Lodge Malibu Chicken Dinner
DESCRIPTION:
URL:https://lancasterelkslodge1625.org/event/hesperia-lodge-malibu-chicken-dinner/
LOCATION:Elks Lodge #1625\, 240 E Ave k\, Lancaster\, CA\, 93535\, United States
CATEGORIES:Dining,Social
END:VEVENT
BEGIN:VEVENT
DTSTART;TZID=America/Los_Angeles:20250810T090000
DTEND;TZID=America/Los_Angeles:20250810T120000
DTSTAMP:20260423T035510
CREATED:20250726T152431Z
LAST-MODIFIED:20250726T152431Z
UID:2186-1754816400-1754827200@lancasterelkslodge1625.org
SUMMARY:Breakfast
DESCRIPTION:
URL:https://lancasterelkslodge1625.org/event/breakfast-7/
LOCATION:Elks Lodge #1625\, 240 E Ave k\, Lancaster\, CA\, 93535\, United States
CATEGORIES:Dining,Social
ATTACH;FMTTYPE=image/jpeg:https://lancasterelkslodge1625.org/wp-content/uploads/2025/02/471604501_903223825310380_8747720846203576067_n.jpg
END:VEVENT
BEGIN:VEVENT
DTSTART;TZID=America/Los_Angeles:20250811T110000
DTEND;TZID=America/Los_Angeles:20250811T140000
DTSTAMP:20260423T035510
CREATED:20250726T152612Z
LAST-MODIFIED:20250726T152612Z
UID:2189-1754910000-1754920800@lancasterelkslodge1625.org
SUMMARY:Burgers and Dogs
DESCRIPTION:
URL:https://lancasterelkslodge1625.org/event/burgers-and-dogs-23/
LOCATION:Elks Lodge #1625\, 240 E Ave k\, Lancaster\, CA\, 93535\, United States
CATEGORIES:Dining,Social
ATTACH;FMTTYPE=image/png:https://lancasterelkslodge1625.org/wp-content/uploads/2025/02/image.png
END:VEVENT
BEGIN:VEVENT
DTSTART;TZID=America/Los_Angeles:20250811T160000
DTEND;TZID=America/Los_Angeles:20250811T190000
DTSTAMP:20260423T035510
CREATED:20250726T153615Z
LAST-MODIFIED:20250726T153615Z
UID:2201-1754928000-1754938800@lancasterelkslodge1625.org
SUMMARY:Dogs at the Bar
DESCRIPTION:
URL:https://lancasterelkslodge1625.org/event/dogs-at-the-bar-66/
LOCATION:Elks Lodge #1625\, 240 E Ave k\, Lancaster\, CA\, 93535\, United States
CATEGORIES:Dining,Social
ATTACH;FMTTYPE=image/webp:https://lancasterelkslodge1625.org/wp-content/uploads/2025/02/hotdogs.webp
END:VEVENT
BEGIN:VEVENT
DTSTART;TZID=America/Los_Angeles:20250812T170000
DTEND;TZID=America/Los_Angeles:20250812T183000
DTSTAMP:20260423T035510
CREATED:20250726T153724Z
LAST-MODIFIED:20250726T153724Z
UID:2204-1755018000-1755023400@lancasterelkslodge1625.org
SUMMARY:Salad Dinner
DESCRIPTION:
URL:https://lancasterelkslodge1625.org/event/salad-dinner/
LOCATION:Elks Lodge #1625\, 240 E Ave k\, Lancaster\, CA\, 93535\, United States
CATEGORIES:Dining,Social
END:VEVENT
BEGIN:VEVENT
DTSTART;TZID=America/Los_Angeles:20250813T160000
DTEND;TZID=America/Los_Angeles:20250813T190000
DTSTAMP:20260423T035510
CREATED:20250726T154313Z
LAST-MODIFIED:20250726T154313Z
UID:2210-1755100800-1755111600@lancasterelkslodge1625.org
SUMMARY:Dogs at the Bar
DESCRIPTION:
URL:https://lancasterelkslodge1625.org/event/dogs-at-the-bar-67/
LOCATION:Elks Lodge #1625\, 240 E Ave k\, Lancaster\, CA\, 93535\, United States
CATEGORIES:Dining,Social
ATTACH;FMTTYPE=image/webp:https://lancasterelkslodge1625.org/wp-content/uploads/2025/02/hotdogs.webp
END:VEVENT
BEGIN:VEVENT
DTSTART;TZID=America/Los_Angeles:20250815T160000
DTEND;TZID=America/Los_Angeles:20250815T190000
DTSTAMP:20260423T035510
CREATED:20250726T154642Z
LAST-MODIFIED:20250726T154642Z
UID:2219-1755273600-1755284400@lancasterelkslodge1625.org
SUMMARY:Dogs at the Bar
DESCRIPTION:
URL:https://lancasterelkslodge1625.org/event/dogs-at-the-bar-68/
LOCATION:Elks Lodge #1625\, 240 E Ave k\, Lancaster\, CA\, 93535\, United States
CATEGORIES:Dining,Social
ATTACH;FMTTYPE=image/webp:https://lancasterelkslodge1625.org/wp-content/uploads/2025/02/hotdogs.webp
END:VEVENT
BEGIN:VEVENT
DTSTART;TZID=America/Los_Angeles:20250816T170000
DTEND;TZID=America/Los_Angeles:20250816T183000
DTSTAMP:20260423T035510
CREATED:20250726T154748Z
LAST-MODIFIED:20250726T154748Z
UID:2222-1755363600-1755369000@lancasterelkslodge1625.org
SUMMARY:Lasagna Dinner
DESCRIPTION:
URL:https://lancasterelkslodge1625.org/event/lasagna-dinner/
LOCATION:Elks Lodge #1625\, 240 E Ave k\, Lancaster\, CA\, 93535\, United States
CATEGORIES:Dining,Social
END:VEVENT
BEGIN:VEVENT
DTSTART;TZID=America/Los_Angeles:20250817T090000
DTEND;TZID=America/Los_Angeles:20250817T120000
DTSTAMP:20260423T035510
CREATED:20250726T154913Z
LAST-MODIFIED:20250726T154913Z
UID:2228-1755421200-1755432000@lancasterelkslodge1625.org
SUMMARY:Breakfast
DESCRIPTION:
URL:https://lancasterelkslodge1625.org/event/breakfast-8/
LOCATION:Elks Lodge #1625\, 240 E Ave k\, Lancaster\, CA\, 93535\, United States
CATEGORIES:Dining,Social
END:VEVENT
BEGIN:VEVENT
DTSTART;TZID=America/Los_Angeles:20250818T110000
DTEND;TZID=America/Los_Angeles:20250818T140000
DTSTAMP:20260423T035510
CREATED:20250726T155037Z
LAST-MODIFIED:20250726T155037Z
UID:2231-1755514800-1755525600@lancasterelkslodge1625.org
SUMMARY:Burgers and Dogs
DESCRIPTION:
URL:https://lancasterelkslodge1625.org/event/burgers-and-dogs-24/
LOCATION:Elks Lodge #1625\, 240 E Ave k\, Lancaster\, CA\, 93535\, United States
CATEGORIES:Dining,Social
ATTACH;FMTTYPE=image/png:https://lancasterelkslodge1625.org/wp-content/uploads/2025/02/image.png
END:VEVENT
BEGIN:VEVENT
DTSTART;TZID=America/Los_Angeles:20250818T160000
DTEND;TZID=America/Los_Angeles:20250818T190000
DTSTAMP:20260423T035510
CREATED:20250726T155405Z
LAST-MODIFIED:20250726T155405Z
UID:2240-1755532800-1755543600@lancasterelkslodge1625.org
SUMMARY:Dogs at the Bar
DESCRIPTION:
URL:https://lancasterelkslodge1625.org/event/dogs-at-the-bar-69/
LOCATION:Elks Lodge #1625\, 240 E Ave k\, Lancaster\, CA\, 93535\, United States
CATEGORIES:Dining,Social
ATTACH;FMTTYPE=image/webp:https://lancasterelkslodge1625.org/wp-content/uploads/2025/02/hotdogs.webp
END:VEVENT
BEGIN:VEVENT
DTSTART;TZID=America/Los_Angeles:20250819T170000
DTEND;TZID=America/Los_Angeles:20250819T183000
DTSTAMP:20260423T035510
CREATED:20250726T155450Z
LAST-MODIFIED:20250726T155450Z
UID:2243-1755622800-1755628200@lancasterelkslodge1625.org
SUMMARY:Dinner
DESCRIPTION:
URL:https://lancasterelkslodge1625.org/event/dinner-10/
LOCATION:Elks Lodge #1625\, 240 E Ave k\, Lancaster\, CA\, 93535\, United States
CATEGORIES:Dining,Social
END:VEVENT
BEGIN:VEVENT
DTSTART;TZID=America/Los_Angeles:20250820T160000
DTEND;TZID=America/Los_Angeles:20250820T190000
DTSTAMP:20260423T035510
CREATED:20250726T161719Z
LAST-MODIFIED:20250726T161719Z
UID:2249-1755705600-1755716400@lancasterelkslodge1625.org
SUMMARY:Dogs at the Bar
DESCRIPTION:
URL:https://lancasterelkslodge1625.org/event/dogs-at-the-bar-70/
LOCATION:Elks Lodge #1625\, 240 E Ave k\, Lancaster\, CA\, 93535\, United States
CATEGORIES:Dining,Social
ATTACH;FMTTYPE=image/webp:https://lancasterelkslodge1625.org/wp-content/uploads/2025/02/hotdogs.webp
END:VEVENT
BEGIN:VEVENT
DTSTART;TZID=America/Los_Angeles:20250822T160000
DTEND;TZID=America/Los_Angeles:20250822T190000
DTSTAMP:20260423T035510
CREATED:20250726T161941Z
LAST-MODIFIED:20250726T161941Z
UID:2258-1755878400-1755889200@lancasterelkslodge1625.org
SUMMARY:Dogs at the Bar
DESCRIPTION:
URL:https://lancasterelkslodge1625.org/event/dogs-at-the-bar-71/
LOCATION:Elks Lodge #1625\, 240 E Ave k\, Lancaster\, CA\, 93535\, United States
CATEGORIES:Dining,Social
ATTACH;FMTTYPE=image/webp:https://lancasterelkslodge1625.org/wp-content/uploads/2025/02/hotdogs.webp
END:VEVENT
BEGIN:VEVENT
DTSTART;TZID=America/Los_Angeles:20250824T090000
DTEND;TZID=America/Los_Angeles:20250824T120000
DTSTAMP:20260423T035510
CREATED:20250726T162124Z
LAST-MODIFIED:20250726T162124Z
UID:2264-1756026000-1756036800@lancasterelkslodge1625.org
SUMMARY:Breakfast
DESCRIPTION:
URL:https://lancasterelkslodge1625.org/event/breakfast-9/
LOCATION:Elks Lodge #1625\, 240 E Ave k\, Lancaster\, CA\, 93535\, United States
CATEGORIES:Dining,Social
ATTACH;FMTTYPE=image/jpeg:https://lancasterelkslodge1625.org/wp-content/uploads/2025/02/471604501_903223825310380_8747720846203576067_n.jpg
END:VEVENT
BEGIN:VEVENT
DTSTART;TZID=America/Los_Angeles:20250825T110000
DTEND;TZID=America/Los_Angeles:20250825T140000
DTSTAMP:20260423T035510
CREATED:20250726T162224Z
LAST-MODIFIED:20250726T162224Z
UID:2267-1756119600-1756130400@lancasterelkslodge1625.org
SUMMARY:Burgers and Dogs
DESCRIPTION:
URL:https://lancasterelkslodge1625.org/event/burgers-and-dogs-25/
LOCATION:Elks Lodge #1625\, 240 E Ave k\, Lancaster\, CA\, 93535\, United States
CATEGORIES:Dining,Social
ATTACH;FMTTYPE=image/png:https://lancasterelkslodge1625.org/wp-content/uploads/2025/02/image.png
END:VEVENT
END:VCALENDAR