BEGIN:VCALENDAR
VERSION:2.0
PRODID:-//Lancaster Elks Lodge #1625 - ECPv6.15.20//NONSGML v1.0//EN
CALSCALE:GREGORIAN
METHOD:PUBLISH
X-WR-CALNAME:Lancaster Elks Lodge #1625
X-ORIGINAL-URL:https://lancasterelkslodge1625.org
X-WR-CALDESC:Events for Lancaster Elks Lodge #1625
REFRESH-INTERVAL;VALUE=DURATION:PT1H
X-Robots-Tag:noindex
X-PUBLISHED-TTL:PT1H
BEGIN:VTIMEZONE
TZID:America/Los_Angeles
BEGIN:DAYLIGHT
TZOFFSETFROM:-0800
TZOFFSETTO:-0700
TZNAME:PDT
DTSTART:20240310T100000
END:DAYLIGHT
BEGIN:STANDARD
TZOFFSETFROM:-0700
TZOFFSETTO:-0800
TZNAME:PST
DTSTART:20241103T090000
END:STANDARD
BEGIN:DAYLIGHT
TZOFFSETFROM:-0800
TZOFFSETTO:-0700
TZNAME:PDT
DTSTART:20250309T100000
END:DAYLIGHT
BEGIN:STANDARD
TZOFFSETFROM:-0700
TZOFFSETTO:-0800
TZNAME:PST
DTSTART:20251102T090000
END:STANDARD
BEGIN:DAYLIGHT
TZOFFSETFROM:-0800
TZOFFSETTO:-0700
TZNAME:PDT
DTSTART:20260308T100000
END:DAYLIGHT
BEGIN:STANDARD
TZOFFSETFROM:-0700
TZOFFSETTO:-0800
TZNAME:PST
DTSTART:20261101T090000
END:STANDARD
END:VTIMEZONE
BEGIN:VEVENT
DTSTART;TZID=America/Los_Angeles:20250825T183000
DTEND;TZID=America/Los_Angeles:20250825T210000
DTSTAMP:20260422T200254
CREATED:20250726T162838Z
LAST-MODIFIED:20250726T162838Z
UID:2273-1756146600-1756155600@lancasterelkslodge1625.org
SUMMARY:Line Dancing
DESCRIPTION:
URL:https://lancasterelkslodge1625.org/event/line-dancing-30/
LOCATION:Elks Lodge #1625\, 240 E Ave k\, Lancaster\, CA\, 93535\, United States
CATEGORIES:Exercise,Social
ATTACH;FMTTYPE=image/png:https://lancasterelkslodge1625.org/wp-content/uploads/2025/02/image-1.png
END:VEVENT
BEGIN:VEVENT
DTSTART;TZID=America/Los_Angeles:20250818T183000
DTEND;TZID=America/Los_Angeles:20250818T210000
DTSTAMP:20260422T200254
CREATED:20250726T155303Z
LAST-MODIFIED:20250726T155303Z
UID:2237-1755541800-1755550800@lancasterelkslodge1625.org
SUMMARY:Line Dancing
DESCRIPTION:
URL:https://lancasterelkslodge1625.org/event/line-dancing-29/
LOCATION:Elks Lodge #1625\, 240 E Ave k\, Lancaster\, CA\, 93535\, United States
CATEGORIES:Exercise,Social
ATTACH;FMTTYPE=image/png:https://lancasterelkslodge1625.org/wp-content/uploads/2025/02/image-1.png
END:VEVENT
BEGIN:VEVENT
DTSTART;TZID=America/Los_Angeles:20250816T180000
DTEND;TZID=America/Los_Angeles:20250816T210000
DTSTAMP:20260422T200254
CREATED:20250726T154829Z
LAST-MODIFIED:20250726T154829Z
UID:2225-1755367200-1755378000@lancasterelkslodge1625.org
SUMMARY:Live Music
DESCRIPTION:
URL:https://lancasterelkslodge1625.org/event/live-music/
LOCATION:Elks Lodge #1625\, 240 E Ave k\, Lancaster\, CA\, 93535\, United States
CATEGORIES:Exercise,Social
END:VEVENT
BEGIN:VEVENT
DTSTART;TZID=America/Los_Angeles:20250808T180000
DTEND;TZID=America/Los_Angeles:20250808T210000
DTSTAMP:20260422T200254
CREATED:20250726T151921Z
LAST-MODIFIED:20250726T151921Z
UID:2174-1754676000-1754686800@lancasterelkslodge1625.org
SUMMARY:Friday Night Dance
DESCRIPTION:
URL:https://lancasterelkslodge1625.org/event/friday-night-dance-4/
LOCATION:Elks Lodge #1625\, 240 E Ave k\, Lancaster\, CA\, 93535\, United States
CATEGORIES:Exercise,Social
END:VEVENT
BEGIN:VEVENT
DTSTART;TZID=America/Los_Angeles:20250804T183000
DTEND;TZID=America/Los_Angeles:20250804T210000
DTSTAMP:20260422T200254
CREATED:20250726T145748Z
LAST-MODIFIED:20250726T145748Z
UID:2141-1754332200-1754341200@lancasterelkslodge1625.org
SUMMARY:Line Dancing
DESCRIPTION:
URL:https://lancasterelkslodge1625.org/event/line-dancing-27/
LOCATION:Elks Lodge #1625\, 240 E Ave k\, Lancaster\, CA\, 93535\, United States
CATEGORIES:Exercise,Open Meeting,Social
ATTACH;FMTTYPE=image/png:https://lancasterelkslodge1625.org/wp-content/uploads/2025/02/image-1.png
END:VEVENT
BEGIN:VEVENT
DTSTART;TZID=America/Los_Angeles:20250728T183000
DTEND;TZID=America/Los_Angeles:20250728T210000
DTSTAMP:20260422T200254
CREATED:20250627T011508Z
LAST-MODIFIED:20250627T011508Z
UID:2098-1753727400-1753736400@lancasterelkslodge1625.org
SUMMARY:Line Dancing
DESCRIPTION:
URL:https://lancasterelkslodge1625.org/event/line-dancing-26/
LOCATION:Elks Lodge #1625\, 240 E Ave k\, Lancaster\, CA\, 93535\, United States
CATEGORIES:Exercise,Social
ATTACH;FMTTYPE=image/png:https://lancasterelkslodge1625.org/wp-content/uploads/2025/02/image-1.png
END:VEVENT
BEGIN:VEVENT
DTSTART;TZID=America/Los_Angeles:20250721T183000
DTEND;TZID=America/Los_Angeles:20250721T210000
DTSTAMP:20260422T200254
CREATED:20250627T004559Z
LAST-MODIFIED:20250627T004559Z
UID:2065-1753122600-1753131600@lancasterelkslodge1625.org
SUMMARY:Line Dancing
DESCRIPTION:
URL:https://lancasterelkslodge1625.org/event/line-dancing-25/
LOCATION:Elks Lodge #1625\, 240 E Ave k\, Lancaster\, CA\, 93535\, United States
CATEGORIES:Exercise,Social
ATTACH;FMTTYPE=image/png:https://lancasterelkslodge1625.org/wp-content/uploads/2025/02/image-1.png
END:VEVENT
BEGIN:VEVENT
DTSTART;TZID=America/Los_Angeles:20250714T183000
DTEND;TZID=America/Los_Angeles:20250714T210000
DTSTAMP:20260422T200254
CREATED:20250627T002736Z
LAST-MODIFIED:20250627T002736Z
UID:2029-1752517800-1752526800@lancasterelkslodge1625.org
SUMMARY:Line Dancing
DESCRIPTION:
URL:https://lancasterelkslodge1625.org/event/line-dancing-24/
LOCATION:Elks Lodge #1625\, 240 E Ave k\, Lancaster\, CA\, 93535\, United States
CATEGORIES:Exercise,Social
ATTACH;FMTTYPE=image/png:https://lancasterelkslodge1625.org/wp-content/uploads/2025/02/image-1.png
END:VEVENT
BEGIN:VEVENT
DTSTART;TZID=America/Los_Angeles:20250712T090000
DTEND;TZID=America/Los_Angeles:20250712T120000
DTSTAMP:20260422T200254
CREATED:20250627T000623Z
LAST-MODIFIED:20250627T000623Z
UID:2014-1752310800-1752321600@lancasterelkslodge1625.org
SUMMARY:Lodge Cleanup
DESCRIPTION:
URL:https://lancasterelkslodge1625.org/event/lodge-cleanup/
LOCATION:Elks Lodge #1625\, 240 E Ave k\, Lancaster\, CA\, 93535\, United States
CATEGORIES:Exercise,Open Meeting,Social
END:VEVENT
BEGIN:VEVENT
DTSTART;TZID=America/Los_Angeles:20250711T180000
DTEND;TZID=America/Los_Angeles:20250711T210000
DTSTAMP:20260422T200254
CREATED:20250627T000101Z
LAST-MODIFIED:20250627T000101Z
UID:2008-1752256800-1752267600@lancasterelkslodge1625.org
SUMMARY:Friday Night Dance
DESCRIPTION:
URL:https://lancasterelkslodge1625.org/event/friday-night-dance-3/
LOCATION:Elks Lodge #1625\, 240 E Ave k\, Lancaster\, CA\, 93535\, United States
CATEGORIES:Exercise,Social
END:VEVENT
BEGIN:VEVENT
DTSTART;TZID=America/Los_Angeles:20250707T183000
DTEND;TZID=America/Los_Angeles:20250707T210000
DTSTAMP:20260422T200254
CREATED:20250626T221706Z
LAST-MODIFIED:20250626T221706Z
UID:1975-1751913000-1751922000@lancasterelkslodge1625.org
SUMMARY:Line Dancing
DESCRIPTION:
URL:https://lancasterelkslodge1625.org/event/line-dancing-23/
LOCATION:Elks Lodge #1625\, 240 E Ave k\, Lancaster\, CA\, 93535\, United States
CATEGORIES:Exercise,Social
ATTACH;FMTTYPE=image/png:https://lancasterelkslodge1625.org/wp-content/uploads/2025/02/image-1.png
END:VEVENT
BEGIN:VEVENT
DTSTART;TZID=America/Los_Angeles:20250704T120000
DTEND;TZID=America/Los_Angeles:20250704T180000
DTSTAMP:20260422T200254
CREATED:20250626T214746Z
LAST-MODIFIED:20250626T214746Z
UID:1960-1751630400-1751652000@lancasterelkslodge1625.org
SUMMARY:Patriotic PotLuck
DESCRIPTION:
URL:https://lancasterelkslodge1625.org/event/patriotic-potluck/
LOCATION:Elks Lodge #1625\, 240 E Ave k\, Lancaster\, CA\, 93535\, United States
CATEGORIES:Dining,Exercise,Holiday,Social
ATTACH;FMTTYPE=image/png:https://lancasterelkslodge1625.org/wp-content/uploads/2025/02/c2c91df7-3dce-41a9-9f09-46258d4fcc30-2.png
END:VEVENT
BEGIN:VEVENT
DTSTART;TZID=America/Los_Angeles:20250630T183000
DTEND;TZID=America/Los_Angeles:20250630T210000
DTSTAMP:20260422T200254
CREATED:20250529T234712Z
LAST-MODIFIED:20250529T234712Z
UID:1865-1751308200-1751317200@lancasterelkslodge1625.org
SUMMARY:Line Dancing
DESCRIPTION:
URL:https://lancasterelkslodge1625.org/event/line-dancing-22/
LOCATION:Elks Lodge #1625\, 240 E Ave k\, Lancaster\, CA\, 93535\, United States
CATEGORIES:Exercise,Social
ATTACH;FMTTYPE=image/png:https://lancasterelkslodge1625.org/wp-content/uploads/2025/02/image-3.png
END:VEVENT
BEGIN:VEVENT
DTSTART;TZID=America/Los_Angeles:20250623T183000
DTEND;TZID=America/Los_Angeles:20250623T210000
DTSTAMP:20260422T200254
CREATED:20250529T234616Z
LAST-MODIFIED:20250529T234616Z
UID:1862-1750703400-1750712400@lancasterelkslodge1625.org
SUMMARY:Line Dancing
DESCRIPTION:
URL:https://lancasterelkslodge1625.org/event/line-dancing-21/
LOCATION:Elks Lodge #1625\, 240 E Ave k\, Lancaster\, CA\, 93535\, United States
CATEGORIES:Exercise,Social
ATTACH;FMTTYPE=image/png:https://lancasterelkslodge1625.org/wp-content/uploads/2025/02/image-3.png
END:VEVENT
BEGIN:VEVENT
DTSTART;TZID=America/Los_Angeles:20250616T183000
DTEND;TZID=America/Los_Angeles:20250616T210000
DTSTAMP:20260422T200254
CREATED:20250529T234456Z
LAST-MODIFIED:20250529T234456Z
UID:1859-1750098600-1750107600@lancasterelkslodge1625.org
SUMMARY:Line Dancing
DESCRIPTION:
URL:https://lancasterelkslodge1625.org/event/line-dancing-20/
LOCATION:Elks Lodge #1625\, 240 E Ave k\, Lancaster\, CA\, 93535\, United States
CATEGORIES:Exercise,Social
ATTACH;FMTTYPE=image/png:https://lancasterelkslodge1625.org/wp-content/uploads/2025/02/image-3.png
END:VEVENT
BEGIN:VEVENT
DTSTART;TZID=America/Los_Angeles:20250613T180000
DTEND;TZID=America/Los_Angeles:20250613T210000
DTSTAMP:20260422T200254
CREATED:20250530T011321Z
LAST-MODIFIED:20250619T152020Z
UID:1928-1749837600-1749848400@lancasterelkslodge1625.org
SUMMARY:Friday Night Dance Music by Luis
DESCRIPTION:
URL:https://lancasterelkslodge1625.org/event/friday-night-dance-music-by-lewis/
LOCATION:Elks Lodge #1625\, 240 E Ave k\, Lancaster\, CA\, 93535\, United States
CATEGORIES:Exercise,Social
END:VEVENT
BEGIN:VEVENT
DTSTART;TZID=America/Los_Angeles:20250609T183000
DTEND;TZID=America/Los_Angeles:20250609T210000
DTSTAMP:20260422T200254
CREATED:20250529T234306Z
LAST-MODIFIED:20250529T234306Z
UID:1856-1749493800-1749502800@lancasterelkslodge1625.org
SUMMARY:Line Dancing
DESCRIPTION:
URL:https://lancasterelkslodge1625.org/event/line-dancing-19/
LOCATION:Elks Lodge #1625\, 240 E Ave k\, Lancaster\, CA\, 93535\, United States
CATEGORIES:Exercise,Social
ATTACH;FMTTYPE=image/png:https://lancasterelkslodge1625.org/wp-content/uploads/2025/02/image-3.png
END:VEVENT
BEGIN:VEVENT
DTSTART;TZID=America/Los_Angeles:20250602T183000
DTEND;TZID=America/Los_Angeles:20250602T210000
DTSTAMP:20260422T200254
CREATED:20250529T233703Z
LAST-MODIFIED:20250529T233703Z
UID:1853-1748889000-1748898000@lancasterelkslodge1625.org
SUMMARY:Line Dancing
DESCRIPTION:
URL:https://lancasterelkslodge1625.org/event/line-dancing-18/
LOCATION:Elks Lodge #1625\, 240 E Ave k\, Lancaster\, CA\, 93535\, United States
CATEGORIES:Exercise,Social
ATTACH;FMTTYPE=image/png:https://lancasterelkslodge1625.org/wp-content/uploads/2025/02/image-1.png
END:VEVENT
BEGIN:VEVENT
DTSTART;TZID=America/Los_Angeles:20250526T183000
DTEND;TZID=America/Los_Angeles:20250526T210000
DTSTAMP:20260422T200254
CREATED:20250428T024742Z
LAST-MODIFIED:20250428T024742Z
UID:1480-1748284200-1748293200@lancasterelkslodge1625.org
SUMMARY:Line Dancing
DESCRIPTION:
URL:https://lancasterelkslodge1625.org/event/line-dancing-17/
LOCATION:Elks Lodge #1625\, 240 E Ave k\, Lancaster\, CA\, 93535\, United States
CATEGORIES:Exercise,Social
ATTACH;FMTTYPE=image/png:https://lancasterelkslodge1625.org/wp-content/uploads/2025/02/image-1.png
END:VEVENT
BEGIN:VEVENT
DTSTART;TZID=America/Los_Angeles:20250519T183000
DTEND;TZID=America/Los_Angeles:20250519T210000
DTSTAMP:20260422T200254
CREATED:20250428T024639Z
LAST-MODIFIED:20250428T024639Z
UID:1477-1747679400-1747688400@lancasterelkslodge1625.org
SUMMARY:Line Dancing
DESCRIPTION:
URL:https://lancasterelkslodge1625.org/event/line-dancing-16/
LOCATION:Elks Lodge #1625\, 240 E Ave k\, Lancaster\, CA\, 93535\, United States
CATEGORIES:Exercise,Social
ATTACH;FMTTYPE=image/png:https://lancasterelkslodge1625.org/wp-content/uploads/2025/02/image-1.png
END:VEVENT
BEGIN:VEVENT
DTSTART;TZID=America/Los_Angeles:20250512T183000
DTEND;TZID=America/Los_Angeles:20250512T210000
DTSTAMP:20260422T200254
CREATED:20250428T024500Z
LAST-MODIFIED:20250428T024500Z
UID:1474-1747074600-1747083600@lancasterelkslodge1625.org
SUMMARY:Line Dancing
DESCRIPTION:
URL:https://lancasterelkslodge1625.org/event/line-dancing-15/
LOCATION:Elks Lodge #1625\, 240 E Ave k\, Lancaster\, CA\, 93535\, United States
CATEGORIES:Exercise,Social
ATTACH;FMTTYPE=image/png:https://lancasterelkslodge1625.org/wp-content/uploads/2025/02/image-1.png
END:VEVENT
BEGIN:VEVENT
DTSTART;TZID=America/Los_Angeles:20250510T090000
DTEND;TZID=America/Los_Angeles:20250510T130000
DTSTAMP:20260422T200254
CREATED:20250428T042521Z
LAST-MODIFIED:20250428T042521Z
UID:1506-1746867600-1746882000@lancasterelkslodge1625.org
SUMMARY:CAR SHOW
DESCRIPTION:
URL:https://lancasterelkslodge1625.org/event/car-show/
LOCATION:Elks Lodge #1625\, 240 E Ave k\, Lancaster\, CA\, 93535\, United States
CATEGORIES:Charity,Exercise,Social
END:VEVENT
BEGIN:VEVENT
DTSTART;TZID=America/Los_Angeles:20250509T200000
DTEND;TZID=America/Los_Angeles:20250509T210000
DTSTAMP:20260422T200254
CREATED:20250428T042136Z
LAST-MODIFIED:20250428T042136Z
UID:1501-1746820800-1746824400@lancasterelkslodge1625.org
SUMMARY:Friday Night Dance
DESCRIPTION:
URL:https://lancasterelkslodge1625.org/event/friday-night-dance-2/
LOCATION:Elks Lodge #1625\, 240 E Ave k\, Lancaster\, CA\, 93535\, United States
CATEGORIES:Exercise,Social
END:VEVENT
BEGIN:VEVENT
DTSTART;TZID=America/Los_Angeles:20250505T183000
DTEND;TZID=America/Los_Angeles:20250505T210000
DTSTAMP:20260422T200254
CREATED:20250428T024408Z
LAST-MODIFIED:20250428T024408Z
UID:1471-1746469800-1746478800@lancasterelkslodge1625.org
SUMMARY:Line Dancing
DESCRIPTION:
URL:https://lancasterelkslodge1625.org/event/line-dancing-14/
LOCATION:Elks Lodge #1625\, 240 E Ave k\, Lancaster\, CA\, 93535\, United States
CATEGORIES:Exercise,Social
ATTACH;FMTTYPE=image/png:https://lancasterelkslodge1625.org/wp-content/uploads/2025/02/image-1.png
END:VEVENT
BEGIN:VEVENT
DTSTART;TZID=America/Los_Angeles:20250428T183000
DTEND;TZID=America/Los_Angeles:20250428T210000
DTSTAMP:20260422T200254
CREATED:20250328T170940Z
LAST-MODIFIED:20250328T170940Z
UID:1310-1745865000-1745874000@lancasterelkslodge1625.org
SUMMARY:Line Dancing
DESCRIPTION:
URL:https://lancasterelkslodge1625.org/event/line-dancing-13/
LOCATION:Elks Lodge #1625\, 240 E Ave k\, Lancaster\, CA\, 93535\, United States
CATEGORIES:Exercise,Social
ATTACH;FMTTYPE=image/png:https://lancasterelkslodge1625.org/wp-content/uploads/2025/02/image-1.png
END:VEVENT
BEGIN:VEVENT
DTSTART;TZID=America/Los_Angeles:20250421T183000
DTEND;TZID=America/Los_Angeles:20250421T210000
DTSTAMP:20260422T200254
CREATED:20250327T053646Z
LAST-MODIFIED:20250327T053646Z
UID:1271-1745260200-1745269200@lancasterelkslodge1625.org
SUMMARY:Line Dancing
DESCRIPTION:
URL:https://lancasterelkslodge1625.org/event/line-dancing-12/
LOCATION:Elks Lodge #1625\, 240 E Ave k\, Lancaster\, CA\, 93535\, United States
CATEGORIES:Exercise,Social
ATTACH;FMTTYPE=image/png:https://lancasterelkslodge1625.org/wp-content/uploads/2025/02/image-1.png
END:VEVENT
BEGIN:VEVENT
DTSTART;TZID=America/Los_Angeles:20250414T183000
DTEND;TZID=America/Los_Angeles:20250414T210000
DTSTAMP:20260422T200254
CREATED:20250327T051720Z
LAST-MODIFIED:20250327T051720Z
UID:1228-1744655400-1744664400@lancasterelkslodge1625.org
SUMMARY:Line Dancing
DESCRIPTION:
URL:https://lancasterelkslodge1625.org/event/line-dancing-11/
LOCATION:Elks Lodge #1625\, 240 E Ave k\, Lancaster\, CA\, 93535\, United States
CATEGORIES:Exercise,Social
ATTACH;FMTTYPE=image/png:https://lancasterelkslodge1625.org/wp-content/uploads/2025/02/image-1.png
END:VEVENT
BEGIN:VEVENT
DTSTART;TZID=America/Los_Angeles:20250412T163000
DTEND;TZID=America/Los_Angeles:20250412T190000
DTSTAMP:20260422T200254
CREATED:20250226T163654Z
LAST-MODIFIED:20250226T170916Z
UID:1023-1744475400-1744484400@lancasterelkslodge1625.org
SUMMARY:Inaugural Ball
DESCRIPTION:Join us in welcoming our 2025-2026 Exhalted Ruler Mike Barnum and His Corps of Officers \nCocktails: 04:30 pm to 05:30 pm\nDinner: 05:30 pm to 07:00 pm \nBand – on Tap\, 07:00 pm – 10:00 pm \nGuests welcome \nTickets available at Bar\nPurchase deadline is April 8th
URL:https://lancasterelkslodge1625.org/event/inaugural-ball/
LOCATION:Elks Lodge #1625\, 240 E Ave k\, Lancaster\, CA\, 93535\, United States
CATEGORIES:Charity,Dining,Exercise,Open Meeting,Social
ATTACH;FMTTYPE=application/pdf:https://lancasterelkslodge1625.org/wp-content/uploads/2025/02/2025-26-Inaugural-Ball-Flyer-Color.pdf
END:VEVENT
BEGIN:VEVENT
DTSTART;TZID=America/Los_Angeles:20250411T180000
DTEND;TZID=America/Los_Angeles:20250411T220000
DTSTAMP:20260422T200254
CREATED:20250327T042658Z
LAST-MODIFIED:20250327T042658Z
UID:1207-1744394400-1744408800@lancasterelkslodge1625.org
SUMMARY:Friday Night Dance
DESCRIPTION:
URL:https://lancasterelkslodge1625.org/event/friday-night-dance/
LOCATION:Elks Lodge #1625\, 240 E Ave k\, Lancaster\, CA\, 93535\, United States
CATEGORIES:Exercise,Social
END:VEVENT
BEGIN:VEVENT
DTSTART;TZID=America/Los_Angeles:20250407T183000
DTEND;TZID=America/Los_Angeles:20250407T200000
DTSTAMP:20260422T200254
CREATED:20250327T041330Z
LAST-MODIFIED:20250327T041330Z
UID:1180-1744050600-1744056000@lancasterelkslodge1625.org
SUMMARY:Line Dancing
DESCRIPTION:
URL:https://lancasterelkslodge1625.org/event/line-dancing-10/
LOCATION:Elks Lodge #1625\, 240 E Ave k\, Lancaster\, CA\, 93535\, United States
CATEGORIES:Exercise,Social
ATTACH;FMTTYPE=image/png:https://lancasterelkslodge1625.org/wp-content/uploads/2025/02/image-1.png
END:VEVENT
END:VCALENDAR