BEGIN:VCALENDAR
VERSION:2.0
PRODID:-//Lancaster Elks Lodge #1625 - ECPv6.15.20//NONSGML v1.0//EN
CALSCALE:GREGORIAN
METHOD:PUBLISH
X-WR-CALNAME:Lancaster Elks Lodge #1625
X-ORIGINAL-URL:https://lancasterelkslodge1625.org
X-WR-CALDESC:Events for Lancaster Elks Lodge #1625
REFRESH-INTERVAL;VALUE=DURATION:PT1H
X-Robots-Tag:noindex
X-PUBLISHED-TTL:PT1H
BEGIN:VTIMEZONE
TZID:America/Los_Angeles
BEGIN:DAYLIGHT
TZOFFSETFROM:-0800
TZOFFSETTO:-0700
TZNAME:PDT
DTSTART:20240310T100000
END:DAYLIGHT
BEGIN:STANDARD
TZOFFSETFROM:-0700
TZOFFSETTO:-0800
TZNAME:PST
DTSTART:20241103T090000
END:STANDARD
BEGIN:DAYLIGHT
TZOFFSETFROM:-0800
TZOFFSETTO:-0700
TZNAME:PDT
DTSTART:20250309T100000
END:DAYLIGHT
BEGIN:STANDARD
TZOFFSETFROM:-0700
TZOFFSETTO:-0800
TZNAME:PST
DTSTART:20251102T090000
END:STANDARD
BEGIN:DAYLIGHT
TZOFFSETFROM:-0800
TZOFFSETTO:-0700
TZNAME:PDT
DTSTART:20260308T100000
END:DAYLIGHT
BEGIN:STANDARD
TZOFFSETFROM:-0700
TZOFFSETTO:-0800
TZNAME:PST
DTSTART:20261101T090000
END:STANDARD
END:VTIMEZONE
BEGIN:VEVENT
DTSTART;TZID=America/Los_Angeles:20250306T170000
DTEND;TZID=America/Los_Angeles:20250306T210000
DTSTAMP:20260423T002652
CREATED:20250221T155435Z
LAST-MODIFIED:20250221T155525Z
UID:846-1741280400-1741294800@lancasterelkslodge1625.org
SUMMARY:Bowling at Bowlero
DESCRIPTION:
URL:https://lancasterelkslodge1625.org/event/bowling-at-bowlero/
LOCATION:Bowlero\, 43233 Sierra Hwy\, Lancaster\, CA\, 93534\, United States
CATEGORIES:Exercise,Social
ATTACH;FMTTYPE=image/webp:https://lancasterelkslodge1625.org/wp-content/uploads/2025/02/bowling.webp
END:VEVENT
BEGIN:VEVENT
DTSTART;TZID=America/Los_Angeles:20250303T063000
DTEND;TZID=America/Los_Angeles:20250303T210000
DTSTAMP:20260423T002652
CREATED:20250221T150533Z
LAST-MODIFIED:20250221T174708Z
UID:810-1740983400-1741035600@lancasterelkslodge1625.org
SUMMARY:Line Dancing
DESCRIPTION:Beginner Line Dance: 4:30 pm – 7:30 pm\nIntermediate/Advanced: 7:45 pm – 8:45 pm
URL:https://lancasterelkslodge1625.org/event/line-dancing-5/
LOCATION:Elks Lodge #1625\, 240 E Ave k\, Lancaster\, CA\, 93535\, United States
CATEGORIES:Exercise,Social
ATTACH;FMTTYPE=image/png:https://lancasterelkslodge1625.org/wp-content/uploads/2025/02/image-1.png
END:VEVENT
BEGIN:VEVENT
DTSTART;TZID=America/Los_Angeles:20250224T183000
DTEND;TZID=America/Los_Angeles:20250224T193000
DTSTAMP:20260423T002652
CREATED:20250205T232019Z
LAST-MODIFIED:20250221T212205Z
UID:497-1740421800-1740425400@lancasterelkslodge1625.org
SUMMARY:Line Dancing
DESCRIPTION:
URL:https://lancasterelkslodge1625.org/event/line-dancing-4/
LOCATION:CA
CATEGORIES:Exercise,Social
END:VEVENT
BEGIN:VEVENT
DTSTART;TZID=America/Los_Angeles:20250217T103000
DTEND;TZID=America/Los_Angeles:20250217T113000
DTSTAMP:20260423T002652
CREATED:20250205T230542Z
LAST-MODIFIED:20250205T230542Z
UID:455-1739788200-1739791800@lancasterelkslodge1625.org
SUMMARY:Line Dancing
DESCRIPTION:
URL:https://lancasterelkslodge1625.org/event/line-dancing-3/
LOCATION:CA
CATEGORIES:Exercise,Social
END:VEVENT
BEGIN:VEVENT
DTSTART;TZID=America/Los_Angeles:20250214T100000
DTEND;TZID=America/Los_Angeles:20250214T130000
DTSTAMP:20260423T002652
CREATED:20250205T220904Z
LAST-MODIFIED:20250206T001122Z
UID:437-1739527200-1739538000@lancasterelkslodge1625.org
SUMMARY:Friday Night Dance\, Valentine Treats
DESCRIPTION:
URL:https://lancasterelkslodge1625.org/event/friday-night-dance-valentine-treats/
LOCATION:CA
CATEGORIES:Exercise,Social
END:VEVENT
BEGIN:VEVENT
DTSTART;TZID=America/Los_Angeles:20250213T000000
DTEND;TZID=America/Los_Angeles:20250213T090000
DTSTAMP:20260423T002652
CREATED:20250205T220723Z
LAST-MODIFIED:20250205T220924Z
UID:431-1739404800-1739437200@lancasterelkslodge1625.org
SUMMARY:Bowling @ Bowlero
DESCRIPTION:
URL:https://lancasterelkslodge1625.org/event/bowling-bowlero-2/
LOCATION:CA
CATEGORIES:Exercise,Social
END:VEVENT
BEGIN:VEVENT
DTSTART;TZID=America/Los_Angeles:20250210T103000
DTEND;TZID=America/Los_Angeles:20250210T113000
DTSTAMP:20260423T002652
CREATED:20250205T220020Z
LAST-MODIFIED:20250205T220935Z
UID:410-1739183400-1739187000@lancasterelkslodge1625.org
SUMMARY:Line Dancing
DESCRIPTION:
URL:https://lancasterelkslodge1625.org/event/line-dancing-2/
LOCATION:CA
CATEGORIES:Exercise,Social
END:VEVENT
END:VCALENDAR