BEGIN:VCALENDAR
VERSION:2.0
PRODID:-//Lancaster Elks Lodge #1625 - ECPv6.15.20//NONSGML v1.0//EN
CALSCALE:GREGORIAN
METHOD:PUBLISH
X-WR-CALNAME:Lancaster Elks Lodge #1625
X-ORIGINAL-URL:https://lancasterelkslodge1625.org
X-WR-CALDESC:Events for Lancaster Elks Lodge #1625
REFRESH-INTERVAL;VALUE=DURATION:PT1H
X-Robots-Tag:noindex
X-PUBLISHED-TTL:PT1H
BEGIN:VTIMEZONE
TZID:America/Los_Angeles
BEGIN:DAYLIGHT
TZOFFSETFROM:-0800
TZOFFSETTO:-0700
TZNAME:PDT
DTSTART:20240310T100000
END:DAYLIGHT
BEGIN:STANDARD
TZOFFSETFROM:-0700
TZOFFSETTO:-0800
TZNAME:PST
DTSTART:20241103T090000
END:STANDARD
BEGIN:DAYLIGHT
TZOFFSETFROM:-0800
TZOFFSETTO:-0700
TZNAME:PDT
DTSTART:20250309T100000
END:DAYLIGHT
BEGIN:STANDARD
TZOFFSETFROM:-0700
TZOFFSETTO:-0800
TZNAME:PST
DTSTART:20251102T090000
END:STANDARD
BEGIN:DAYLIGHT
TZOFFSETFROM:-0800
TZOFFSETTO:-0700
TZNAME:PDT
DTSTART:20260308T100000
END:DAYLIGHT
BEGIN:STANDARD
TZOFFSETFROM:-0700
TZOFFSETTO:-0800
TZNAME:PST
DTSTART:20261101T090000
END:STANDARD
END:VTIMEZONE
BEGIN:VEVENT
DTSTART;VALUE=DATE:20251127
DTEND;VALUE=DATE:20251128
DTSTAMP:20260422T152029
CREATED:20251002T012853Z
LAST-MODIFIED:20250213T140213Z
UID:719-1764201600-1764287999@lancasterelkslodge1625.org
SUMMARY:Thanksgiving Day
DESCRIPTION:
URL:https://lancasterelkslodge1625.org/event/thanksgiving-day/
CATEGORIES:Holiday
ATTACH;FMTTYPE=image/jpeg:https://lancasterelkslodge1625.org/wp-content/uploads/2025/02/turkey.jpg
END:VEVENT
BEGIN:VEVENT
DTSTART;VALUE=DATE:20251111
DTEND;VALUE=DATE:20251112
DTSTAMP:20260422T152029
CREATED:20251002T012114Z
LAST-MODIFIED:20250213T140204Z
UID:716-1762819200-1762905599@lancasterelkslodge1625.org
SUMMARY:Veteran's Day
DESCRIPTION:
URL:https://lancasterelkslodge1625.org/event/veterans-day/
CATEGORIES:Holiday
ATTACH;FMTTYPE=image/jpeg:https://lancasterelkslodge1625.org/wp-content/uploads/2025/02/Veteran.jpg
END:VEVENT
BEGIN:VEVENT
DTSTART;VALUE=DATE:20251031
DTEND;VALUE=DATE:20251101
DTSTAMP:20260422T152029
CREATED:20250902T011845Z
LAST-MODIFIED:20250213T140155Z
UID:713-1761868800-1761955199@lancasterelkslodge1625.org
SUMMARY:Halloween
DESCRIPTION:
URL:https://lancasterelkslodge1625.org/event/halloween/
CATEGORIES:Holiday
ATTACH;FMTTYPE=image/jpeg:https://lancasterelkslodge1625.org/wp-content/uploads/2025/02/halloween.jpg
END:VEVENT
BEGIN:VEVENT
DTSTART;VALUE=DATE:20250901
DTEND;VALUE=DATE:20250902
DTSTAMP:20260422T152029
CREATED:20250802T011543Z
LAST-MODIFIED:20250213T140147Z
UID:710-1756684800-1756771199@lancasterelkslodge1625.org
SUMMARY:Labor Day
DESCRIPTION:
URL:https://lancasterelkslodge1625.org/event/labor-day/
CATEGORIES:Holiday
ATTACH;FMTTYPE=image/jpeg:https://lancasterelkslodge1625.org/wp-content/uploads/2025/02/labor.jpg
END:VEVENT
BEGIN:VEVENT
DTSTART;TZID=America/Los_Angeles:20250704T120000
DTEND;TZID=America/Los_Angeles:20250704T180000
DTSTAMP:20260422T152029
CREATED:20250626T214746Z
LAST-MODIFIED:20250626T214746Z
UID:1960-1751630400-1751652000@lancasterelkslodge1625.org
SUMMARY:Patriotic PotLuck
DESCRIPTION:
URL:https://lancasterelkslodge1625.org/event/patriotic-potluck/
LOCATION:Elks Lodge #1625\, 240 E Ave k\, Lancaster\, CA\, 93535\, United States
CATEGORIES:Dining,Exercise,Holiday,Social
ATTACH;FMTTYPE=image/png:https://lancasterelkslodge1625.org/wp-content/uploads/2025/02/c2c91df7-3dce-41a9-9f09-46258d4fcc30-2.png
END:VEVENT
BEGIN:VEVENT
DTSTART;VALUE=DATE:20250704
DTEND;VALUE=DATE:20250705
DTSTAMP:20260422T152029
CREATED:20250602T010944Z
LAST-MODIFIED:20250213T140140Z
UID:707-1751587200-1751673599@lancasterelkslodge1625.org
SUMMARY:Fourth of July
DESCRIPTION:
URL:https://lancasterelkslodge1625.org/event/fourth-of-july/
CATEGORIES:Holiday
ATTACH;FMTTYPE=image/png:https://lancasterelkslodge1625.org/wp-content/uploads/2025/02/4thJuly.png
END:VEVENT
BEGIN:VEVENT
DTSTART;VALUE=DATE:20250526
DTEND;VALUE=DATE:20250527
DTSTAMP:20260422T152029
CREATED:20250402T010453Z
LAST-MODIFIED:20250213T140115Z
UID:701-1748217600-1748303999@lancasterelkslodge1625.org
SUMMARY:Memorial Day
DESCRIPTION:
URL:https://lancasterelkslodge1625.org/event/memorial-day/
CATEGORIES:Holiday
ATTACH;FMTTYPE=image/jpeg:https://lancasterelkslodge1625.org/wp-content/uploads/2025/02/memorial.jpg
END:VEVENT
BEGIN:VEVENT
DTSTART;VALUE=DATE:20250511
DTEND;VALUE=DATE:20250512
DTSTAMP:20260422T152029
CREATED:20250402T010157Z
LAST-MODIFIED:20250428T013346Z
UID:698-1746921600-1747007999@lancasterelkslodge1625.org
SUMMARY:Mother's Day
DESCRIPTION:
URL:https://lancasterelkslodge1625.org/event/mothers-day/
CATEGORIES:Holiday
ATTACH;FMTTYPE=image/jpeg:https://lancasterelkslodge1625.org/wp-content/uploads/2025/02/mother.jpg
END:VEVENT
BEGIN:VEVENT
DTSTART;VALUE=DATE:20250505
DTEND;VALUE=DATE:20250506
DTSTAMP:20260422T152029
CREATED:20250402T005929Z
LAST-MODIFIED:20250213T140102Z
UID:695-1746403200-1746489599@lancasterelkslodge1625.org
SUMMARY:Cinco de Mayo
DESCRIPTION:
URL:https://lancasterelkslodge1625.org/event/cinco-de-mayo/
CATEGORIES:Holiday
ATTACH;FMTTYPE=image/jpeg:https://lancasterelkslodge1625.org/wp-content/uploads/2025/02/cinco.jpg
END:VEVENT
BEGIN:VEVENT
DTSTART;VALUE=DATE:20250420
DTEND;VALUE=DATE:20250421
DTSTAMP:20260422T152029
CREATED:20250327T053151Z
LAST-MODIFIED:20250327T053151Z
UID:1259-1745107200-1745193599@lancasterelkslodge1625.org
SUMMARY:LOUNGE CLOSED
DESCRIPTION:
URL:https://lancasterelkslodge1625.org/event/lounge-closed-11/
LOCATION:Elks Lodge #1625\, 240 E Ave k\, Lancaster\, CA\, 93535\, United States
CATEGORIES:Holiday
ATTACH;FMTTYPE=image/jpeg:https://lancasterelkslodge1625.org/wp-content/uploads/2025/03/istockphoto-1323505495-612x612-1.jpg
END:VEVENT
BEGIN:VEVENT
DTSTART;VALUE=DATE:20250420
DTEND;VALUE=DATE:20250421
DTSTAMP:20260422T152029
CREATED:20250302T015441Z
LAST-MODIFIED:20250213T140055Z
UID:692-1745107200-1745193599@lancasterelkslodge1625.org
SUMMARY:Easter Day
DESCRIPTION:
URL:https://lancasterelkslodge1625.org/event/easter-day/
CATEGORIES:Holiday
ATTACH;FMTTYPE=image/jpeg:https://lancasterelkslodge1625.org/wp-content/uploads/2025/02/easter.jpg
END:VEVENT
BEGIN:VEVENT
DTSTART;VALUE=DATE:20250317
DTEND;VALUE=DATE:20250318
DTSTAMP:20260422T152029
CREATED:20250213T135751Z
LAST-MODIFIED:20250224T150825Z
UID:761-1742169600-1742255999@lancasterelkslodge1625.org
SUMMARY:St. Patrick's Day
DESCRIPTION:
URL:https://lancasterelkslodge1625.org/event/st-patricks-day/
CATEGORIES:Holiday
ATTACH;FMTTYPE=image/jpeg:https://lancasterelkslodge1625.org/wp-content/uploads/2025/02/StPatrick.jpg
END:VEVENT
BEGIN:VEVENT
DTSTART;VALUE=DATE:20250217
DTEND;VALUE=DATE:20250218
DTSTAMP:20260422T152029
CREATED:20250213T014609Z
LAST-MODIFIED:20250213T014609Z
UID:689-1739750400-1739836799@lancasterelkslodge1625.org
SUMMARY:President's Day
DESCRIPTION:
URL:https://lancasterelkslodge1625.org/event/presidents-day/
CATEGORIES:Holiday
END:VEVENT
BEGIN:VEVENT
DTSTART;VALUE=DATE:20250214
DTEND;VALUE=DATE:20250215
DTSTAMP:20260422T152029
CREATED:20250213T134502Z
LAST-MODIFIED:20250213T134533Z
UID:742-1739491200-1739577599@lancasterelkslodge1625.org
SUMMARY:Valentine's Day
DESCRIPTION:
URL:https://lancasterelkslodge1625.org/event/valentines-day-2/
CATEGORIES:Holiday
ATTACH;FMTTYPE=image/jpeg:https://lancasterelkslodge1625.org/wp-content/uploads/2025/02/valentines.jpg
END:VEVENT
END:VCALENDAR