BEGIN:VCALENDAR
VERSION:2.0
PRODID:-//Lancaster Elks Lodge #1625 - ECPv6.15.20//NONSGML v1.0//EN
CALSCALE:GREGORIAN
METHOD:PUBLISH
X-ORIGINAL-URL:https://lancasterelkslodge1625.org
X-WR-CALDESC:Events for Lancaster Elks Lodge #1625
REFRESH-INTERVAL;VALUE=DURATION:PT1H
X-Robots-Tag:noindex
X-PUBLISHED-TTL:PT1H
BEGIN:VTIMEZONE
TZID:America/Los_Angeles
BEGIN:DAYLIGHT
TZOFFSETFROM:-0800
TZOFFSETTO:-0700
TZNAME:PDT
DTSTART:20250309T100000
END:DAYLIGHT
BEGIN:STANDARD
TZOFFSETFROM:-0700
TZOFFSETTO:-0800
TZNAME:PST
DTSTART:20251102T090000
END:STANDARD
BEGIN:DAYLIGHT
TZOFFSETFROM:-0800
TZOFFSETTO:-0700
TZNAME:PDT
DTSTART:20260308T100000
END:DAYLIGHT
BEGIN:STANDARD
TZOFFSETFROM:-0700
TZOFFSETTO:-0800
TZNAME:PST
DTSTART:20261101T090000
END:STANDARD
BEGIN:DAYLIGHT
TZOFFSETFROM:-0800
TZOFFSETTO:-0700
TZNAME:PDT
DTSTART:20270314T100000
END:DAYLIGHT
BEGIN:STANDARD
TZOFFSETFROM:-0700
TZOFFSETTO:-0800
TZNAME:PST
DTSTART:20271107T090000
END:STANDARD
END:VTIMEZONE
BEGIN:VEVENT
DTSTART;VALUE=DATE:20260317
DTEND;VALUE=DATE:20260318
DTSTAMP:20260423T021549
CREATED:20260227T214834Z
LAST-MODIFIED:20260227T214834Z
UID:3745-1773705600-1773791999@lancasterelkslodge1625.org
SUMMARY:Saint Patrick's Day
DESCRIPTION:
URL:https://lancasterelkslodge1625.org/event/saint-patricks-day/
CATEGORIES:Holiday
ATTACH;FMTTYPE=image/jpeg:https://lancasterelkslodge1625.org/wp-content/uploads/2026/02/happy-saint-patrick-s-day-greeting-poster-with-green-leaves-and-wooden-fence-free-vector.jpg
END:VEVENT
BEGIN:VEVENT
DTSTART;VALUE=DATE:20260403
DTEND;VALUE=DATE:20260404
DTSTAMP:20260423T021549
CREATED:20260318T165630Z
LAST-MODIFIED:20260318T165630Z
UID:3861-1775174400-1775260799@lancasterelkslodge1625.org
SUMMARY:GOOD FRIDAY
DESCRIPTION:
URL:https://lancasterelkslodge1625.org/event/good-friday/
CATEGORIES:Holiday
ATTACH;FMTTYPE=image/avif:https://lancasterelkslodge1625.org/wp-content/uploads/2026/03/watercolor-good-friday-illustration_23-2149327568.avif
END:VEVENT
BEGIN:VEVENT
DTSTART;VALUE=DATE:20260405
DTEND;VALUE=DATE:20260406
DTSTAMP:20260423T021549
CREATED:20260319T135123Z
LAST-MODIFIED:20260319T135124Z
UID:3884-1775347200-1775433599@lancasterelkslodge1625.org
SUMMARY:Easter Sunday
DESCRIPTION:Respectfully\, our Lodge is closed today.
URL:https://lancasterelkslodge1625.org/event/easter-sunday/
CATEGORIES:Holiday
ATTACH;FMTTYPE=image/jpeg:https://lancasterelkslodge1625.org/wp-content/uploads/2026/03/12688469_5013891.jpg
END:VEVENT
END:VCALENDAR