BEGIN:VCALENDAR
VERSION:2.0
PRODID:-//Lancaster Elks Lodge #1625 - ECPv6.15.20//NONSGML v1.0//EN
CALSCALE:GREGORIAN
METHOD:PUBLISH
X-ORIGINAL-URL:https://lancasterelkslodge1625.org
X-WR-CALDESC:Events for Lancaster Elks Lodge #1625
REFRESH-INTERVAL;VALUE=DURATION:PT1H
X-Robots-Tag:noindex
X-PUBLISHED-TTL:PT1H
BEGIN:VTIMEZONE
TZID:America/Los_Angeles
BEGIN:DAYLIGHT
TZOFFSETFROM:-0800
TZOFFSETTO:-0700
TZNAME:PDT
DTSTART:20240310T100000
END:DAYLIGHT
BEGIN:STANDARD
TZOFFSETFROM:-0700
TZOFFSETTO:-0800
TZNAME:PST
DTSTART:20241103T090000
END:STANDARD
BEGIN:DAYLIGHT
TZOFFSETFROM:-0800
TZOFFSETTO:-0700
TZNAME:PDT
DTSTART:20250309T100000
END:DAYLIGHT
BEGIN:STANDARD
TZOFFSETFROM:-0700
TZOFFSETTO:-0800
TZNAME:PST
DTSTART:20251102T090000
END:STANDARD
BEGIN:DAYLIGHT
TZOFFSETFROM:-0800
TZOFFSETTO:-0700
TZNAME:PDT
DTSTART:20260308T100000
END:DAYLIGHT
BEGIN:STANDARD
TZOFFSETFROM:-0700
TZOFFSETTO:-0800
TZNAME:PST
DTSTART:20261101T090000
END:STANDARD
END:VTIMEZONE
BEGIN:VEVENT
DTSTART;TZID=America/Los_Angeles:20251201T110000
DTEND;TZID=America/Los_Angeles:20251201T140000
DTSTAMP:20260422T152035
CREATED:20251125T170743Z
LAST-MODIFIED:20251125T170743Z
UID:3085-1764586800-1764597600@lancasterelkslodge1625.org
SUMMARY:Burgers and Dogs
DESCRIPTION:
URL:https://lancasterelkslodge1625.org/event/burgers-and-dogs-33/
LOCATION:Elks Lodge #1625\, 240 E Ave k\, Lancaster\, CA\, 93535\, United States
CATEGORIES:Dining,Social
ATTACH;FMTTYPE=image/png:https://lancasterelkslodge1625.org/wp-content/uploads/2025/02/image.png
END:VEVENT
BEGIN:VEVENT
DTSTART;TZID=America/Los_Angeles:20251201T120000
DTEND;TZID=America/Los_Angeles:20251201T130000
DTSTAMP:20260422T152035
CREATED:20251125T170910Z
LAST-MODIFIED:20251125T170910Z
UID:3088-1764590400-1764594000@lancasterelkslodge1625.org
SUMMARY:Veteran's Committee Meeting
DESCRIPTION:
URL:https://lancasterelkslodge1625.org/event/veterans-committee-meeting-2/
LOCATION:Elks Lodge #1625\, 240 E Ave k\, Lancaster\, CA\, 93535\, United States
CATEGORIES:Committee,Social
END:VEVENT
BEGIN:VEVENT
DTSTART;TZID=America/Los_Angeles:20251201T160000
DTEND;TZID=America/Los_Angeles:20251201T190000
DTSTAMP:20260422T152035
CREATED:20251125T171040Z
LAST-MODIFIED:20251125T171040Z
UID:3091-1764604800-1764615600@lancasterelkslodge1625.org
SUMMARY:Cribbage
DESCRIPTION:
URL:https://lancasterelkslodge1625.org/event/cribbage-44/
LOCATION:Elks Lodge #1625\, 240 E Ave k\, Lancaster\, CA\, 93535\, United States
CATEGORIES:Social
ATTACH;FMTTYPE=image/png:https://lancasterelkslodge1625.org/wp-content/uploads/2025/02/image-3.png
END:VEVENT
BEGIN:VEVENT
DTSTART;TZID=America/Los_Angeles:20251201T160000
DTEND;TZID=America/Los_Angeles:20251201T190000
DTSTAMP:20260422T152035
CREATED:20251125T171900Z
LAST-MODIFIED:20251125T171900Z
UID:3100-1764604800-1764615600@lancasterelkslodge1625.org
SUMMARY:Dogs at the bar
DESCRIPTION:
URL:https://lancasterelkslodge1625.org/event/dogs-at-the-bar-116/
LOCATION:Elks Lodge #1625\, 240 E Ave k\, Lancaster\, CA\, 93535\, United States
CATEGORIES:Dining,Social
ATTACH;FMTTYPE=image/webp:https://lancasterelkslodge1625.org/wp-content/uploads/2025/02/hotdogs.webp
END:VEVENT
BEGIN:VEVENT
DTSTART;TZID=America/Los_Angeles:20251201T183000
DTEND;TZID=America/Los_Angeles:20251201T210000
DTSTAMP:20260422T152035
CREATED:20251125T171746Z
LAST-MODIFIED:20251125T171746Z
UID:3097-1764613800-1764622800@lancasterelkslodge1625.org
SUMMARY:Line Dancing
DESCRIPTION:
URL:https://lancasterelkslodge1625.org/event/line-dancing-44/
LOCATION:Elks Lodge #1625\, 240 E Ave k\, Lancaster\, CA\, 93535\, United States
CATEGORIES:Exercise,Social
ATTACH;FMTTYPE=image/jpeg:https://lancasterelkslodge1625.org/wp-content/uploads/2025/10/Line-Dancing-scaled.jpg
END:VEVENT
BEGIN:VEVENT
DTSTART;TZID=America/Los_Angeles:20251202T170000
DTEND;TZID=America/Los_Angeles:20251202T183000
DTSTAMP:20260422T152035
CREATED:20251125T172001Z
LAST-MODIFIED:20251125T172001Z
UID:3103-1764694800-1764700200@lancasterelkslodge1625.org
SUMMARY:Karen's Dinner
DESCRIPTION:
URL:https://lancasterelkslodge1625.org/event/karens-dinner-2/
LOCATION:Elks Lodge #1625\, 240 E Ave k\, Lancaster\, CA\, 93535\, United States
CATEGORIES:Dining,Social
END:VEVENT
BEGIN:VEVENT
DTSTART;TZID=America/Los_Angeles:20251202T190000
DTEND;TZID=America/Los_Angeles:20251202T203000
DTSTAMP:20260422T152035
CREATED:20251125T172608Z
LAST-MODIFIED:20251125T172608Z
UID:3106-1764702000-1764707400@lancasterelkslodge1625.org
SUMMARY:Elks Meeting
DESCRIPTION:
URL:https://lancasterelkslodge1625.org/event/elks-meeting-21/
LOCATION:Elks Lodge #1625\, 240 E Ave k\, Lancaster\, CA\, 93535\, United States
CATEGORIES:Closed Meeting,Social
END:VEVENT
BEGIN:VEVENT
DTSTART;TZID=America/Los_Angeles:20251203T160000
DTEND;TZID=America/Los_Angeles:20251203T190000
DTSTAMP:20260422T152035
CREATED:20251125T172813Z
LAST-MODIFIED:20251125T172813Z
UID:3109-1764777600-1764788400@lancasterelkslodge1625.org
SUMMARY:Dogs at the bar
DESCRIPTION:
URL:https://lancasterelkslodge1625.org/event/dogs-at-the-bar-117/
LOCATION:Elks Lodge #1625\, 240 E Ave k\, Lancaster\, CA\, 93535\, United States
CATEGORIES:Dining,Social
ATTACH;FMTTYPE=image/webp:https://lancasterelkslodge1625.org/wp-content/uploads/2025/02/hotdogs.webp
END:VEVENT
BEGIN:VEVENT
DTSTART;TZID=America/Los_Angeles:20251205T160000
DTEND;TZID=America/Los_Angeles:20251205T190000
DTSTAMP:20260422T152035
CREATED:20251125T173244Z
LAST-MODIFIED:20251125T173244Z
UID:3121-1764950400-1764961200@lancasterelkslodge1625.org
SUMMARY:Dogs at the bar
DESCRIPTION:
URL:https://lancasterelkslodge1625.org/event/dogs-at-the-bar-118/
LOCATION:Elks Lodge #1625\, 240 E Ave k\, Lancaster\, CA\, 93535\, United States
CATEGORIES:Dining,Social
ATTACH;FMTTYPE=image/webp:https://lancasterelkslodge1625.org/wp-content/uploads/2025/02/hotdogs.webp
END:VEVENT
BEGIN:VEVENT
DTSTART;TZID=America/Los_Angeles:20251205T180000
DTEND;TZID=America/Los_Angeles:20251205T220000
DTSTAMP:20260422T152035
CREATED:20251125T173757Z
LAST-MODIFIED:20251125T173838Z
UID:3124-1764957600-1764972000@lancasterelkslodge1625.org
SUMMARY:Games Night
DESCRIPTION:Game Night
URL:https://lancasterelkslodge1625.org/event/games-night/
LOCATION:Elks Lodge #1625\, 240 E Ave k\, Lancaster\, CA\, 93535\, United States
CATEGORIES:Social
ATTACH;FMTTYPE=application/pdf:https://lancasterelkslodge1625.org/wp-content/uploads/2025/11/Game-Night.pdf
END:VEVENT
BEGIN:VEVENT
DTSTART;TZID=America/Los_Angeles:20251206T170000
DTEND;TZID=America/Los_Angeles:20251206T183000
DTSTAMP:20260422T152035
CREATED:20251125T174231Z
LAST-MODIFIED:20251125T174251Z
UID:3129-1765040400-1765045800@lancasterelkslodge1625.org
SUMMARY:Dinner with the ER
DESCRIPTION:Dinner with ER Dec
URL:https://lancasterelkslodge1625.org/event/dinner-with-the-er/
LOCATION:Elks Lodge #1625\, 240 E Ave k\, Lancaster\, CA\, 93535\, United States
CATEGORIES:Dining,Social
ATTACH;FMTTYPE=application/pdf:https://lancasterelkslodge1625.org/wp-content/uploads/2025/11/Dinner-with-ER-Dec-6th-2.pdf
END:VEVENT
BEGIN:VEVENT
DTSTART;TZID=America/Los_Angeles:20251207T090000
DTEND;TZID=America/Los_Angeles:20251207T120000
DTSTAMP:20260422T152035
CREATED:20251125T174444Z
LAST-MODIFIED:20251125T174444Z
UID:3134-1765098000-1765108800@lancasterelkslodge1625.org
SUMMARY:Elks Memorial Program
DESCRIPTION:
URL:https://lancasterelkslodge1625.org/event/elks-memorial-program/
LOCATION:Elks Lodge #1625\, 240 E Ave k\, Lancaster\, CA\, 93535\, United States
CATEGORIES:Social
ATTACH;FMTTYPE=application/pdf:https://lancasterelkslodge1625.org/wp-content/uploads/2025/11/December-7th-Memorial-Service.pdf
END:VEVENT
BEGIN:VEVENT
DTSTART;TZID=America/Los_Angeles:20251207T093000
DTEND;TZID=America/Los_Angeles:20251207T120000
DTSTAMP:20260422T152035
CREATED:20251125T174844Z
LAST-MODIFIED:20251125T174900Z
UID:3138-1765099800-1765108800@lancasterelkslodge1625.org
SUMMARY:Breakfast
DESCRIPTION:
URL:https://lancasterelkslodge1625.org/event/breakfast-18/
LOCATION:Elks Lodge #1625\, 240 E Ave k\, Lancaster\, CA\, 93535\, United States
CATEGORIES:Dining,Social
ATTACH;FMTTYPE=image/jpeg:https://lancasterelkslodge1625.org/wp-content/uploads/2025/02/471604501_903223825310380_8747720846203576067_n.jpg
END:VEVENT
BEGIN:VEVENT
DTSTART;TZID=America/Los_Angeles:20251208T110000
DTEND;TZID=America/Los_Angeles:20251208T140000
DTSTAMP:20260422T152035
CREATED:20251125T175034Z
LAST-MODIFIED:20251125T175034Z
UID:3142-1765191600-1765202400@lancasterelkslodge1625.org
SUMMARY:Burgers and Dogs
DESCRIPTION:
URL:https://lancasterelkslodge1625.org/event/burgers-and-dogs-34/
LOCATION:Elks Lodge #1625\, 240 E Ave k\, Lancaster\, CA\, 93535\, United States
CATEGORIES:Dining,Social
ATTACH;FMTTYPE=image/png:https://lancasterelkslodge1625.org/wp-content/uploads/2025/02/image.png
END:VEVENT
BEGIN:VEVENT
DTSTART;TZID=America/Los_Angeles:20251208T160000
DTEND;TZID=America/Los_Angeles:20251208T190000
DTSTAMP:20260422T152035
CREATED:20251125T175155Z
LAST-MODIFIED:20251125T175155Z
UID:3145-1765209600-1765220400@lancasterelkslodge1625.org
SUMMARY:Cribbage
DESCRIPTION:
URL:https://lancasterelkslodge1625.org/event/cribbage-45/
LOCATION:Elks Lodge #1625\, 240 E Ave k\, Lancaster\, CA\, 93535\, United States
CATEGORIES:Social
ATTACH;FMTTYPE=image/png:https://lancasterelkslodge1625.org/wp-content/uploads/2025/02/image-3.png
END:VEVENT
BEGIN:VEVENT
DTSTART;TZID=America/Los_Angeles:20251208T160000
DTEND;TZID=America/Los_Angeles:20251208T190000
DTSTAMP:20260422T152035
CREATED:20251125T180143Z
LAST-MODIFIED:20251125T180143Z
UID:3154-1765209600-1765220400@lancasterelkslodge1625.org
SUMMARY:Dogs at the bar
DESCRIPTION:
URL:https://lancasterelkslodge1625.org/event/dogs-at-the-bar-119/
LOCATION:Elks Lodge #1625\, 240 E Ave k\, Lancaster\, CA\, 93535\, United States
CATEGORIES:Dining,Social
ATTACH;FMTTYPE=image/webp:https://lancasterelkslodge1625.org/wp-content/uploads/2025/02/hotdogs.webp
END:VEVENT
BEGIN:VEVENT
DTSTART;TZID=America/Los_Angeles:20251208T180000
DTEND;TZID=America/Los_Angeles:20251208T190000
DTSTAMP:20260422T152035
CREATED:20251125T175309Z
LAST-MODIFIED:20251125T175309Z
UID:3148-1765216800-1765220400@lancasterelkslodge1625.org
SUMMARY:Rage of the Sage RV Club
DESCRIPTION:
URL:https://lancasterelkslodge1625.org/event/rage-of-the-sage-rv-club/
LOCATION:Elks Lodge #1625\, 240 E Ave k\, Lancaster\, CA\, 93535\, United States
CATEGORIES:RV Club,Social
END:VEVENT
BEGIN:VEVENT
DTSTART;TZID=America/Los_Angeles:20251208T183000
DTEND;TZID=America/Los_Angeles:20251208T210000
DTSTAMP:20260422T152035
CREATED:20251125T175503Z
LAST-MODIFIED:20251125T175503Z
UID:3151-1765218600-1765227600@lancasterelkslodge1625.org
SUMMARY:Line Dancing
DESCRIPTION:
URL:https://lancasterelkslodge1625.org/event/line-dancing-45/
LOCATION:Elks Lodge #1625\, 240 E Ave k\, Lancaster\, CA\, 93535\, United States
CATEGORIES:Exercise,Social
END:VEVENT
BEGIN:VEVENT
DTSTART;TZID=America/Los_Angeles:20251209T170000
DTEND;TZID=America/Los_Angeles:20251209T183000
DTSTAMP:20260422T152035
CREATED:20251125T180419Z
LAST-MODIFIED:20251125T180419Z
UID:3157-1765299600-1765305000@lancasterelkslodge1625.org
SUMMARY:Purple Pig Night
DESCRIPTION:Purple Pig Night
URL:https://lancasterelkslodge1625.org/event/purple-pig-night-3/
LOCATION:Elks Lodge #1625\, 240 E Ave k\, Lancaster\, CA\, 93535\, United States
CATEGORIES:Charity,Dining,Social
ATTACH;FMTTYPE=application/pdf:https://lancasterelkslodge1625.org/wp-content/uploads/2025/11/Dec-9th-Purple-Pig-Night.pdf
END:VEVENT
BEGIN:VEVENT
DTSTART;TZID=America/Los_Angeles:20251209T190000
DTEND;TZID=America/Los_Angeles:20251209T203000
DTSTAMP:20260422T152035
CREATED:20251125T180615Z
LAST-MODIFIED:20251125T180615Z
UID:3161-1765306800-1765312200@lancasterelkslodge1625.org
SUMMARY:Elks Meeting
DESCRIPTION:
URL:https://lancasterelkslodge1625.org/event/elks-meeting-22/
LOCATION:Elks Lodge #1625\, 240 E Ave k\, Lancaster\, CA\, 93535\, United States
CATEGORIES:Closed Meeting,Social
END:VEVENT
BEGIN:VEVENT
DTSTART;TZID=America/Los_Angeles:20251210T160000
DTEND;TZID=America/Los_Angeles:20251210T190000
DTSTAMP:20260422T152035
CREATED:20251125T180738Z
LAST-MODIFIED:20251125T180738Z
UID:3164-1765382400-1765393200@lancasterelkslodge1625.org
SUMMARY:Dogs at the bar
DESCRIPTION:
URL:https://lancasterelkslodge1625.org/event/dogs-at-the-bar-120/
LOCATION:Elks Lodge #1625\, 240 E Ave k\, Lancaster\, CA\, 93535\, United States
CATEGORIES:Dining,Social
ATTACH;FMTTYPE=image/webp:https://lancasterelkslodge1625.org/wp-content/uploads/2025/02/hotdogs.webp
END:VEVENT
BEGIN:VEVENT
DTSTART;TZID=America/Los_Angeles:20251213T163000
DTEND;TZID=America/Los_Angeles:20251213T183000
DTSTAMP:20260422T152035
CREATED:20251125T181346Z
LAST-MODIFIED:20251125T181430Z
UID:3176-1765643400-1765650600@lancasterelkslodge1625.org
SUMMARY:Adults Only Xmas Party / Dinner / Music
DESCRIPTION:
URL:https://lancasterelkslodge1625.org/event/adults-only-xmas-party/
LOCATION:Elks Lodge #1625\, 240 E Ave k\, Lancaster\, CA\, 93535\, United States
CATEGORIES:Dining,Holiday,Social
ATTACH;FMTTYPE=application/pdf:https://lancasterelkslodge1625.org/wp-content/uploads/2025/11/2025-Xmas-Party-rev1.pdf
END:VEVENT
BEGIN:VEVENT
DTSTART;TZID=America/Los_Angeles:20251214T090000
DTEND;TZID=America/Los_Angeles:20251214T120000
DTSTAMP:20260422T152035
CREATED:20251125T181548Z
LAST-MODIFIED:20251125T181549Z
UID:3183-1765702800-1765713600@lancasterelkslodge1625.org
SUMMARY:Breakfast
DESCRIPTION:
URL:https://lancasterelkslodge1625.org/event/breakfast-19/
LOCATION:Elks Lodge #1625\, 240 E Ave k\, Lancaster\, CA\, 93535\, United States
CATEGORIES:Dining,Social
ATTACH;FMTTYPE=image/jpeg:https://lancasterelkslodge1625.org/wp-content/uploads/2025/02/471604501_903223825310380_8747720846203576067_n.jpg
END:VEVENT
BEGIN:VEVENT
DTSTART;TZID=America/Los_Angeles:20251215T110000
DTEND;TZID=America/Los_Angeles:20251215T140000
DTSTAMP:20260422T152035
CREATED:20251125T181707Z
LAST-MODIFIED:20251125T181707Z
UID:3186-1765796400-1765807200@lancasterelkslodge1625.org
SUMMARY:Burgers and Dogs
DESCRIPTION:
URL:https://lancasterelkslodge1625.org/event/burgers-and-dogs-35/
LOCATION:Elks Lodge #1625\, 240 E Ave k\, Lancaster\, CA\, 93535\, United States
CATEGORIES:Dining,Social
ATTACH;FMTTYPE=image/png:https://lancasterelkslodge1625.org/wp-content/uploads/2025/02/image.png
END:VEVENT
BEGIN:VEVENT
DTSTART;TZID=America/Los_Angeles:20251215T160000
DTEND;TZID=America/Los_Angeles:20251215T190000
DTSTAMP:20260422T152035
CREATED:20251125T181840Z
LAST-MODIFIED:20251125T181840Z
UID:3189-1765814400-1765825200@lancasterelkslodge1625.org
SUMMARY:Cribbage
DESCRIPTION:
URL:https://lancasterelkslodge1625.org/event/cribbage-46/
LOCATION:Elks Lodge #1625\, 240 E Ave k\, Lancaster\, CA\, 93535\, United States
CATEGORIES:Social
ATTACH;FMTTYPE=image/png:https://lancasterelkslodge1625.org/wp-content/uploads/2025/02/image-3.png
END:VEVENT
BEGIN:VEVENT
DTSTART;TZID=America/Los_Angeles:20251215T160000
DTEND;TZID=America/Los_Angeles:20251215T190000
DTSTAMP:20260422T152035
CREATED:20251125T182122Z
LAST-MODIFIED:20251125T182122Z
UID:3195-1765814400-1765825200@lancasterelkslodge1625.org
SUMMARY:Dogs at the bar
DESCRIPTION:
URL:https://lancasterelkslodge1625.org/event/dogs-at-the-bar-122/
LOCATION:Elks Lodge #1625\, 240 E Ave k\, Lancaster\, CA\, 93535\, United States
CATEGORIES:Dining,Social
ATTACH;FMTTYPE=image/webp:https://lancasterelkslodge1625.org/wp-content/uploads/2025/02/hotdogs.webp
END:VEVENT
BEGIN:VEVENT
DTSTART;TZID=America/Los_Angeles:20251215T183000
DTEND;TZID=America/Los_Angeles:20251215T210000
DTSTAMP:20260422T152035
CREATED:20251125T182026Z
LAST-MODIFIED:20251125T182026Z
UID:3192-1765823400-1765832400@lancasterelkslodge1625.org
SUMMARY:Line Dancing
DESCRIPTION:
URL:https://lancasterelkslodge1625.org/event/line-dancing-46/
LOCATION:Elks Lodge #1625\, 240 E Ave k\, Lancaster\, CA\, 93535\, United States
CATEGORIES:Exercise,Social
ATTACH;FMTTYPE=image/jpeg:https://lancasterelkslodge1625.org/wp-content/uploads/2025/10/Line-Dancing-scaled.jpg
END:VEVENT
BEGIN:VEVENT
DTSTART;TZID=America/Los_Angeles:20251216T170000
DTEND;TZID=America/Los_Angeles:20251216T183000
DTSTAMP:20260422T152035
CREATED:20251125T182309Z
LAST-MODIFIED:20251125T182309Z
UID:3198-1765904400-1765909800@lancasterelkslodge1625.org
SUMMARY:Rachel's Taco Dinner
DESCRIPTION:
URL:https://lancasterelkslodge1625.org/event/rachels-taco-dinner/
LOCATION:Elks Lodge #1625\, 240 E Ave k\, Lancaster\, CA\, 93535\, United States
CATEGORIES:Dining,Social
END:VEVENT
BEGIN:VEVENT
DTSTART;TZID=America/Los_Angeles:20251217T160000
DTEND;TZID=America/Los_Angeles:20251217T190000
DTSTAMP:20260422T152035
CREATED:20251125T182701Z
LAST-MODIFIED:20251125T182701Z
UID:3204-1765987200-1765998000@lancasterelkslodge1625.org
SUMMARY:Dogs at the bar
DESCRIPTION:
URL:https://lancasterelkslodge1625.org/event/dogs-at-the-bar-123/
LOCATION:Elks Lodge #1625\, 240 E Ave k\, Lancaster\, CA\, 93535\, United States
CATEGORIES:Dining,Social
ATTACH;FMTTYPE=image/webp:https://lancasterelkslodge1625.org/wp-content/uploads/2025/02/hotdogs.webp
END:VEVENT
BEGIN:VEVENT
DTSTART;TZID=America/Los_Angeles:20251219T160000
DTEND;TZID=America/Los_Angeles:20251219T190000
DTSTAMP:20260422T152035
CREATED:20251125T183027Z
LAST-MODIFIED:20251125T183027Z
UID:3210-1766160000-1766170800@lancasterelkslodge1625.org
SUMMARY:Dogs at the bar
DESCRIPTION:
URL:https://lancasterelkslodge1625.org/event/dogs-at-the-bar-124/
LOCATION:Elks Lodge #1625\, 240 E Ave k\, Lancaster\, CA\, 93535\, United States
CATEGORIES:Dining,Social
ATTACH;FMTTYPE=image/webp:https://lancasterelkslodge1625.org/wp-content/uploads/2025/02/hotdogs.webp
END:VEVENT
END:VCALENDAR