BEGIN:VCALENDAR
VERSION:2.0
PRODID:-//Lancaster Elks Lodge #1625 - ECPv6.15.20//NONSGML v1.0//EN
CALSCALE:GREGORIAN
METHOD:PUBLISH
X-WR-CALNAME:Lancaster Elks Lodge #1625
X-ORIGINAL-URL:https://lancasterelkslodge1625.org
X-WR-CALDESC:Events for Lancaster Elks Lodge #1625
REFRESH-INTERVAL;VALUE=DURATION:PT1H
X-Robots-Tag:noindex
X-PUBLISHED-TTL:PT1H
BEGIN:VTIMEZONE
TZID:America/Los_Angeles
BEGIN:DAYLIGHT
TZOFFSETFROM:-0800
TZOFFSETTO:-0700
TZNAME:PDT
DTSTART:20240310T100000
END:DAYLIGHT
BEGIN:STANDARD
TZOFFSETFROM:-0700
TZOFFSETTO:-0800
TZNAME:PST
DTSTART:20241103T090000
END:STANDARD
BEGIN:DAYLIGHT
TZOFFSETFROM:-0800
TZOFFSETTO:-0700
TZNAME:PDT
DTSTART:20250309T100000
END:DAYLIGHT
BEGIN:STANDARD
TZOFFSETFROM:-0700
TZOFFSETTO:-0800
TZNAME:PST
DTSTART:20251102T090000
END:STANDARD
BEGIN:DAYLIGHT
TZOFFSETFROM:-0800
TZOFFSETTO:-0700
TZNAME:PDT
DTSTART:20260308T100000
END:DAYLIGHT
BEGIN:STANDARD
TZOFFSETFROM:-0700
TZOFFSETTO:-0800
TZNAME:PST
DTSTART:20261101T090000
END:STANDARD
END:VTIMEZONE
BEGIN:VEVENT
DTSTART;TZID=America/Los_Angeles:20250217T030000
DTEND;TZID=America/Los_Angeles:20250217T060000
DTSTAMP:20260423T083635
CREATED:20250205T230243Z
LAST-MODIFIED:20250206T002326Z
UID:446-1739761200-1739772000@lancasterelkslodge1625.org
SUMMARY:Burgers & Dogs
DESCRIPTION:
URL:https://lancasterelkslodge1625.org/event/burgers-dogs-2/
LOCATION:Elks Lodge #1625\, 240 E Ave k\, Lancaster\, CA\, 93535\, United States
CATEGORIES:Dining,Social
END:VEVENT
BEGIN:VEVENT
DTSTART;TZID=America/Los_Angeles:20250217T080000
DTEND;TZID=America/Los_Angeles:20250217T090000
DTSTAMP:20260423T083635
CREATED:20250205T230316Z
LAST-MODIFIED:20250206T004627Z
UID:449-1739779200-1739782800@lancasterelkslodge1625.org
SUMMARY:Cribbage
DESCRIPTION:
URL:https://lancasterelkslodge1625.org/event/cribbage-3/
LOCATION:Elks Lodge #1625\, 240 E Ave k\, Lancaster\, CA\, 93535\, United States
CATEGORIES:Social
ATTACH;FMTTYPE=image/png:https://lancasterelkslodge1625.org/wp-content/uploads/2025/02/image-3.png
END:VEVENT
BEGIN:VEVENT
DTSTART;TZID=America/Los_Angeles:20250217T080000
DTEND;TZID=America/Los_Angeles:20250217T110000
DTSTAMP:20260423T083635
CREATED:20250205T230503Z
LAST-MODIFIED:20250221T175004Z
UID:452-1739779200-1739790000@lancasterelkslodge1625.org
SUMMARY:Hotdogs @ the bar
DESCRIPTION:
URL:https://lancasterelkslodge1625.org/event/hotdogs-the-bar-3/
LOCATION:Elks Lodge #1625\, 240 E Ave k\, Lancaster\, CA\, 93535\, United States
CATEGORIES:Dining,Social
END:VEVENT
BEGIN:VEVENT
DTSTART;TZID=America/Los_Angeles:20250217T103000
DTEND;TZID=America/Los_Angeles:20250217T113000
DTSTAMP:20260423T083635
CREATED:20250205T230542Z
LAST-MODIFIED:20250205T230542Z
UID:455-1739788200-1739791800@lancasterelkslodge1625.org
SUMMARY:Line Dancing
DESCRIPTION:
URL:https://lancasterelkslodge1625.org/event/line-dancing-3/
LOCATION:CA
CATEGORIES:Exercise,Social
END:VEVENT
END:VCALENDAR