BEGIN:VCALENDAR
VERSION:2.0
PRODID:-//Lancaster Elks Lodge #1625 - ECPv6.15.20//NONSGML v1.0//EN
CALSCALE:GREGORIAN
METHOD:PUBLISH
X-ORIGINAL-URL:https://lancasterelkslodge1625.org
X-WR-CALDESC:Events for Lancaster Elks Lodge #1625
REFRESH-INTERVAL;VALUE=DURATION:PT1H
X-Robots-Tag:noindex
X-PUBLISHED-TTL:PT1H
BEGIN:VTIMEZONE
TZID:America/Los_Angeles
BEGIN:DAYLIGHT
TZOFFSETFROM:-0800
TZOFFSETTO:-0700
TZNAME:PDT
DTSTART:20250309T100000
END:DAYLIGHT
BEGIN:STANDARD
TZOFFSETFROM:-0700
TZOFFSETTO:-0800
TZNAME:PST
DTSTART:20251102T090000
END:STANDARD
BEGIN:DAYLIGHT
TZOFFSETFROM:-0800
TZOFFSETTO:-0700
TZNAME:PDT
DTSTART:20260308T100000
END:DAYLIGHT
BEGIN:STANDARD
TZOFFSETFROM:-0700
TZOFFSETTO:-0800
TZNAME:PST
DTSTART:20261101T090000
END:STANDARD
BEGIN:DAYLIGHT
TZOFFSETFROM:-0800
TZOFFSETTO:-0700
TZNAME:PDT
DTSTART:20270314T100000
END:DAYLIGHT
BEGIN:STANDARD
TZOFFSETFROM:-0700
TZOFFSETTO:-0800
TZNAME:PST
DTSTART:20271107T090000
END:STANDARD
END:VTIMEZONE
BEGIN:VEVENT
DTSTART;TZID=America/Los_Angeles:20260316T110000
DTEND;TZID=America/Los_Angeles:20260316T140000
DTSTAMP:20260422T155338
CREATED:20260227T213454Z
LAST-MODIFIED:20260227T213454Z
UID:3733-1773658800-1773669600@lancasterelkslodge1625.org
SUMMARY:Burgers and Dogs
DESCRIPTION:
URL:https://lancasterelkslodge1625.org/event/burgers-and-dogs-47/
LOCATION:Elks Lodge #1625\, 240 E Ave k\, Lancaster\, CA\, 93535\, United States
CATEGORIES:Dining,Social
ATTACH;FMTTYPE=image/png:https://lancasterelkslodge1625.org/wp-content/uploads/2025/02/image.png
END:VEVENT
BEGIN:VEVENT
DTSTART;TZID=America/Los_Angeles:20260316T160000
DTEND;TZID=America/Los_Angeles:20260316T190000
DTSTAMP:20260422T155338
CREATED:20260227T213633Z
LAST-MODIFIED:20260227T213633Z
UID:3736-1773676800-1773687600@lancasterelkslodge1625.org
SUMMARY:Cribbage
DESCRIPTION:
URL:https://lancasterelkslodge1625.org/event/cribbage-59/
LOCATION:Elks Lodge #1625\, 240 E Ave k\, Lancaster\, CA\, 93535\, United States
CATEGORIES:Social
ATTACH;FMTTYPE=image/png:https://lancasterelkslodge1625.org/wp-content/uploads/2025/02/image-3.png
END:VEVENT
BEGIN:VEVENT
DTSTART;TZID=America/Los_Angeles:20260316T160000
DTEND;TZID=America/Los_Angeles:20260316T190000
DTSTAMP:20260422T155338
CREATED:20260227T214437Z
LAST-MODIFIED:20260227T214437Z
UID:3742-1773676800-1773687600@lancasterelkslodge1625.org
SUMMARY:Dogs at the Bar
DESCRIPTION:
URL:https://lancasterelkslodge1625.org/event/dogs-at-the-bar-158/
LOCATION:Elks Lodge #1625\, 240 E Ave k\, Lancaster\, CA\, 93535\, United States
CATEGORIES:Dining,Social
ATTACH;FMTTYPE=image/webp:https://lancasterelkslodge1625.org/wp-content/uploads/2025/02/hotdogs.webp
END:VEVENT
BEGIN:VEVENT
DTSTART;TZID=America/Los_Angeles:20260316T183000
DTEND;TZID=America/Los_Angeles:20260316T210000
DTSTAMP:20260422T155338
CREATED:20260227T214316Z
LAST-MODIFIED:20260227T214316Z
UID:3739-1773685800-1773694800@lancasterelkslodge1625.org
SUMMARY:Line Dancing
DESCRIPTION:
URL:https://lancasterelkslodge1625.org/event/line-dancing-59/
LOCATION:Elks Lodge #1625\, 240 E Ave k\, Lancaster\, CA\, 93535\, United States
CATEGORIES:Exercise,Social
ATTACH;FMTTYPE=image/jpeg:https://lancasterelkslodge1625.org/wp-content/uploads/2025/10/Line-Dancing-scaled.jpg
END:VEVENT
BEGIN:VEVENT
DTSTART;TZID=America/Los_Angeles:20260317T170000
DTEND;TZID=America/Los_Angeles:20260317T183000
DTSTAMP:20260422T155338
CREATED:20260227T214926Z
LAST-MODIFIED:20260227T214926Z
UID:3750-1773766800-1773772200@lancasterelkslodge1625.org
SUMMARY:Dinner
DESCRIPTION:
URL:https://lancasterelkslodge1625.org/event/dinner-20/
LOCATION:Elks Lodge #1625\, 240 E Ave k\, Lancaster\, CA\, 93535\, United States
CATEGORIES:Dining,Social
END:VEVENT
BEGIN:VEVENT
DTSTART;TZID=America/Los_Angeles:20260318T160000
DTEND;TZID=America/Los_Angeles:20260318T190000
DTSTAMP:20260422T155338
CREATED:20260227T215217Z
LAST-MODIFIED:20260227T215217Z
UID:3759-1773849600-1773860400@lancasterelkslodge1625.org
SUMMARY:Dogs at the Bar
DESCRIPTION:
URL:https://lancasterelkslodge1625.org/event/dogs-at-the-bar-159/
LOCATION:Elks Lodge #1625\, 240 E Ave k\, Lancaster\, CA\, 93535\, United States
CATEGORIES:Dining,Social
ATTACH;FMTTYPE=image/webp:https://lancasterelkslodge1625.org/wp-content/uploads/2025/02/hotdogs.webp
END:VEVENT
BEGIN:VEVENT
DTSTART;TZID=America/Los_Angeles:20260318T180000
DTEND;TZID=America/Los_Angeles:20260318T190000
DTSTAMP:20260422T155338
CREATED:20260227T215318Z
LAST-MODIFIED:20260227T215318Z
UID:3762-1773856800-1773860400@lancasterelkslodge1625.org
SUMMARY:Orientation
DESCRIPTION:
URL:https://lancasterelkslodge1625.org/event/orientation-12/
LOCATION:Elks Lodge #1625\, 240 E Ave k\, Lancaster\, CA\, 93535\, United States
CATEGORIES:Closed Meeting,Social
END:VEVENT
BEGIN:VEVENT
DTSTART;TZID=America/Los_Angeles:20260320T160000
DTEND;TZID=America/Los_Angeles:20260320T190000
DTSTAMP:20260422T155338
CREATED:20260227T220850Z
LAST-MODIFIED:20260227T220850Z
UID:3768-1774022400-1774033200@lancasterelkslodge1625.org
SUMMARY:Dogs at the Bar
DESCRIPTION:
URL:https://lancasterelkslodge1625.org/event/dogs-at-the-bar-160/
LOCATION:Elks Lodge #1625\, 240 E Ave k\, Lancaster\, CA\, 93535\, United States
CATEGORIES:Dining,Social
END:VEVENT
BEGIN:VEVENT
DTSTART;TZID=America/Los_Angeles:20260321T170000
DTEND;TZID=America/Los_Angeles:20260321T183000
DTSTAMP:20260422T155338
CREATED:20260227T221053Z
LAST-MODIFIED:20260227T221053Z
UID:3771-1774112400-1774117800@lancasterelkslodge1625.org
SUMMARY:Purple Pig Night Dinner (Sherri Chefs Cooking) & Music
DESCRIPTION:
URL:https://lancasterelkslodge1625.org/event/purple-pig-night-dinner-sherri-chefs-cooking-music/
LOCATION:Elks Lodge #1625\, 240 E Ave k\, Lancaster\, CA\, 93535\, United States
CATEGORIES:Charity,Dining,Social
ATTACH;FMTTYPE=image/png:https://lancasterelkslodge1625.org/wp-content/uploads/2026/02/purplepig.png
END:VEVENT
BEGIN:VEVENT
DTSTART;TZID=America/Los_Angeles:20260322T090000
DTEND;TZID=America/Los_Angeles:20260322T120000
DTSTAMP:20260422T155338
CREATED:20260227T225700Z
LAST-MODIFIED:20260227T225700Z
UID:3775-1774170000-1774180800@lancasterelkslodge1625.org
SUMMARY:Sunday Breakfast
DESCRIPTION:
URL:https://lancasterelkslodge1625.org/event/sunday-breakfast-38/
LOCATION:Elks Lodge #1625\, 240 E Ave k\, Lancaster\, CA\, 93535\, United States
CATEGORIES:Dining,Social
ATTACH;FMTTYPE=image/jpeg:https://lancasterelkslodge1625.org/wp-content/uploads/2025/02/471604501_903223825310380_8747720846203576067_n.jpg
END:VEVENT
BEGIN:VEVENT
DTSTART;TZID=America/Los_Angeles:20260323T110000
DTEND;TZID=America/Los_Angeles:20260323T140000
DTSTAMP:20260422T155338
CREATED:20260227T225757Z
LAST-MODIFIED:20260227T225757Z
UID:3778-1774263600-1774274400@lancasterelkslodge1625.org
SUMMARY:Burgers and Dogs
DESCRIPTION:
URL:https://lancasterelkslodge1625.org/event/burgers-and-dogs-48/
LOCATION:Elks Lodge #1625\, 240 E Ave k\, Lancaster\, CA\, 93535\, United States
CATEGORIES:Dining,Social
ATTACH;FMTTYPE=image/png:https://lancasterelkslodge1625.org/wp-content/uploads/2025/02/image.png
END:VEVENT
BEGIN:VEVENT
DTSTART;TZID=America/Los_Angeles:20260323T160000
DTEND;TZID=America/Los_Angeles:20260323T190000
DTSTAMP:20260422T155338
CREATED:20260227T225856Z
LAST-MODIFIED:20260227T225856Z
UID:3781-1774281600-1774292400@lancasterelkslodge1625.org
SUMMARY:Cribbage
DESCRIPTION:
URL:https://lancasterelkslodge1625.org/event/cribbage-60/
LOCATION:Elks Lodge #1625\, 240 E Ave k\, Lancaster\, CA\, 93535\, United States
CATEGORIES:Social
ATTACH;FMTTYPE=image/png:https://lancasterelkslodge1625.org/wp-content/uploads/2025/02/image-3.png
END:VEVENT
BEGIN:VEVENT
DTSTART;TZID=America/Los_Angeles:20260323T160000
DTEND;TZID=America/Los_Angeles:20260323T190000
DTSTAMP:20260422T155338
CREATED:20260227T230248Z
LAST-MODIFIED:20260227T230248Z
UID:3787-1774281600-1774292400@lancasterelkslodge1625.org
SUMMARY:Dogs at the Bar
DESCRIPTION:
URL:https://lancasterelkslodge1625.org/event/dogs-at-the-bar-161/
LOCATION:Elks Lodge #1625\, 240 E Ave k\, Lancaster\, CA\, 93535\, United States
CATEGORIES:Dining,Social
ATTACH;FMTTYPE=image/webp:https://lancasterelkslodge1625.org/wp-content/uploads/2025/02/hotdogs.webp
END:VEVENT
BEGIN:VEVENT
DTSTART;TZID=America/Los_Angeles:20260323T183000
DTEND;TZID=America/Los_Angeles:20260323T210000
DTSTAMP:20260422T155338
CREATED:20260227T230001Z
LAST-MODIFIED:20260227T230001Z
UID:3784-1774290600-1774299600@lancasterelkslodge1625.org
SUMMARY:Line Dancing
DESCRIPTION:
URL:https://lancasterelkslodge1625.org/event/line-dancing-60/
LOCATION:Elks Lodge #1625\, 240 E Ave k\, Lancaster\, CA\, 93535\, United States
CATEGORIES:Exercise,Social
END:VEVENT
BEGIN:VEVENT
DTSTART;TZID=America/Los_Angeles:20260323T183000
DTEND;TZID=America/Los_Angeles:20260323T210000
DTSTAMP:20260422T155338
CREATED:20260227T230539Z
LAST-MODIFIED:20260307T170655Z
UID:3790-1774290600-1774299600@lancasterelkslodge1625.org
SUMMARY:Board Game(s) Night (CANCELLED DUE TO LOW ATTENDANCE)
DESCRIPTION:
URL:https://lancasterelkslodge1625.org/event/board-games-night/
LOCATION:Elks Lodge #1625\, 240 E Ave k\, Lancaster\, CA\, 93535\, United States
CATEGORIES:Cancelled,Social
END:VEVENT
BEGIN:VEVENT
DTSTART;TZID=America/Los_Angeles:20260324T170000
DTEND;TZID=America/Los_Angeles:20260324T183000
DTSTAMP:20260422T155338
CREATED:20260227T230702Z
LAST-MODIFIED:20260227T230702Z
UID:3793-1774371600-1774377000@lancasterelkslodge1625.org
SUMMARY:Wanda's Meatloaf Dinner
DESCRIPTION:
URL:https://lancasterelkslodge1625.org/event/wandas-meatloaf-dinner-2/
LOCATION:Elks Lodge #1625\, 240 E Ave k\, Lancaster\, CA\, 93535\, United States
CATEGORIES:Dining,Social
END:VEVENT
BEGIN:VEVENT
DTSTART;TZID=America/Los_Angeles:20260325T160000
DTEND;TZID=America/Los_Angeles:20260325T190000
DTSTAMP:20260422T155338
CREATED:20260227T230933Z
LAST-MODIFIED:20260227T230933Z
UID:3799-1774454400-1774465200@lancasterelkslodge1625.org
SUMMARY:Dogs at the Bar
DESCRIPTION:
URL:https://lancasterelkslodge1625.org/event/dogs-at-the-bar-162/
LOCATION:Elks Lodge #1625\, 240 E Ave k\, Lancaster\, CA\, 93535\, United States
CATEGORIES:Dining,Social
ATTACH;FMTTYPE=image/webp:https://lancasterelkslodge1625.org/wp-content/uploads/2025/02/hotdogs.webp
END:VEVENT
BEGIN:VEVENT
DTSTART;TZID=America/Los_Angeles:20260327T160000
DTEND;TZID=America/Los_Angeles:20260327T190000
DTSTAMP:20260422T155338
CREATED:20260227T231119Z
LAST-MODIFIED:20260227T231119Z
UID:3805-1774627200-1774638000@lancasterelkslodge1625.org
SUMMARY:Dogs at the Bar
DESCRIPTION:
URL:https://lancasterelkslodge1625.org/event/dogs-at-the-bar-163/
LOCATION:Elks Lodge #1625\, 240 E Ave k\, Lancaster\, CA\, 93535\, United States
CATEGORIES:Dining,Social
ATTACH;FMTTYPE=image/webp:https://lancasterelkslodge1625.org/wp-content/uploads/2025/02/hotdogs.webp
END:VEVENT
BEGIN:VEVENT
DTSTART;TZID=America/Los_Angeles:20260328T100000
DTEND;TZID=America/Los_Angeles:20260328T170000
DTSTAMP:20260422T155338
CREATED:20260303T150706Z
LAST-MODIFIED:20260303T150706Z
UID:3837-1774692000-1774717200@lancasterelkslodge1625.org
SUMMARY:National Vietname War Veterans Day Ceremony
DESCRIPTION:
URL:https://lancasterelkslodge1625.org/event/national-vietname-war-veterans-day-ceremony/
LOCATION:Lady Liberty Parking Lot\, 1924 Eye Street - SE Corner\, Bakersfield\, CA\, 93301\, United States
CATEGORIES:Open Meeting,Social
ATTACH;FMTTYPE=image/jpeg:https://lancasterelkslodge1625.org/wp-content/uploads/2026/03/644208348_1245253597806675_8705863435798194210_n.jpg
END:VEVENT
BEGIN:VEVENT
DTSTART;TZID=America/Los_Angeles:20260328T170000
DTEND;TZID=America/Los_Angeles:20260328T183000
DTSTAMP:20260422T155338
CREATED:20260227T231304Z
LAST-MODIFIED:20260227T231304Z
UID:3808-1774717200-1774722600@lancasterelkslodge1625.org
SUMMARY:Fish Fry
DESCRIPTION:
URL:https://lancasterelkslodge1625.org/event/fish-fry-10/
LOCATION:Elks Lodge #1625\, 240 E Ave k\, Lancaster\, CA\, 93535\, United States
CATEGORIES:Dining,Social
ATTACH;FMTTYPE=image/png:https://lancasterelkslodge1625.org/wp-content/uploads/2026/02/fishfry.png
END:VEVENT
BEGIN:VEVENT
DTSTART;TZID=America/Los_Angeles:20260329T090000
DTEND;TZID=America/Los_Angeles:20260329T120000
DTSTAMP:20260422T155338
CREATED:20260227T231522Z
LAST-MODIFIED:20260227T231522Z
UID:3812-1774774800-1774785600@lancasterelkslodge1625.org
SUMMARY:Sunday Breakfast
DESCRIPTION:
URL:https://lancasterelkslodge1625.org/event/sunday-breakfast-39/
LOCATION:Elks Lodge #1625\, 240 E Ave k\, Lancaster\, CA\, 93535\, United States
CATEGORIES:Dining,Social
ATTACH;FMTTYPE=image/jpeg:https://lancasterelkslodge1625.org/wp-content/uploads/2025/02/471604501_903223825310380_8747720846203576067_n.jpg
END:VEVENT
BEGIN:VEVENT
DTSTART;TZID=America/Los_Angeles:20260330T110000
DTEND;TZID=America/Los_Angeles:20260330T140000
DTSTAMP:20260422T155338
CREATED:20260227T231652Z
LAST-MODIFIED:20260227T231652Z
UID:3815-1774868400-1774879200@lancasterelkslodge1625.org
SUMMARY:Burgers and Dogs
DESCRIPTION:
URL:https://lancasterelkslodge1625.org/event/burgers-and-dogs-49/
LOCATION:CA
CATEGORIES:Dining,Social
ATTACH;FMTTYPE=image/png:https://lancasterelkslodge1625.org/wp-content/uploads/2025/02/image.png
END:VEVENT
BEGIN:VEVENT
DTSTART;TZID=America/Los_Angeles:20260330T160000
DTEND;TZID=America/Los_Angeles:20260330T190000
DTSTAMP:20260422T155338
CREATED:20260227T231743Z
LAST-MODIFIED:20260227T231743Z
UID:3818-1774886400-1774897200@lancasterelkslodge1625.org
SUMMARY:Cribbage
DESCRIPTION:
URL:https://lancasterelkslodge1625.org/event/cribbage-61/
LOCATION:Elks Lodge #1625\, 240 E Ave k\, Lancaster\, CA\, 93535\, United States
CATEGORIES:Social
ATTACH;FMTTYPE=image/png:https://lancasterelkslodge1625.org/wp-content/uploads/2025/02/image-3.png
END:VEVENT
BEGIN:VEVENT
DTSTART;TZID=America/Los_Angeles:20260330T160000
DTEND;TZID=America/Los_Angeles:20260330T190000
DTSTAMP:20260422T155338
CREATED:20260227T231956Z
LAST-MODIFIED:20260227T231956Z
UID:3825-1774886400-1774897200@lancasterelkslodge1625.org
SUMMARY:Dogs at the Bar
DESCRIPTION:
URL:https://lancasterelkslodge1625.org/event/dogs-at-the-bar-164/
LOCATION:Elks Lodge #1625\, 240 E Ave k\, Lancaster\, CA\, 93535\, United States
CATEGORIES:Dining,Social
ATTACH;FMTTYPE=image/webp:https://lancasterelkslodge1625.org/wp-content/uploads/2025/02/hotdogs.webp
END:VEVENT
BEGIN:VEVENT
DTSTART;TZID=America/Los_Angeles:20260330T183000
DTEND;TZID=America/Los_Angeles:20260330T210000
DTSTAMP:20260422T155338
CREATED:20260227T231906Z
LAST-MODIFIED:20260227T231906Z
UID:3822-1774895400-1774904400@lancasterelkslodge1625.org
SUMMARY:Line Dancing
DESCRIPTION:
URL:https://lancasterelkslodge1625.org/event/line-dancing-61/
LOCATION:Elks Lodge #1625\, 240 E Ave k\, Lancaster\, CA\, 93535\, United States
CATEGORIES:Exercise,Social
END:VEVENT
BEGIN:VEVENT
DTSTART;TZID=America/Los_Angeles:20260331T170000
DTEND;TZID=America/Los_Angeles:20260331T183000
DTSTAMP:20260422T155338
CREATED:20260227T232100Z
LAST-MODIFIED:20260227T232100Z
UID:3828-1774976400-1774981800@lancasterelkslodge1625.org
SUMMARY:Dinner
DESCRIPTION:
URL:https://lancasterelkslodge1625.org/event/dinner-21/
LOCATION:Elks Lodge #1625\, 240 E Ave k\, Lancaster\, CA\, 93535\, United States
CATEGORIES:Dining,Social
END:VEVENT
BEGIN:VEVENT
DTSTART;TZID=America/Los_Angeles:20260331T190000
DTEND;TZID=America/Los_Angeles:20260331T210000
DTSTAMP:20260422T155338
CREATED:20260227T232146Z
LAST-MODIFIED:20260319T142359Z
UID:3831-1774983600-1774990800@lancasterelkslodge1625.org
SUMMARY:Elks Meeting (Initiation)
DESCRIPTION:
URL:https://lancasterelkslodge1625.org/event/elks-meeting-33/
LOCATION:Elks Lodge #1625\, 240 E Ave k\, Lancaster\, CA\, 93535\, United States
CATEGORIES:Closed Meeting,Social
ATTACH;FMTTYPE=image/jpeg:https://lancasterelkslodge1625.org/wp-content/uploads/2026/03/650946025_1223580746608018_8035688406577368261_n.jpg
END:VEVENT
BEGIN:VEVENT
DTSTART;TZID=America/Los_Angeles:20260401T160000
DTEND;TZID=America/Los_Angeles:20260401T190000
DTSTAMP:20260422T155338
CREATED:20260318T161358Z
LAST-MODIFIED:20260318T161358Z
UID:3848-1775059200-1775070000@lancasterelkslodge1625.org
SUMMARY:Dogs at the Bar
DESCRIPTION:
URL:https://lancasterelkslodge1625.org/event/dogs-at-the-bar-165/
LOCATION:Elks Lodge #1625\, 240 E Ave k\, Lancaster\, CA\, 93535\, United States
CATEGORIES:Dining,Social
ATTACH;FMTTYPE=image/webp:https://lancasterelkslodge1625.org/wp-content/uploads/2025/02/hotdogs.webp
END:VEVENT
BEGIN:VEVENT
DTSTART;TZID=America/Los_Angeles:20260403T160000
DTEND;TZID=America/Los_Angeles:20260403T190000
DTSTAMP:20260422T155338
CREATED:20260318T170116Z
LAST-MODIFIED:20260318T170116Z
UID:3865-1775232000-1775242800@lancasterelkslodge1625.org
SUMMARY:Dogs at the Bar
DESCRIPTION:
URL:https://lancasterelkslodge1625.org/event/dogs-at-the-bar-166/
LOCATION:Elks Lodge #1625\, 240 E Ave k\, Lancaster\, CA\, 93535\, United States
CATEGORIES:Dining,Social
ATTACH;FMTTYPE=image/webp:https://lancasterelkslodge1625.org/wp-content/uploads/2025/02/hotdogs.webp
END:VEVENT
BEGIN:VEVENT
DTSTART;TZID=America/Los_Angeles:20260403T173000
DTEND;TZID=America/Los_Angeles:20260403T210000
DTSTAMP:20260422T155338
CREATED:20260318T172705Z
LAST-MODIFIED:20260318T172705Z
UID:3868-1775237400-1775250000@lancasterelkslodge1625.org
SUMMARY:Paint & Sip
DESCRIPTION:
URL:https://lancasterelkslodge1625.org/event/paint-sip-2/
LOCATION:Elks Lodge #1625\, 240 E Ave k\, Lancaster\, CA\, 93535\, United States
CATEGORIES:Charity,Social
ATTACH;FMTTYPE=image/jpeg:https://lancasterelkslodge1625.org/wp-content/uploads/2026/03/Paint-Sip-April-3.jpg
END:VEVENT
END:VCALENDAR