BEGIN:VCALENDAR
VERSION:2.0
PRODID:-//Lancaster Elks Lodge #1625 - ECPv6.15.20//NONSGML v1.0//EN
CALSCALE:GREGORIAN
METHOD:PUBLISH
X-ORIGINAL-URL:https://lancasterelkslodge1625.org
X-WR-CALDESC:Events for Lancaster Elks Lodge #1625
REFRESH-INTERVAL;VALUE=DURATION:PT1H
X-Robots-Tag:noindex
X-PUBLISHED-TTL:PT1H
BEGIN:VTIMEZONE
TZID:America/Los_Angeles
BEGIN:DAYLIGHT
TZOFFSETFROM:-0800
TZOFFSETTO:-0700
TZNAME:PDT
DTSTART:20240310T100000
END:DAYLIGHT
BEGIN:STANDARD
TZOFFSETFROM:-0700
TZOFFSETTO:-0800
TZNAME:PST
DTSTART:20241103T090000
END:STANDARD
BEGIN:DAYLIGHT
TZOFFSETFROM:-0800
TZOFFSETTO:-0700
TZNAME:PDT
DTSTART:20250309T100000
END:DAYLIGHT
BEGIN:STANDARD
TZOFFSETFROM:-0700
TZOFFSETTO:-0800
TZNAME:PST
DTSTART:20251102T090000
END:STANDARD
BEGIN:DAYLIGHT
TZOFFSETFROM:-0800
TZOFFSETTO:-0700
TZNAME:PDT
DTSTART:20260308T100000
END:DAYLIGHT
BEGIN:STANDARD
TZOFFSETFROM:-0700
TZOFFSETTO:-0800
TZNAME:PST
DTSTART:20261101T090000
END:STANDARD
END:VTIMEZONE
BEGIN:VEVENT
DTSTART;TZID=America/Los_Angeles:20251005T090000
DTEND;TZID=America/Los_Angeles:20251005T120000
DTSTAMP:20260423T021547
CREATED:20251002T153421Z
LAST-MODIFIED:20251002T153421Z
UID:2596-1759654800-1759665600@lancasterelkslodge1625.org
SUMMARY:Breakfast
DESCRIPTION:
URL:https://lancasterelkslodge1625.org/event/breakfast-15/
LOCATION:Elks Lodge #1625\, 240 E Ave k\, Lancaster\, CA\, 93535\, United States
CATEGORIES:Dining,Social
END:VEVENT
BEGIN:VEVENT
DTSTART;TZID=America/Los_Angeles:20251006T110000
DTEND;TZID=America/Los_Angeles:20251006T140000
DTSTAMP:20260423T021547
CREATED:20251003T125720Z
LAST-MODIFIED:20251003T125720Z
UID:2599-1759748400-1759759200@lancasterelkslodge1625.org
SUMMARY:Burgers and Dogs
DESCRIPTION:
URL:https://lancasterelkslodge1625.org/event/burgers-and-dogs-29/
LOCATION:Elks Lodge #1625\, 240 E Ave k\, Lancaster\, CA\, 93535\, United States
CATEGORIES:Dining,Social
ATTACH;FMTTYPE=image/png:https://lancasterelkslodge1625.org/wp-content/uploads/2025/02/image.png
END:VEVENT
BEGIN:VEVENT
DTSTART;TZID=America/Los_Angeles:20251006T160000
DTEND;TZID=America/Los_Angeles:20251006T190000
DTSTAMP:20260423T021547
CREATED:20251003T125951Z
LAST-MODIFIED:20251003T125951Z
UID:2605-1759766400-1759777200@lancasterelkslodge1625.org
SUMMARY:Cribbage
DESCRIPTION:
URL:https://lancasterelkslodge1625.org/event/cribbage-36/
LOCATION:Elks Lodge #1625\, 240 E Ave k\, Lancaster\, CA\, 93535\, United States
CATEGORIES:Social
ATTACH;FMTTYPE=image/png:https://lancasterelkslodge1625.org/wp-content/uploads/2025/02/image-3.png
END:VEVENT
BEGIN:VEVENT
DTSTART;TZID=America/Los_Angeles:20251006T160000
DTEND;TZID=America/Los_Angeles:20251006T190000
DTSTAMP:20260423T021547
CREATED:20251003T131804Z
LAST-MODIFIED:20251003T131804Z
UID:2614-1759766400-1759777200@lancasterelkslodge1625.org
SUMMARY:Dogs at the Bar
DESCRIPTION:
URL:https://lancasterelkslodge1625.org/event/dogs-at-the-bar-90/
LOCATION:Elks Lodge #1625\, 240 E Ave k\, Lancaster\, CA\, 93535\, United States
CATEGORIES:Dining,Social
ATTACH;FMTTYPE=image/webp:https://lancasterelkslodge1625.org/wp-content/uploads/2025/02/hotdogs.webp
END:VEVENT
BEGIN:VEVENT
DTSTART;TZID=America/Los_Angeles:20251006T183000
DTEND;TZID=America/Los_Angeles:20251006T210000
DTSTAMP:20260423T021547
CREATED:20251003T130258Z
LAST-MODIFIED:20251003T130258Z
UID:2611-1759775400-1759784400@lancasterelkslodge1625.org
SUMMARY:Line Dancing
DESCRIPTION:
URL:https://lancasterelkslodge1625.org/event/line-dancing-36/
LOCATION:Elks Lodge #1625\, 240 E Ave k\, Lancaster\, CA\, 93535\, United States
CATEGORIES:Exercise,Social
ATTACH;FMTTYPE=image/jpeg:https://lancasterelkslodge1625.org/wp-content/uploads/2025/10/2nd-Friday-Night-Elks-Dance-full-page.jpg
END:VEVENT
BEGIN:VEVENT
DTSTART;TZID=America/Los_Angeles:20251007T170000
DTEND;TZID=America/Los_Angeles:20251007T183000
DTSTAMP:20260423T021547
CREATED:20251003T134143Z
LAST-MODIFIED:20251003T134143Z
UID:2618-1759856400-1759861800@lancasterelkslodge1625.org
SUMMARY:Dinner
DESCRIPTION:
URL:https://lancasterelkslodge1625.org/event/dinner-14/
LOCATION:Elks Lodge #1625\, 240 E Ave k\, Lancaster\, CA\, 93535\, United States
CATEGORIES:Dining,Social
END:VEVENT
BEGIN:VEVENT
DTSTART;TZID=America/Los_Angeles:20251008T160000
DTEND;TZID=America/Los_Angeles:20251008T190000
DTSTAMP:20260423T021547
CREATED:20251003T134419Z
LAST-MODIFIED:20251003T134419Z
UID:2624-1759939200-1759950000@lancasterelkslodge1625.org
SUMMARY:Dogs at the Bar
DESCRIPTION:
URL:https://lancasterelkslodge1625.org/event/dogs-at-the-bar-91/
LOCATION:Elks Lodge #1625\, 240 E Ave k\, Lancaster\, CA\, 93535\, United States
CATEGORIES:Dining,Social
ATTACH;FMTTYPE=image/webp:https://lancasterelkslodge1625.org/wp-content/uploads/2025/02/hotdogs.webp
END:VEVENT
BEGIN:VEVENT
DTSTART;TZID=America/Los_Angeles:20251010T160000
DTEND;TZID=America/Los_Angeles:20251010T190000
DTSTAMP:20260423T021547
CREATED:20251003T135529Z
LAST-MODIFIED:20251003T135529Z
UID:2633-1760112000-1760122800@lancasterelkslodge1625.org
SUMMARY:Dogs at the Bar
DESCRIPTION:
URL:https://lancasterelkslodge1625.org/event/dogs-at-the-bar-92/
LOCATION:Elks Lodge #1625\, 240 E Ave k\, Lancaster\, CA\, 93535\, United States
CATEGORIES:Dining,Social
ATTACH;FMTTYPE=image/webp:https://lancasterelkslodge1625.org/wp-content/uploads/2025/02/hotdogs.webp
END:VEVENT
BEGIN:VEVENT
DTSTART;TZID=America/Los_Angeles:20251010T180000
DTEND;TZID=America/Los_Angeles:20251010T220000
DTSTAMP:20260423T021547
CREATED:20251003T140138Z
LAST-MODIFIED:20251003T140206Z
UID:2636-1760119200-1760133600@lancasterelkslodge1625.org
SUMMARY:Friday Night Dance
DESCRIPTION:
URL:https://lancasterelkslodge1625.org/event/friday-night-dance-6/
LOCATION:Elks Lodge #1625\, 240 E Ave k\, Lancaster\, CA\, 93535\, United States
CATEGORIES:Dining,Exercise,Social
ATTACH;FMTTYPE=image/jpeg:https://lancasterelkslodge1625.org/wp-content/uploads/2025/10/2nd-Friday-Night-Elks-Dance-full-page.jpg
END:VEVENT
BEGIN:VEVENT
DTSTART;TZID=America/Los_Angeles:20251011T170000
DTEND;TZID=America/Los_Angeles:20251011T183000
DTSTAMP:20260423T021547
CREATED:20251003T140414Z
LAST-MODIFIED:20251003T140428Z
UID:2639-1760202000-1760207400@lancasterelkslodge1625.org
SUMMARY:Oktoberfest Dinner
DESCRIPTION:Music by DJ Luis
URL:https://lancasterelkslodge1625.org/event/oktoberfest-dinner/
LOCATION:Elks Lodge #1625\, 240 E Ave k\, Lancaster\, CA\, 93535\, United States
CATEGORIES:Dining,Social
END:VEVENT
BEGIN:VEVENT
DTSTART;TZID=America/Los_Angeles:20251012T090000
DTEND;TZID=America/Los_Angeles:20251012T120000
DTSTAMP:20260423T021547
CREATED:20251003T140528Z
LAST-MODIFIED:20251003T140528Z
UID:2642-1760259600-1760270400@lancasterelkslodge1625.org
SUMMARY:Breakfast
DESCRIPTION:
URL:https://lancasterelkslodge1625.org/event/breakfast-16/
LOCATION:Elks Lodge #1625\, 240 E Ave k\, Lancaster\, CA\, 93535\, United States
CATEGORIES:Dining,Social
ATTACH;FMTTYPE=image/jpeg:https://lancasterelkslodge1625.org/wp-content/uploads/2025/02/471604501_903223825310380_8747720846203576067_n.jpg
END:VEVENT
BEGIN:VEVENT
DTSTART;TZID=America/Los_Angeles:20251013T110000
DTEND;TZID=America/Los_Angeles:20251013T140000
DTSTAMP:20260423T021547
CREATED:20251003T142858Z
LAST-MODIFIED:20251003T142858Z
UID:2645-1760353200-1760364000@lancasterelkslodge1625.org
SUMMARY:Burgers and Dogs
DESCRIPTION:
URL:https://lancasterelkslodge1625.org/event/burgers-and-dogs-30/
LOCATION:Elks Lodge #1625\, 240 E Ave k\, Lancaster\, CA\, 93535\, United States
CATEGORIES:Dining,Social
ATTACH;FMTTYPE=image/png:https://lancasterelkslodge1625.org/wp-content/uploads/2025/02/image.png
END:VEVENT
BEGIN:VEVENT
DTSTART;TZID=America/Los_Angeles:20251013T160000
DTEND;TZID=America/Los_Angeles:20251013T190000
DTSTAMP:20260423T021547
CREATED:20251003T143053Z
LAST-MODIFIED:20251003T143053Z
UID:2648-1760371200-1760382000@lancasterelkslodge1625.org
SUMMARY:Cribbage
DESCRIPTION:
URL:https://lancasterelkslodge1625.org/event/cribbage-37/
LOCATION:Elks Lodge #1625\, 240 E Ave k\, Lancaster\, CA\, 93535\, United States
CATEGORIES:Social
ATTACH;FMTTYPE=image/png:https://lancasterelkslodge1625.org/wp-content/uploads/2025/02/image-3.png
END:VEVENT
BEGIN:VEVENT
DTSTART;TZID=America/Los_Angeles:20251013T160000
DTEND;TZID=America/Los_Angeles:20251013T190000
DTSTAMP:20260423T021547
CREATED:20251003T151101Z
LAST-MODIFIED:20251003T151101Z
UID:2657-1760371200-1760382000@lancasterelkslodge1625.org
SUMMARY:Dogs at the Bar
DESCRIPTION:
URL:https://lancasterelkslodge1625.org/event/dogs-at-the-bar-93/
LOCATION:Elks Lodge #1625\, 240 E Ave k\, Lancaster\, CA\, 93535\, United States
CATEGORIES:Dining,Social
ATTACH;FMTTYPE=image/webp:https://lancasterelkslodge1625.org/wp-content/uploads/2025/02/hotdogs.webp
END:VEVENT
BEGIN:VEVENT
DTSTART;TZID=America/Los_Angeles:20251013T183000
DTEND;TZID=America/Los_Angeles:20251013T210000
DTSTAMP:20260423T021547
CREATED:20251003T145208Z
LAST-MODIFIED:20251003T145208Z
UID:2654-1760380200-1760389200@lancasterelkslodge1625.org
SUMMARY:Line Dancing
DESCRIPTION:
URL:https://lancasterelkslodge1625.org/event/line-dancing-37/
LOCATION:Elks Lodge #1625\, 240 E Ave k\, Lancaster\, CA\, 93535\, United States
CATEGORIES:Exercise,Social
ATTACH;FMTTYPE=image/png:https://lancasterelkslodge1625.org/wp-content/uploads/2025/02/image-1.png
END:VEVENT
BEGIN:VEVENT
DTSTART;TZID=America/Los_Angeles:20251014T170000
DTEND;TZID=America/Los_Angeles:20251014T183000
DTSTAMP:20260423T021547
CREATED:20251003T151629Z
LAST-MODIFIED:20251003T151629Z
UID:2660-1760461200-1760466600@lancasterelkslodge1625.org
SUMMARY:Dinner
DESCRIPTION:
URL:https://lancasterelkslodge1625.org/event/dinner-15/
LOCATION:Elks Lodge #1625\, 240 E Ave k\, Lancaster\, CA\, 93535\, United States
CATEGORIES:Dining,Social
END:VEVENT
BEGIN:VEVENT
DTSTART;TZID=America/Los_Angeles:20251015T160000
DTEND;TZID=America/Los_Angeles:20251015T190000
DTSTAMP:20260423T021547
CREATED:20251003T153259Z
LAST-MODIFIED:20251003T153259Z
UID:2666-1760544000-1760554800@lancasterelkslodge1625.org
SUMMARY:Dogs at the Bar
DESCRIPTION:
URL:https://lancasterelkslodge1625.org/event/dogs-at-the-bar-94/
LOCATION:Elks Lodge #1625\, 240 E Ave k\, Lancaster\, CA\, 93535\, United States
CATEGORIES:Dining,Social
ATTACH;FMTTYPE=image/webp:https://lancasterelkslodge1625.org/wp-content/uploads/2025/02/hotdogs.webp
END:VEVENT
BEGIN:VEVENT
DTSTART;TZID=America/Los_Angeles:20251017T160000
DTEND;TZID=America/Los_Angeles:20251017T190000
DTSTAMP:20260423T021547
CREATED:20251003T163221Z
LAST-MODIFIED:20251003T163221Z
UID:2675-1760716800-1760727600@lancasterelkslodge1625.org
SUMMARY:Dogs at the Bar
DESCRIPTION:
URL:https://lancasterelkslodge1625.org/event/dogs-at-the-bar-95/
LOCATION:Elks Lodge #1625\, 240 E Ave k\, Lancaster\, CA\, 93535\, United States
CATEGORIES:Dining,Social
ATTACH;FMTTYPE=image/webp:https://lancasterelkslodge1625.org/wp-content/uploads/2025/02/hotdogs.webp
END:VEVENT
BEGIN:VEVENT
DTSTART;TZID=America/Los_Angeles:20251017T170000
DTEND;TZID=America/Los_Angeles:20251017T183000
DTSTAMP:20260423T021547
CREATED:20251003T163348Z
LAST-MODIFIED:20251003T163349Z
UID:2678-1760720400-1760725800@lancasterelkslodge1625.org
SUMMARY:Adults' Halloween Party and Dance
DESCRIPTION:
URL:https://lancasterelkslodge1625.org/event/adults-halloween-party-and-dance/
LOCATION:Elks Lodge #1625\, 240 E Ave k\, Lancaster\, CA\, 93535\, United States
CATEGORIES:Dining,Social
ATTACH;FMTTYPE=image/jpeg:https://lancasterelkslodge1625.org/wp-content/uploads/2025/10/2025-Halloween-Dance-2-scaled.jpg
END:VEVENT
BEGIN:VEVENT
DTSTART;TZID=America/Los_Angeles:20251019T090000
DTEND;TZID=America/Los_Angeles:20251019T120000
DTSTAMP:20260423T021547
CREATED:20251003T165001Z
LAST-MODIFIED:20251003T165022Z
UID:2681-1760864400-1760875200@lancasterelkslodge1625.org
SUMMARY:Breakfast
DESCRIPTION:
URL:https://lancasterelkslodge1625.org/event/breakfast-17/
LOCATION:Elks Lodge #1625\, 240 E Ave k\, Lancaster\, CA\, 93535\, United States
CATEGORIES:Dining,Social
ATTACH;FMTTYPE=image/jpeg:https://lancasterelkslodge1625.org/wp-content/uploads/2025/02/471604501_903223825310380_8747720846203576067_n.jpg
END:VEVENT
BEGIN:VEVENT
DTSTART;TZID=America/Los_Angeles:20251020T110000
DTEND;TZID=America/Los_Angeles:20251020T140000
DTSTAMP:20260423T021547
CREATED:20251003T165525Z
LAST-MODIFIED:20251003T165525Z
UID:2687-1760958000-1760968800@lancasterelkslodge1625.org
SUMMARY:Burgers and Dogs
DESCRIPTION:
URL:https://lancasterelkslodge1625.org/event/burgers-and-dogs-31/
LOCATION:Elks Lodge #1625\, 240 E Ave k\, Lancaster\, CA\, 93535\, United States
CATEGORIES:Dining,Social
ATTACH;FMTTYPE=image/png:https://lancasterelkslodge1625.org/wp-content/uploads/2025/02/image.png
END:VEVENT
BEGIN:VEVENT
DTSTART;TZID=America/Los_Angeles:20251020T160000
DTEND;TZID=America/Los_Angeles:20251020T190000
DTSTAMP:20260423T021547
CREATED:20251003T165921Z
LAST-MODIFIED:20251003T165921Z
UID:2690-1760976000-1760986800@lancasterelkslodge1625.org
SUMMARY:Cribbage
DESCRIPTION:
URL:https://lancasterelkslodge1625.org/event/cribbage-38/
LOCATION:Elks Lodge #1625\, 240 E Ave k\, Lancaster\, CA\, 93535\, United States
CATEGORIES:Social
ATTACH;FMTTYPE=image/png:https://lancasterelkslodge1625.org/wp-content/uploads/2025/02/image-3.png
END:VEVENT
BEGIN:VEVENT
DTSTART;TZID=America/Los_Angeles:20251020T183000
DTEND;TZID=America/Los_Angeles:20251020T210000
DTSTAMP:20260423T021547
CREATED:20251003T170126Z
LAST-MODIFIED:20251003T170126Z
UID:2693-1760985000-1760994000@lancasterelkslodge1625.org
SUMMARY:Line Dancing
DESCRIPTION:
URL:https://lancasterelkslodge1625.org/event/line-dancing-38/
LOCATION:Elks Lodge #1625\, 240 E Ave k\, Lancaster\, CA\, 93535\, United States
CATEGORIES:Exercise,Social
ATTACH;FMTTYPE=image/png:https://lancasterelkslodge1625.org/wp-content/uploads/2025/02/image-1.png
END:VEVENT
BEGIN:VEVENT
DTSTART;TZID=America/Los_Angeles:20251021T170000
DTEND;TZID=America/Los_Angeles:20251021T183000
DTSTAMP:20260423T021547
CREATED:20251003T170848Z
LAST-MODIFIED:20251003T170848Z
UID:2699-1761066000-1761071400@lancasterelkslodge1625.org
SUMMARY:Dinner
DESCRIPTION:
URL:https://lancasterelkslodge1625.org/event/dinner-16/
LOCATION:Elks Lodge #1625\, 240 E Ave k\, Lancaster\, CA\, 93535\, United States
CATEGORIES:Dining,Social
END:VEVENT
BEGIN:VEVENT
DTSTART;TZID=America/Los_Angeles:20251022T160000
DTEND;TZID=America/Los_Angeles:20251022T190000
DTSTAMP:20260423T021547
CREATED:20251003T173206Z
LAST-MODIFIED:20251003T173206Z
UID:2705-1761148800-1761159600@lancasterelkslodge1625.org
SUMMARY:Dogs at the Bar
DESCRIPTION:
URL:https://lancasterelkslodge1625.org/event/dogs-at-the-bar-97/
LOCATION:Elks Lodge #1625\, 240 E Ave k\, Lancaster\, CA\, 93535\, United States
CATEGORIES:Dining,Social
ATTACH;FMTTYPE=image/webp:https://lancasterelkslodge1625.org/wp-content/uploads/2025/02/hotdogs.webp
END:VEVENT
BEGIN:VEVENT
DTSTART;TZID=America/Los_Angeles:20251022T170000
DTEND;TZID=America/Los_Angeles:20251022T190000
DTSTAMP:20260423T021547
CREATED:20251003T173427Z
LAST-MODIFIED:20251003T173427Z
UID:2712-1761152400-1761159600@lancasterelkslodge1625.org
SUMMARY:Whiskey Tasting
DESCRIPTION:
URL:https://lancasterelkslodge1625.org/event/whiskey-tasting/
LOCATION:Elks Lodge #1625\, 240 E Ave k\, Lancaster\, CA\, 93535\, United States
CATEGORIES:Social
END:VEVENT
BEGIN:VEVENT
DTSTART;TZID=America/Los_Angeles:20251024T180000
DTEND;TZID=America/Los_Angeles:20251024T220000
DTSTAMP:20260423T021547
CREATED:20251003T173316Z
LAST-MODIFIED:20251003T173316Z
UID:2708-1761328800-1761343200@lancasterelkslodge1625.org
SUMMARY:Board Game Night
DESCRIPTION:
URL:https://lancasterelkslodge1625.org/event/board-game-night/
LOCATION:Elks Lodge #1625\, 240 E Ave k\, Lancaster\, CA\, 93535\, United States
CATEGORIES:Social
END:VEVENT
BEGIN:VEVENT
DTSTART;TZID=America/Los_Angeles:20251025T170000
DTEND;TZID=America/Los_Angeles:20251025T183000
DTSTAMP:20260423T021547
CREATED:20251003T173754Z
LAST-MODIFIED:20251003T173804Z
UID:2721-1761411600-1761417000@lancasterelkslodge1625.org
SUMMARY:Fish Fry
DESCRIPTION:Last one for Year
URL:https://lancasterelkslodge1625.org/event/fish-fry-7/
LOCATION:Elks Lodge #1625\, 240 E Ave k\, Lancaster\, CA\, 93535\, United States
CATEGORIES:Dining,Social
END:VEVENT
BEGIN:VEVENT
DTSTART;VALUE=DATE:20251026
DTEND;VALUE=DATE:20251030
DTSTAMP:20260423T021547
CREATED:20251003T173958Z
LAST-MODIFIED:20251003T173958Z
UID:2727-1761436800-1761782399@lancasterelkslodge1625.org
SUMMARY:Decorate for Kids Halloween Party
DESCRIPTION:
URL:https://lancasterelkslodge1625.org/event/decorate-for-kids-halloween-party/
LOCATION:Elks Lodge #1625\, 240 E Ave k\, Lancaster\, CA\, 93535\, United States
CATEGORIES:Social
END:VEVENT
BEGIN:VEVENT
DTSTART;TZID=America/Los_Angeles:20251026T160000
DTEND;TZID=America/Los_Angeles:20251026T190000
DTSTAMP:20260423T021547
CREATED:20251003T173914Z
LAST-MODIFIED:20251003T173914Z
UID:2724-1761494400-1761505200@lancasterelkslodge1625.org
SUMMARY:Dogs at the Bar
DESCRIPTION:
URL:https://lancasterelkslodge1625.org/event/dogs-at-the-bar-99/
LOCATION:Elks Lodge #1625\, 240 E Ave k\, Lancaster\, CA\, 93535\, United States
CATEGORIES:Dining,Social
ATTACH;FMTTYPE=image/webp:https://lancasterelkslodge1625.org/wp-content/uploads/2025/02/hotdogs.webp
END:VEVENT
END:VCALENDAR