BEGIN:VCALENDAR
VERSION:2.0
PRODID:-//Lancaster Elks Lodge #1625 - ECPv6.15.20//NONSGML v1.0//EN
CALSCALE:GREGORIAN
METHOD:PUBLISH
X-WR-CALNAME:Lancaster Elks Lodge #1625
X-ORIGINAL-URL:https://lancasterelkslodge1625.org
X-WR-CALDESC:Events for Lancaster Elks Lodge #1625
REFRESH-INTERVAL;VALUE=DURATION:PT1H
X-Robots-Tag:noindex
X-PUBLISHED-TTL:PT1H
BEGIN:VTIMEZONE
TZID:America/Los_Angeles
BEGIN:DAYLIGHT
TZOFFSETFROM:-0800
TZOFFSETTO:-0700
TZNAME:PDT
DTSTART:20240310T100000
END:DAYLIGHT
BEGIN:STANDARD
TZOFFSETFROM:-0700
TZOFFSETTO:-0800
TZNAME:PST
DTSTART:20241103T090000
END:STANDARD
BEGIN:DAYLIGHT
TZOFFSETFROM:-0800
TZOFFSETTO:-0700
TZNAME:PDT
DTSTART:20250309T100000
END:DAYLIGHT
BEGIN:STANDARD
TZOFFSETFROM:-0700
TZOFFSETTO:-0800
TZNAME:PST
DTSTART:20251102T090000
END:STANDARD
BEGIN:DAYLIGHT
TZOFFSETFROM:-0800
TZOFFSETTO:-0700
TZNAME:PDT
DTSTART:20260308T100000
END:DAYLIGHT
BEGIN:STANDARD
TZOFFSETFROM:-0700
TZOFFSETTO:-0800
TZNAME:PST
DTSTART:20261101T090000
END:STANDARD
END:VTIMEZONE
BEGIN:VEVENT
DTSTART;TZID=America/Los_Angeles:20250526T110000
DTEND;TZID=America/Los_Angeles:20250526T140000
DTSTAMP:20260423T160800
CREATED:20250428T021000Z
LAST-MODIFIED:20250428T021000Z
UID:1438-1748257200-1748268000@lancasterelkslodge1625.org
SUMMARY:Burgers and Dogs
DESCRIPTION:
URL:https://lancasterelkslodge1625.org/event/burgers-and-dogs-13/
LOCATION:CA
CATEGORIES:Dining,Social
ATTACH;FMTTYPE=image/png:https://lancasterelkslodge1625.org/wp-content/uploads/2025/02/image.png
END:VEVENT
BEGIN:VEVENT
DTSTART;TZID=America/Los_Angeles:20250526T160000
DTEND;TZID=America/Los_Angeles:20250526T190000
DTSTAMP:20260423T160800
CREATED:20250428T022004Z
LAST-MODIFIED:20250428T022004Z
UID:1453-1748275200-1748286000@lancasterelkslodge1625.org
SUMMARY:Cribbage
DESCRIPTION:
URL:https://lancasterelkslodge1625.org/event/cribbage-17/
LOCATION:Elks Lodge #1625\, 240 E Ave k\, Lancaster\, CA\, 93535\, United States
CATEGORIES:Social
ATTACH;FMTTYPE=image/png:https://lancasterelkslodge1625.org/wp-content/uploads/2025/02/image-3.png
END:VEVENT
BEGIN:VEVENT
DTSTART;TZID=America/Los_Angeles:20250526T160000
DTEND;TZID=America/Los_Angeles:20250526T190000
DTSTAMP:20260423T160800
CREATED:20250428T024023Z
LAST-MODIFIED:20250428T024023Z
UID:1465-1748275200-1748286000@lancasterelkslodge1625.org
SUMMARY:Dogs at the bar
DESCRIPTION:
URL:https://lancasterelkslodge1625.org/event/dogs-at-the-bar-29/
LOCATION:Elks Lodge #1625\, 240 E Ave k\, Lancaster\, CA\, 93535\, United States
CATEGORIES:Dining,Social
ATTACH;FMTTYPE=image/webp:https://lancasterelkslodge1625.org/wp-content/uploads/2025/02/hotdogs.webp
END:VEVENT
BEGIN:VEVENT
DTSTART;TZID=America/Los_Angeles:20250526T183000
DTEND;TZID=America/Los_Angeles:20250526T210000
DTSTAMP:20260423T160800
CREATED:20250428T024742Z
LAST-MODIFIED:20250428T024742Z
UID:1480-1748284200-1748293200@lancasterelkslodge1625.org
SUMMARY:Line Dancing
DESCRIPTION:
URL:https://lancasterelkslodge1625.org/event/line-dancing-17/
LOCATION:Elks Lodge #1625\, 240 E Ave k\, Lancaster\, CA\, 93535\, United States
CATEGORIES:Exercise,Social
ATTACH;FMTTYPE=image/png:https://lancasterelkslodge1625.org/wp-content/uploads/2025/02/image-1.png
END:VEVENT
BEGIN:VEVENT
DTSTART;TZID=America/Los_Angeles:20250527T170000
DTEND;TZID=America/Los_Angeles:20250527T183000
DTSTAMP:20260423T160800
CREATED:20250428T052401Z
LAST-MODIFIED:20250428T052401Z
UID:1554-1748365200-1748370600@lancasterelkslodge1625.org
SUMMARY:Dinner
DESCRIPTION:
URL:https://lancasterelkslodge1625.org/event/dinner-4/
LOCATION:Elks Lodge #1625\, 240 E Ave k\, Lancaster\, CA\, 93535\, United States
CATEGORIES:Dining,Social
END:VEVENT
BEGIN:VEVENT
DTSTART;TZID=America/Los_Angeles:20250527T190000
DTEND;TZID=America/Los_Angeles:20250527T200000
DTSTAMP:20260423T160800
CREATED:20250428T052516Z
LAST-MODIFIED:20250428T052516Z
UID:1557-1748372400-1748376000@lancasterelkslodge1625.org
SUMMARY:Elks Meeting (Initiation)
DESCRIPTION:
URL:https://lancasterelkslodge1625.org/event/elks-meeting-initiation/
LOCATION:Elks Lodge #1625\, 240 E Ave k\, Lancaster\, CA\, 93535\, United States
CATEGORIES:Closed Meeting,Social
END:VEVENT
BEGIN:VEVENT
DTSTART;TZID=America/Los_Angeles:20250528T160000
DTEND;TZID=America/Los_Angeles:20250528T190000
DTSTAMP:20260423T160800
CREATED:20250428T052702Z
LAST-MODIFIED:20250428T052702Z
UID:1560-1748448000-1748458800@lancasterelkslodge1625.org
SUMMARY:Dogs at the bar
DESCRIPTION:
URL:https://lancasterelkslodge1625.org/event/dogs-at-the-bar-36/
LOCATION:Elks Lodge #1625\, 240 E Ave k\, Lancaster\, CA\, 93535\, United States
CATEGORIES:Dining,Social
ATTACH;FMTTYPE=image/webp:https://lancasterelkslodge1625.org/wp-content/uploads/2025/02/hotdogs.webp
END:VEVENT
BEGIN:VEVENT
DTSTART;TZID=America/Los_Angeles:20250530T160000
DTEND;TZID=America/Los_Angeles:20250530T190000
DTSTAMP:20260423T160800
CREATED:20250428T052955Z
LAST-MODIFIED:20250428T052955Z
UID:1563-1748620800-1748631600@lancasterelkslodge1625.org
SUMMARY:Dogs at the bar
DESCRIPTION:
URL:https://lancasterelkslodge1625.org/event/dogs-at-the-bar-37/
LOCATION:Elks Lodge #1625\, 240 E Ave k\, Lancaster\, CA\, 93535\, United States
CATEGORIES:Dining,Social
ATTACH;FMTTYPE=image/webp:https://lancasterelkslodge1625.org/wp-content/uploads/2025/02/hotdogs.webp
END:VEVENT
BEGIN:VEVENT
DTSTART;TZID=America/Los_Angeles:20250531T110000
DTEND;TZID=America/Los_Angeles:20250531T150000
DTSTAMP:20260423T160800
CREATED:20250519T223008Z
LAST-MODIFIED:20250519T223009Z
UID:1761-1748689200-1748703600@lancasterelkslodge1625.org
SUMMARY:Memorial Day BBQ
DESCRIPTION:
URL:https://lancasterelkslodge1625.org/event/memorial-day-bbq/
LOCATION:Elks Lodge #1625\, 240 E Ave k\, Lancaster\, CA\, 93535\, United States
CATEGORIES:Charity,Dining,Open Meeting,Social
ATTACH;FMTTYPE=image/jpeg:https://lancasterelkslodge1625.org/wp-content/uploads/2025/05/Walter-Sapp-Memorial-Day-BBQ-31May2025.jpg
END:VEVENT
BEGIN:VEVENT
DTSTART;TZID=America/Los_Angeles:20250531T170000
DTEND;TZID=America/Los_Angeles:20250531T183000
DTSTAMP:20260423T160800
CREATED:20250428T053057Z
LAST-MODIFIED:20250428T053057Z
UID:1566-1748710800-1748716200@lancasterelkslodge1625.org
SUMMARY:Dinner: Fish Fry
DESCRIPTION:
URL:https://lancasterelkslodge1625.org/event/dinner-fish-fry/
LOCATION:Elks Lodge #1625\, 240 E Ave k\, Lancaster\, CA\, 93535\, United States
CATEGORIES:Dining,Social
END:VEVENT
BEGIN:VEVENT
DTSTART;TZID=America/Los_Angeles:20250601T090000
DTEND;TZID=America/Los_Angeles:20250601T120000
DTSTAMP:20260423T160800
CREATED:20250529T223507Z
LAST-MODIFIED:20250529T223507Z
UID:1805-1748768400-1748779200@lancasterelkslodge1625.org
SUMMARY:Sunday Breakfast
DESCRIPTION:
URL:https://lancasterelkslodge1625.org/event/sunday-breakfast-17/
LOCATION:Elks Lodge #1625\, 240 E Ave k\, Lancaster\, CA\, 93535\, United States
CATEGORIES:Dining,Social
ATTACH;FMTTYPE=image/jpeg:https://lancasterelkslodge1625.org/wp-content/uploads/2025/02/471604501_903223825310380_8747720846203576067_n.jpg
END:VEVENT
BEGIN:VEVENT
DTSTART;TZID=America/Los_Angeles:20250602T110000
DTEND;TZID=America/Los_Angeles:20250602T140000
DTSTAMP:20260423T160800
CREATED:20250529T224352Z
LAST-MODIFIED:20250529T224352Z
UID:1820-1748862000-1748872800@lancasterelkslodge1625.org
SUMMARY:Burgers and Dogs
DESCRIPTION:
URL:https://lancasterelkslodge1625.org/event/burgers-and-dogs-14/
LOCATION:Elks Lodge #1625\, 240 E Ave k\, Lancaster\, CA\, 93535\, United States
CATEGORIES:Dining,Social
ATTACH;FMTTYPE=image/png:https://lancasterelkslodge1625.org/wp-content/uploads/2025/02/image.png
END:VEVENT
BEGIN:VEVENT
DTSTART;TZID=America/Los_Angeles:20250602T160000
DTEND;TZID=America/Los_Angeles:20250602T190000
DTSTAMP:20260423T160800
CREATED:20250529T232456Z
LAST-MODIFIED:20250529T232731Z
UID:1838-1748880000-1748890800@lancasterelkslodge1625.org
SUMMARY:Cribbage
DESCRIPTION:
URL:https://lancasterelkslodge1625.org/event/cribbage-18/
LOCATION:Elks Lodge #1625\, 240 E Ave k\, Lancaster\, CA\, 93535\, United States
CATEGORIES:Social
ATTACH;FMTTYPE=image/png:https://lancasterelkslodge1625.org/wp-content/uploads/2025/02/image-3.png
END:VEVENT
BEGIN:VEVENT
DTSTART;TZID=America/Los_Angeles:20250602T160000
DTEND;TZID=America/Los_Angeles:20250602T190000
DTSTAMP:20260423T160800
CREATED:20250529T235104Z
LAST-MODIFIED:20250529T235104Z
UID:1874-1748880000-1748890800@lancasterelkslodge1625.org
SUMMARY:Dogs at the Bar
DESCRIPTION:
URL:https://lancasterelkslodge1625.org/event/dogs-at-the-bar-38/
LOCATION:Elks Lodge #1625\, 240 E Ave k\, Lancaster\, CA\, 93535\, United States
CATEGORIES:Dining,Social
ATTACH;FMTTYPE=image/webp:https://lancasterelkslodge1625.org/wp-content/uploads/2025/02/hotdogs.webp
END:VEVENT
BEGIN:VEVENT
DTSTART;TZID=America/Los_Angeles:20250602T183000
DTEND;TZID=America/Los_Angeles:20250602T210000
DTSTAMP:20260423T160800
CREATED:20250529T233703Z
LAST-MODIFIED:20250529T233703Z
UID:1853-1748889000-1748898000@lancasterelkslodge1625.org
SUMMARY:Line Dancing
DESCRIPTION:
URL:https://lancasterelkslodge1625.org/event/line-dancing-18/
LOCATION:Elks Lodge #1625\, 240 E Ave k\, Lancaster\, CA\, 93535\, United States
CATEGORIES:Exercise,Social
ATTACH;FMTTYPE=image/png:https://lancasterelkslodge1625.org/wp-content/uploads/2025/02/image-1.png
END:VEVENT
BEGIN:VEVENT
DTSTART;TZID=America/Los_Angeles:20250603T080000
DTEND;TZID=America/Los_Angeles:20250603T170000
DTSTAMP:20260423T160800
CREATED:20250530T004107Z
LAST-MODIFIED:20250530T004107Z
UID:1910-1748937600-1748970000@lancasterelkslodge1625.org
SUMMARY:Dinner: Potato Bar
DESCRIPTION:
URL:https://lancasterelkslodge1625.org/event/dinner-potato-bar-2/
LOCATION:Elks Lodge #1625\, 240 E Ave k\, Lancaster\, CA\, 93535\, United States
CATEGORIES:Dining,Social
END:VEVENT
BEGIN:VEVENT
DTSTART;TZID=America/Los_Angeles:20250604T160000
DTEND;TZID=America/Los_Angeles:20250604T190000
DTSTAMP:20260423T160800
CREATED:20250530T000229Z
LAST-MODIFIED:20250530T000229Z
UID:1886-1749052800-1749063600@lancasterelkslodge1625.org
SUMMARY:Dogs at the Bar
DESCRIPTION:
URL:https://lancasterelkslodge1625.org/event/dogs-at-the-bar-42/
LOCATION:Elks Lodge #1625\, 240 E Ave k\, Lancaster\, CA\, 93535\, United States
CATEGORIES:Dining,Social
ATTACH;FMTTYPE=image/webp:https://lancasterelkslodge1625.org/wp-content/uploads/2025/02/hotdogs.webp
END:VEVENT
BEGIN:VEVENT
DTSTART;TZID=America/Los_Angeles:20250606T160000
DTEND;TZID=America/Los_Angeles:20250606T190000
DTSTAMP:20260423T160800
CREATED:20250530T001727Z
LAST-MODIFIED:20250530T002005Z
UID:1898-1749225600-1749236400@lancasterelkslodge1625.org
SUMMARY:Dogs at the Bar
DESCRIPTION:
URL:https://lancasterelkslodge1625.org/event/dogs-at-the-bar-46/
LOCATION:Elks Lodge #1625\, 240 E Ave k\, Lancaster\, CA\, 93535\, United States
CATEGORIES:Dining,Social
ATTACH;FMTTYPE=image/webp:https://lancasterelkslodge1625.org/wp-content/uploads/2025/02/hotdogs.webp
END:VEVENT
BEGIN:VEVENT
DTSTART;TZID=America/Los_Angeles:20250608T090000
DTEND;TZID=America/Los_Angeles:20250608T120000
DTSTAMP:20260423T160800
CREATED:20250529T223613Z
LAST-MODIFIED:20250529T223613Z
UID:1808-1749373200-1749384000@lancasterelkslodge1625.org
SUMMARY:Sunday Breakfast
DESCRIPTION:
URL:https://lancasterelkslodge1625.org/event/sunday-breakfast-18/
LOCATION:Elks Lodge #1625\, 240 E Ave k\, Lancaster\, CA\, 93535\, United States
CATEGORIES:Dining,Social
ATTACH;FMTTYPE=image/jpeg:https://lancasterelkslodge1625.org/wp-content/uploads/2025/02/471604501_903223825310380_8747720846203576067_n.jpg
END:VEVENT
BEGIN:VEVENT
DTSTART;TZID=America/Los_Angeles:20250609T110000
DTEND;TZID=America/Los_Angeles:20250609T140000
DTSTAMP:20260423T160800
CREATED:20250529T224505Z
LAST-MODIFIED:20250529T224505Z
UID:1823-1749466800-1749477600@lancasterelkslodge1625.org
SUMMARY:Burgers and Dogs
DESCRIPTION:
URL:https://lancasterelkslodge1625.org/event/burgers-and-dogs-15/
LOCATION:Elks Lodge #1625\, 240 E Ave k\, Lancaster\, CA\, 93535\, United States
CATEGORIES:Dining,Social
ATTACH;FMTTYPE=image/png:https://lancasterelkslodge1625.org/wp-content/uploads/2025/02/image.png
END:VEVENT
BEGIN:VEVENT
DTSTART;TZID=America/Los_Angeles:20250609T160000
DTEND;TZID=America/Los_Angeles:20250609T190000
DTSTAMP:20260423T160800
CREATED:20250529T235325Z
LAST-MODIFIED:20250529T235325Z
UID:1877-1749484800-1749495600@lancasterelkslodge1625.org
SUMMARY:Dogs at the Bar
DESCRIPTION:
URL:https://lancasterelkslodge1625.org/event/dogs-at-the-bar-39/
LOCATION:Elks Lodge #1625\, 240 E Ave k\, Lancaster\, CA\, 93535\, United States
CATEGORIES:Dining,Social
ATTACH;FMTTYPE=image/webp:https://lancasterelkslodge1625.org/wp-content/uploads/2025/02/hotdogs.webp
END:VEVENT
BEGIN:VEVENT
DTSTART;TZID=America/Los_Angeles:20250609T163000
DTEND;TZID=America/Los_Angeles:20250609T190000
DTSTAMP:20260423T160800
CREATED:20250529T232639Z
LAST-MODIFIED:20250529T232812Z
UID:1841-1749486600-1749495600@lancasterelkslodge1625.org
SUMMARY:Cribbage
DESCRIPTION:
URL:https://lancasterelkslodge1625.org/event/cribbage-19/
LOCATION:Elks Lodge #1625\, 240 E Ave k\, Lancaster\, CA\, 93535\, United States
CATEGORIES:Social
ATTACH;FMTTYPE=image/png:https://lancasterelkslodge1625.org/wp-content/uploads/2025/02/image-3.png
END:VEVENT
BEGIN:VEVENT
DTSTART;TZID=America/Los_Angeles:20250609T183000
DTEND;TZID=America/Los_Angeles:20250609T210000
DTSTAMP:20260423T160800
CREATED:20250529T234306Z
LAST-MODIFIED:20250529T234306Z
UID:1856-1749493800-1749502800@lancasterelkslodge1625.org
SUMMARY:Line Dancing
DESCRIPTION:
URL:https://lancasterelkslodge1625.org/event/line-dancing-19/
LOCATION:Elks Lodge #1625\, 240 E Ave k\, Lancaster\, CA\, 93535\, United States
CATEGORIES:Exercise,Social
ATTACH;FMTTYPE=image/png:https://lancasterelkslodge1625.org/wp-content/uploads/2025/02/image-3.png
END:VEVENT
BEGIN:VEVENT
DTSTART;TZID=America/Los_Angeles:20250610T170000
DTEND;TZID=America/Los_Angeles:20250610T183000
DTSTAMP:20260423T160800
CREATED:20250519T223819Z
LAST-MODIFIED:20250530T003943Z
UID:1773-1749574800-1749580200@lancasterelkslodge1625.org
SUMMARY:Dinner: Meatloaf
DESCRIPTION:
URL:https://lancasterelkslodge1625.org/event/dinner-meatloaf-3/
LOCATION:Elks Lodge #1625\, 240 E Ave k\, Lancaster\, CA\, 93535\, United States
CATEGORIES:Dining,Social
ATTACH;FMTTYPE=image/png:https://lancasterelkslodge1625.org/wp-content/uploads/2025/05/Tuesday-Night-Meatloafrev-scaled.png
END:VEVENT
BEGIN:VEVENT
DTSTART;TZID=America/Los_Angeles:20250611T160000
DTEND;TZID=America/Los_Angeles:20250611T190000
DTSTAMP:20260423T160800
CREATED:20250530T000921Z
LAST-MODIFIED:20250530T000921Z
UID:1889-1749657600-1749668400@lancasterelkslodge1625.org
SUMMARY:Dogs at the Bar
DESCRIPTION:
URL:https://lancasterelkslodge1625.org/event/dogs-at-the-bar-43/
LOCATION:Elks Lodge #1625\, 240 E Ave k\, Lancaster\, CA\, 93535\, United States
CATEGORIES:Dining,Social
ATTACH;FMTTYPE=image/webp:https://lancasterelkslodge1625.org/wp-content/uploads/2025/02/hotdogs.webp
END:VEVENT
BEGIN:VEVENT
DTSTART;TZID=America/Los_Angeles:20250613T160000
DTEND;TZID=America/Los_Angeles:20250613T190000
DTSTAMP:20260423T160800
CREATED:20250530T002126Z
LAST-MODIFIED:20250530T002126Z
UID:1901-1749830400-1749841200@lancasterelkslodge1625.org
SUMMARY:Dogs at the Bar
DESCRIPTION:
URL:https://lancasterelkslodge1625.org/event/dogs-at-the-bar-47/
LOCATION:Elks Lodge #1625\, 240 E Ave k\, Lancaster\, CA\, 93535\, United States
CATEGORIES:Dining,Social
ATTACH;FMTTYPE=image/webp:https://lancasterelkslodge1625.org/wp-content/uploads/2025/02/hotdogs.webp
END:VEVENT
BEGIN:VEVENT
DTSTART;TZID=America/Los_Angeles:20250613T180000
DTEND;TZID=America/Los_Angeles:20250613T210000
DTSTAMP:20260423T160800
CREATED:20250530T011321Z
LAST-MODIFIED:20250619T152020Z
UID:1928-1749837600-1749848400@lancasterelkslodge1625.org
SUMMARY:Friday Night Dance Music by Luis
DESCRIPTION:
URL:https://lancasterelkslodge1625.org/event/friday-night-dance-music-by-lewis/
LOCATION:Elks Lodge #1625\, 240 E Ave k\, Lancaster\, CA\, 93535\, United States
CATEGORIES:Exercise,Social
END:VEVENT
BEGIN:VEVENT
DTSTART;TZID=America/Los_Angeles:20250614T113000
DTEND;TZID=America/Los_Angeles:20250614T120000
DTSTAMP:20260423T160800
CREATED:20250530T011745Z
LAST-MODIFIED:20250530T011745Z
UID:1931-1749900600-1749902400@lancasterelkslodge1625.org
SUMMARY:Flag Day Ceremony
DESCRIPTION:
URL:https://lancasterelkslodge1625.org/event/flag-day-ceremony/
LOCATION:Elks Lodge #1625\, 240 E Ave k\, Lancaster\, CA\, 93535\, United States
CATEGORIES:Social
END:VEVENT
BEGIN:VEVENT
DTSTART;TZID=America/Los_Angeles:20250614T123000
DTEND;TZID=America/Los_Angeles:20250614T143000
DTSTAMP:20260423T160800
CREATED:20250530T011907Z
LAST-MODIFIED:20250530T011907Z
UID:1934-1749904200-1749911400@lancasterelkslodge1625.org
SUMMARY:Flag Retirement Ceremony
DESCRIPTION:
URL:https://lancasterelkslodge1625.org/event/flag-retirement-ceremony/
LOCATION:Elks Lodge #1625\, 240 E Ave k\, Lancaster\, CA\, 93535\, United States
CATEGORIES:Social
END:VEVENT
BEGIN:VEVENT
DTSTART;TZID=America/Los_Angeles:20250614T170000
DTEND;TZID=America/Los_Angeles:20250614T183000
DTSTAMP:20260423T160800
CREATED:20250519T223616Z
LAST-MODIFIED:20250519T223616Z
UID:1770-1749920400-1749925800@lancasterelkslodge1625.org
SUMMARY:Pre-Father's Day Celebration
DESCRIPTION:
URL:https://lancasterelkslodge1625.org/event/pre-fathers-day-celebration/
LOCATION:Elks Lodge #1625\, 240 E Ave k\, Lancaster\, CA\, 93535\, United States
CATEGORIES:Charity,Dining,Social
ATTACH;FMTTYPE=image/png:https://lancasterelkslodge1625.org/wp-content/uploads/2025/05/Rib-BBQ-June-14th-scaled.png
END:VEVENT
END:VCALENDAR