BEGIN:VCALENDAR
VERSION:2.0
PRODID:-//Lancaster Elks Lodge #1625 - ECPv6.15.20//NONSGML v1.0//EN
CALSCALE:GREGORIAN
METHOD:PUBLISH
X-WR-CALNAME:Lancaster Elks Lodge #1625
X-ORIGINAL-URL:https://lancasterelkslodge1625.org
X-WR-CALDESC:Events for Lancaster Elks Lodge #1625
REFRESH-INTERVAL;VALUE=DURATION:PT1H
X-Robots-Tag:noindex
X-PUBLISHED-TTL:PT1H
BEGIN:VTIMEZONE
TZID:America/Los_Angeles
BEGIN:DAYLIGHT
TZOFFSETFROM:-0800
TZOFFSETTO:-0700
TZNAME:PDT
DTSTART:20240310T100000
END:DAYLIGHT
BEGIN:STANDARD
TZOFFSETFROM:-0700
TZOFFSETTO:-0800
TZNAME:PST
DTSTART:20241103T090000
END:STANDARD
BEGIN:DAYLIGHT
TZOFFSETFROM:-0800
TZOFFSETTO:-0700
TZNAME:PDT
DTSTART:20250309T100000
END:DAYLIGHT
BEGIN:STANDARD
TZOFFSETFROM:-0700
TZOFFSETTO:-0800
TZNAME:PST
DTSTART:20251102T090000
END:STANDARD
BEGIN:DAYLIGHT
TZOFFSETFROM:-0800
TZOFFSETTO:-0700
TZNAME:PDT
DTSTART:20260308T100000
END:DAYLIGHT
BEGIN:STANDARD
TZOFFSETFROM:-0700
TZOFFSETTO:-0800
TZNAME:PST
DTSTART:20261101T090000
END:STANDARD
END:VTIMEZONE
BEGIN:VEVENT
DTSTART;TZID=America/Los_Angeles:20250430T173000
DTEND;TZID=America/Los_Angeles:20250430T190000
DTSTAMP:20260423T035213
CREATED:20250328T171642Z
LAST-MODIFIED:20250328T171642Z
UID:1322-1746034200-1746039600@lancasterelkslodge1625.org
SUMMARY:Ritual Practice
DESCRIPTION:
URL:https://lancasterelkslodge1625.org/event/ritual-practice-13/
LOCATION:Elks Lodge #1625\, 240 E Ave k\, Lancaster\, CA\, 93535\, United States
CATEGORIES:Closed Meeting
END:VEVENT
BEGIN:VEVENT
DTSTART;TZID=America/Los_Angeles:20250430T160000
DTEND;TZID=America/Los_Angeles:20250430T190000
DTSTAMP:20260423T035213
CREATED:20250328T171501Z
LAST-MODIFIED:20250328T171501Z
UID:1319-1746028800-1746039600@lancasterelkslodge1625.org
SUMMARY:Dogs at the Bar
DESCRIPTION:
URL:https://lancasterelkslodge1625.org/event/dogs-at-the-bar-25/
LOCATION:Elks Lodge #1625\, 240 E Ave k\, Lancaster\, CA\, 93535\, United States
CATEGORIES:Dining,Social
ATTACH;FMTTYPE=image/webp:https://lancasterelkslodge1625.org/wp-content/uploads/2025/02/hotdogs.webp
END:VEVENT
BEGIN:VEVENT
DTSTART;TZID=America/Los_Angeles:20250429T190000
DTEND;TZID=America/Los_Angeles:20250429T203000
DTSTAMP:20260423T035213
CREATED:20250328T171150Z
LAST-MODIFIED:20250328T171150Z
UID:1316-1745953200-1745958600@lancasterelkslodge1625.org
SUMMARY:Elks Mtg
DESCRIPTION:
URL:https://lancasterelkslodge1625.org/event/elks-mtg/
LOCATION:Elks Lodge #1625\, 240 E Ave k\, Lancaster\, CA\, 93535\, United States
CATEGORIES:Closed Meeting
END:VEVENT
BEGIN:VEVENT
DTSTART;TZID=America/Los_Angeles:20250429T050000
DTEND;TZID=America/Los_Angeles:20250429T183000
DTSTAMP:20260423T035213
CREATED:20250328T171102Z
LAST-MODIFIED:20250430T002205Z
UID:1313-1745902800-1745951400@lancasterelkslodge1625.org
SUMMARY:Dinner\, Porkchops
DESCRIPTION:
URL:https://lancasterelkslodge1625.org/event/dinner-3/
LOCATION:Elks Lodge #1625\, 240 E Ave k\, Lancaster\, CA\, 93535\, United States
CATEGORIES:Dining,Social
END:VEVENT
BEGIN:VEVENT
DTSTART;TZID=America/Los_Angeles:20250428T183000
DTEND;TZID=America/Los_Angeles:20250428T210000
DTSTAMP:20260423T035213
CREATED:20250328T170940Z
LAST-MODIFIED:20250328T170940Z
UID:1310-1745865000-1745874000@lancasterelkslodge1625.org
SUMMARY:Line Dancing
DESCRIPTION:
URL:https://lancasterelkslodge1625.org/event/line-dancing-13/
LOCATION:Elks Lodge #1625\, 240 E Ave k\, Lancaster\, CA\, 93535\, United States
CATEGORIES:Exercise,Social
ATTACH;FMTTYPE=image/png:https://lancasterelkslodge1625.org/wp-content/uploads/2025/02/image-1.png
END:VEVENT
BEGIN:VEVENT
DTSTART;TZID=America/Los_Angeles:20250428T160000
DTEND;TZID=America/Los_Angeles:20250428T190000
DTSTAMP:20260423T035213
CREATED:20250328T170822Z
LAST-MODIFIED:20250328T170822Z
UID:1307-1745856000-1745866800@lancasterelkslodge1625.org
SUMMARY:Cribbage
DESCRIPTION:
URL:https://lancasterelkslodge1625.org/event/cribbage-13/
LOCATION:Elks Lodge #1625\, 240 E Ave k\, Lancaster\, CA\, 93535\, United States
CATEGORIES:Social
ATTACH;FMTTYPE=image/png:https://lancasterelkslodge1625.org/wp-content/uploads/2025/02/image-3.png
END:VEVENT
BEGIN:VEVENT
DTSTART;TZID=America/Los_Angeles:20250428T160000
DTEND;TZID=America/Los_Angeles:20250428T190000
DTSTAMP:20260423T035213
CREATED:20250328T170711Z
LAST-MODIFIED:20250328T170711Z
UID:1304-1745856000-1745866800@lancasterelkslodge1625.org
SUMMARY:Dogs at the Bar
DESCRIPTION:
URL:https://lancasterelkslodge1625.org/event/dogs-at-the-bar-24/
LOCATION:Elks Lodge #1625\, 240 E Ave k\, Lancaster\, CA\, 93535\, United States
CATEGORIES:Dining,Social
ATTACH;FMTTYPE=image/webp:https://lancasterelkslodge1625.org/wp-content/uploads/2025/02/hotdogs.webp
END:VEVENT
BEGIN:VEVENT
DTSTART;TZID=America/Los_Angeles:20250428T110000
DTEND;TZID=America/Los_Angeles:20250428T140000
DTSTAMP:20260423T035213
CREATED:20250328T170609Z
LAST-MODIFIED:20250328T170609Z
UID:1301-1745838000-1745848800@lancasterelkslodge1625.org
SUMMARY:Burgers and Dogs
DESCRIPTION:
URL:https://lancasterelkslodge1625.org/event/burgers-and-dogs-9/
LOCATION:Elks Lodge #1625\, 240 E Ave k\, Lancaster\, CA\, 93535\, United States
CATEGORIES:Dining,Social
ATTACH;FMTTYPE=image/png:https://lancasterelkslodge1625.org/wp-content/uploads/2025/02/image.png
END:VEVENT
BEGIN:VEVENT
DTSTART;TZID=America/Los_Angeles:20250427T090000
DTEND;TZID=America/Los_Angeles:20250427T110000
DTSTAMP:20260423T035213
CREATED:20250328T170336Z
LAST-MODIFIED:20250328T170336Z
UID:1295-1745744400-1745751600@lancasterelkslodge1625.org
SUMMARY:Sunday Breakfast
DESCRIPTION:
URL:https://lancasterelkslodge1625.org/event/sunday-breakfast-12/
LOCATION:Elks Lodge #1625\, 240 E Ave k\, Lancaster\, CA\, 93535\, United States
CATEGORIES:Dining,Social
ATTACH;FMTTYPE=image/jpeg:https://lancasterelkslodge1625.org/wp-content/uploads/2025/02/471604501_903223825310380_8747720846203576067_n.jpg
END:VEVENT
BEGIN:VEVENT
DTSTART;TZID=America/Los_Angeles:20250426T170000
DTEND;TZID=America/Los_Angeles:20250426T183000
DTSTAMP:20260423T035213
CREATED:20250328T170446Z
LAST-MODIFIED:20250328T170447Z
UID:1298-1745686800-1745692200@lancasterelkslodge1625.org
SUMMARY:Fish Fry
DESCRIPTION:
URL:https://lancasterelkslodge1625.org/event/fish-fry-3/
LOCATION:Elks Lodge #1625\, 240 E Ave k\, Lancaster\, CA\, 93535\, United States
CATEGORIES:Dining,Social
END:VEVENT
BEGIN:VEVENT
DTSTART;TZID=America/Los_Angeles:20250425T160000
DTEND;TZID=America/Los_Angeles:20250425T190000
DTSTAMP:20260423T035213
CREATED:20250327T055222Z
LAST-MODIFIED:20250327T055222Z
UID:1289-1745596800-1745607600@lancasterelkslodge1625.org
SUMMARY:Dogs at the bar
DESCRIPTION:
URL:https://lancasterelkslodge1625.org/event/dogs-at-the-bar-23/
LOCATION:Elks Lodge #1625\, 240 E Ave k\, Lancaster\, CA\, 93535\, United States
CATEGORIES:Dining,Social
ATTACH;FMTTYPE=image/webp:https://lancasterelkslodge1625.org/wp-content/uploads/2025/02/hotdogs.webp
END:VEVENT
BEGIN:VEVENT
DTSTART;VALUE=DATE:20250424
DTEND;VALUE=DATE:20250425
DTSTAMP:20260423T035213
CREATED:20250327T055101Z
LAST-MODIFIED:20250327T055101Z
UID:1286-1745452800-1745539199@lancasterelkslodge1625.org
SUMMARY:LOUNGE CLOSED
DESCRIPTION:
URL:https://lancasterelkslodge1625.org/event/lounge-closed-12/
LOCATION:Elks Lodge #1625\, 240 E Ave k\, Lancaster\, CA\, 93535\, United States
ATTACH;FMTTYPE=image/jpeg:https://lancasterelkslodge1625.org/wp-content/uploads/2025/03/istockphoto-1323505495-612x612-1.jpg
END:VEVENT
BEGIN:VEVENT
DTSTART;TZID=America/Los_Angeles:20250423T173000
DTEND;TZID=America/Los_Angeles:20250423T183000
DTSTAMP:20260423T035213
CREATED:20250327T055016Z
LAST-MODIFIED:20250327T055016Z
UID:1283-1745429400-1745433000@lancasterelkslodge1625.org
SUMMARY:Ritual Practice
DESCRIPTION:
URL:https://lancasterelkslodge1625.org/event/ritual-practice-12/
LOCATION:Elks Lodge #1625\, 240 E Ave k\, Lancaster\, CA\, 93535\, United States
CATEGORIES:Closed Meeting
END:VEVENT
BEGIN:VEVENT
DTSTART;TZID=America/Los_Angeles:20250423T160000
DTEND;TZID=America/Los_Angeles:20250423T190000
DTSTAMP:20260423T035213
CREATED:20250327T054745Z
LAST-MODIFIED:20250327T054745Z
UID:1280-1745424000-1745434800@lancasterelkslodge1625.org
SUMMARY:Dogs at the bar
DESCRIPTION:
URL:https://lancasterelkslodge1625.org/event/dogs-at-the-bar-22/
LOCATION:Elks Lodge #1625\, 240 E Ave k\, Lancaster\, CA\, 93535\, United States
CATEGORIES:Dining,Social
ATTACH;FMTTYPE=image/webp:https://lancasterelkslodge1625.org/wp-content/uploads/2025/02/hotdogs.webp
END:VEVENT
BEGIN:VEVENT
DTSTART;TZID=America/Los_Angeles:20250422T190000
DTEND;TZID=America/Los_Angeles:20250422T203000
DTSTAMP:20260423T035213
CREATED:20250327T054616Z
LAST-MODIFIED:20250327T054616Z
UID:1277-1745348400-1745353800@lancasterelkslodge1625.org
SUMMARY:Lodge Meeting
DESCRIPTION:
URL:https://lancasterelkslodge1625.org/event/lodge-meeting-4/
LOCATION:Elks Lodge #1625\, 240 E Ave k\, Lancaster\, CA\, 93535\, United States
CATEGORIES:Closed Meeting
END:VEVENT
BEGIN:VEVENT
DTSTART;TZID=America/Los_Angeles:20250422T170000
DTEND;TZID=America/Los_Angeles:20250422T183000
DTSTAMP:20260423T035213
CREATED:20250327T053746Z
LAST-MODIFIED:20250327T053746Z
UID:1274-1745341200-1745346600@lancasterelkslodge1625.org
SUMMARY:Dinner
DESCRIPTION:
URL:https://lancasterelkslodge1625.org/event/dinner-2/
LOCATION:Elks Lodge #1625\, 240 E Ave k\, Lancaster\, CA\, 93535\, United States
CATEGORIES:Dining,Social
END:VEVENT
BEGIN:VEVENT
DTSTART;TZID=America/Los_Angeles:20250421T183000
DTEND;TZID=America/Los_Angeles:20250421T210000
DTSTAMP:20260423T035213
CREATED:20250327T053646Z
LAST-MODIFIED:20250327T053646Z
UID:1271-1745260200-1745269200@lancasterelkslodge1625.org
SUMMARY:Line Dancing
DESCRIPTION:
URL:https://lancasterelkslodge1625.org/event/line-dancing-12/
LOCATION:Elks Lodge #1625\, 240 E Ave k\, Lancaster\, CA\, 93535\, United States
CATEGORIES:Exercise,Social
ATTACH;FMTTYPE=image/png:https://lancasterelkslodge1625.org/wp-content/uploads/2025/02/image-1.png
END:VEVENT
BEGIN:VEVENT
DTSTART;TZID=America/Los_Angeles:20250421T160000
DTEND;TZID=America/Los_Angeles:20250421T190000
DTSTAMP:20260423T035213
CREATED:20250327T053424Z
LAST-MODIFIED:20250327T053424Z
UID:1265-1745251200-1745262000@lancasterelkslodge1625.org
SUMMARY:Dogs at the bar
DESCRIPTION:
URL:https://lancasterelkslodge1625.org/event/dogs-at-the-bar-21/
LOCATION:Elks Lodge #1625\, 240 E Ave k\, Lancaster\, CA\, 93535\, United States
CATEGORIES:Dining,Social
ATTACH;FMTTYPE=image/webp:https://lancasterelkslodge1625.org/wp-content/uploads/2025/02/hotdogs.webp
END:VEVENT
BEGIN:VEVENT
DTSTART;TZID=America/Los_Angeles:20250421T160000
DTEND;TZID=America/Los_Angeles:20250421T180000
DTSTAMP:20260423T035213
CREATED:20250327T053544Z
LAST-MODIFIED:20250327T053544Z
UID:1268-1745251200-1745258400@lancasterelkslodge1625.org
SUMMARY:Cribbage
DESCRIPTION:
URL:https://lancasterelkslodge1625.org/event/cribbage-12/
LOCATION:Elks Lodge #1625\, 240 E Ave k\, Lancaster\, CA\, 93535\, United States
CATEGORIES:Social
ATTACH;FMTTYPE=image/png:https://lancasterelkslodge1625.org/wp-content/uploads/2025/02/image-3.png
END:VEVENT
BEGIN:VEVENT
DTSTART;TZID=America/Los_Angeles:20250421T110000
DTEND;TZID=America/Los_Angeles:20250421T140000
DTSTAMP:20260423T035213
CREATED:20250327T053326Z
LAST-MODIFIED:20250327T053326Z
UID:1262-1745233200-1745244000@lancasterelkslodge1625.org
SUMMARY:Burgers and Dogs
DESCRIPTION:
URL:https://lancasterelkslodge1625.org/event/burgers-and-dogs-8/
LOCATION:Elks Lodge #1625\, 240 E Ave k\, Lancaster\, CA\, 93535\, United States
CATEGORIES:Dining,Social
ATTACH;FMTTYPE=image/png:https://lancasterelkslodge1625.org/wp-content/uploads/2025/02/image.png
END:VEVENT
BEGIN:VEVENT
DTSTART;VALUE=DATE:20250420
DTEND;VALUE=DATE:20250421
DTSTAMP:20260423T035213
CREATED:20250327T053151Z
LAST-MODIFIED:20250327T053151Z
UID:1259-1745107200-1745193599@lancasterelkslodge1625.org
SUMMARY:LOUNGE CLOSED
DESCRIPTION:
URL:https://lancasterelkslodge1625.org/event/lounge-closed-11/
LOCATION:Elks Lodge #1625\, 240 E Ave k\, Lancaster\, CA\, 93535\, United States
CATEGORIES:Holiday
ATTACH;FMTTYPE=image/jpeg:https://lancasterelkslodge1625.org/wp-content/uploads/2025/03/istockphoto-1323505495-612x612-1.jpg
END:VEVENT
BEGIN:VEVENT
DTSTART;VALUE=DATE:20250420
DTEND;VALUE=DATE:20250421
DTSTAMP:20260423T035213
CREATED:20250302T015441Z
LAST-MODIFIED:20250213T140055Z
UID:692-1745107200-1745193599@lancasterelkslodge1625.org
SUMMARY:Easter Day
DESCRIPTION:
URL:https://lancasterelkslodge1625.org/event/easter-day/
LOCATION:CA
CATEGORIES:Holiday
ATTACH;FMTTYPE=image/jpeg:https://lancasterelkslodge1625.org/wp-content/uploads/2025/02/easter.jpg
END:VEVENT
BEGIN:VEVENT
DTSTART;TZID=America/Los_Angeles:20250419T170000
DTEND;TZID=America/Los_Angeles:20250419T193000
DTSTAMP:20260423T035213
CREATED:20250327T053036Z
LAST-MODIFIED:20250327T053036Z
UID:1256-1745082000-1745091000@lancasterelkslodge1625.org
SUMMARY:BBQ
DESCRIPTION:
URL:https://lancasterelkslodge1625.org/event/bbq/
LOCATION:Elks Lodge #1625\, 240 E Ave k\, Lancaster\, CA\, 93535\, United States
CATEGORIES:Dining,Social
END:VEVENT
BEGIN:VEVENT
DTSTART;TZID=America/Los_Angeles:20250418T160000
DTEND;TZID=America/Los_Angeles:20250418T190000
DTSTAMP:20260423T035213
CREATED:20250327T052936Z
LAST-MODIFIED:20250327T052936Z
UID:1253-1744992000-1745002800@lancasterelkslodge1625.org
SUMMARY:Dogs at the bar
DESCRIPTION:
URL:https://lancasterelkslodge1625.org/event/dogs-at-the-bar-20/
LOCATION:Elks Lodge #1625\, 240 E Ave k\, Lancaster\, CA\, 93535\, United States
CATEGORIES:Dining,Social
ATTACH;FMTTYPE=image/webp:https://lancasterelkslodge1625.org/wp-content/uploads/2025/02/hotdogs.webp
END:VEVENT
BEGIN:VEVENT
DTSTART;VALUE=DATE:20250417
DTEND;VALUE=DATE:20250418
DTSTAMP:20260423T035213
CREATED:20250327T052836Z
LAST-MODIFIED:20250327T052836Z
UID:1250-1744848000-1744934399@lancasterelkslodge1625.org
SUMMARY:LOUNGE CLOSED
DESCRIPTION:
URL:https://lancasterelkslodge1625.org/event/lounge-closed-10/
LOCATION:Elks Lodge #1625\, 240 E Ave k\, Lancaster\, CA\, 93535\, United States
ATTACH;FMTTYPE=image/jpeg:https://lancasterelkslodge1625.org/wp-content/uploads/2025/03/istockphoto-1323505495-612x612-1.jpg
END:VEVENT
BEGIN:VEVENT
DTSTART;TZID=America/Los_Angeles:20250416T183000
DTEND;TZID=America/Los_Angeles:20250416T193000
DTSTAMP:20260423T035213
CREATED:20250327T052553Z
LAST-MODIFIED:20250327T052553Z
UID:1247-1744828200-1744831800@lancasterelkslodge1625.org
SUMMARY:Orientation
DESCRIPTION:
URL:https://lancasterelkslodge1625.org/event/orientation-2/
LOCATION:Elks Lodge #1625\, 240 E Ave k\, Lancaster\, CA\, 93535\, United States
CATEGORIES:Closed Meeting
END:VEVENT
BEGIN:VEVENT
DTSTART;TZID=America/Los_Angeles:20250416T173000
DTEND;TZID=America/Los_Angeles:20250416T183000
DTSTAMP:20260423T035213
CREATED:20250327T052406Z
LAST-MODIFIED:20250327T052406Z
UID:1244-1744824600-1744828200@lancasterelkslodge1625.org
SUMMARY:Ritual Practice
DESCRIPTION:
URL:https://lancasterelkslodge1625.org/event/ritual-practice-11/
LOCATION:Elks Lodge #1625\, 240 E Ave k\, Lancaster\, CA\, 93535\, United States
CATEGORIES:Closed Meeting
END:VEVENT
BEGIN:VEVENT
DTSTART;TZID=America/Los_Angeles:20250416T160000
DTEND;TZID=America/Los_Angeles:20250416T190000
DTSTAMP:20260423T035213
CREATED:20250327T052316Z
LAST-MODIFIED:20250327T052316Z
UID:1241-1744819200-1744830000@lancasterelkslodge1625.org
SUMMARY:Dogs at the bar
DESCRIPTION:
URL:https://lancasterelkslodge1625.org/event/dogs-at-the-bar-19/
LOCATION:Elks Lodge #1625\, 240 E Ave k\, Lancaster\, CA\, 93535\, United States
CATEGORIES:Dining,Social
ATTACH;FMTTYPE=image/webp:https://lancasterelkslodge1625.org/wp-content/uploads/2025/02/hotdogs.webp
END:VEVENT
BEGIN:VEVENT
DTSTART;TZID=America/Los_Angeles:20250415T190000
DTEND;TZID=America/Los_Angeles:20250415T203000
DTSTAMP:20260423T035213
CREATED:20250327T052205Z
LAST-MODIFIED:20250327T052205Z
UID:1238-1744743600-1744749000@lancasterelkslodge1625.org
SUMMARY:Lodge Meeting
DESCRIPTION:
URL:https://lancasterelkslodge1625.org/event/lodge-meeting-3/
LOCATION:Elks Lodge #1625\, 240 E Ave k\, Lancaster\, CA\, 93535\, United States
CATEGORIES:Closed Meeting
END:VEVENT
BEGIN:VEVENT
DTSTART;TZID=America/Los_Angeles:20250415T170000
DTEND;TZID=America/Los_Angeles:20250415T183000
DTSTAMP:20260423T035213
CREATED:20250327T052053Z
LAST-MODIFIED:20250327T052053Z
UID:1235-1744736400-1744741800@lancasterelkslodge1625.org
SUMMARY:Taco Tuesday
DESCRIPTION:
URL:https://lancasterelkslodge1625.org/event/taco-tuesday/
LOCATION:Elks Lodge #1625\, 240 E Ave k\, Lancaster\, CA\, 93535\, United States
CATEGORIES:Dining,Social
END:VEVENT
END:VCALENDAR