BEGIN:VCALENDAR
VERSION:2.0
PRODID:-//Lancaster Elks Lodge #1625 - ECPv6.15.20//NONSGML v1.0//EN
CALSCALE:GREGORIAN
METHOD:PUBLISH
X-WR-CALNAME:Lancaster Elks Lodge #1625
X-ORIGINAL-URL:https://lancasterelkslodge1625.org
X-WR-CALDESC:Events for Lancaster Elks Lodge #1625
REFRESH-INTERVAL;VALUE=DURATION:PT1H
X-Robots-Tag:noindex
X-PUBLISHED-TTL:PT1H
BEGIN:VTIMEZONE
TZID:America/Los_Angeles
BEGIN:DAYLIGHT
TZOFFSETFROM:-0800
TZOFFSETTO:-0700
TZNAME:PDT
DTSTART:20240310T100000
END:DAYLIGHT
BEGIN:STANDARD
TZOFFSETFROM:-0700
TZOFFSETTO:-0800
TZNAME:PST
DTSTART:20241103T090000
END:STANDARD
BEGIN:DAYLIGHT
TZOFFSETFROM:-0800
TZOFFSETTO:-0700
TZNAME:PDT
DTSTART:20250309T100000
END:DAYLIGHT
BEGIN:STANDARD
TZOFFSETFROM:-0700
TZOFFSETTO:-0800
TZNAME:PST
DTSTART:20251102T090000
END:STANDARD
BEGIN:DAYLIGHT
TZOFFSETFROM:-0800
TZOFFSETTO:-0700
TZNAME:PDT
DTSTART:20260308T100000
END:DAYLIGHT
BEGIN:STANDARD
TZOFFSETFROM:-0700
TZOFFSETTO:-0800
TZNAME:PST
DTSTART:20261101T090000
END:STANDARD
BEGIN:DAYLIGHT
TZOFFSETFROM:-0800
TZOFFSETTO:-0700
TZNAME:PDT
DTSTART:20270314T100000
END:DAYLIGHT
BEGIN:STANDARD
TZOFFSETFROM:-0700
TZOFFSETTO:-0800
TZNAME:PST
DTSTART:20271107T090000
END:STANDARD
END:VTIMEZONE
BEGIN:VEVENT
DTSTART;TZID=America/Los_Angeles:20251229T110000
DTEND;TZID=America/Los_Angeles:20251229T140000
DTSTAMP:20260422T152242
CREATED:20251125T190230Z
LAST-MODIFIED:20251125T190230Z
UID:3258-1767006000-1767016800@lancasterelkslodge1625.org
SUMMARY:Burgers and Dogs
DESCRIPTION:
URL:https://lancasterelkslodge1625.org/event/burgers-and-dogs-37/
LOCATION:Elks Lodge #1625\, 240 E Ave k\, Lancaster\, CA\, 93535\, United States
CATEGORIES:Dining,Social
ATTACH;FMTTYPE=image/png:https://lancasterelkslodge1625.org/wp-content/uploads/2025/02/image.png
END:VEVENT
BEGIN:VEVENT
DTSTART;TZID=America/Los_Angeles:20251229T160000
DTEND;TZID=America/Los_Angeles:20251229T190000
DTSTAMP:20260422T152242
CREATED:20251125T190438Z
LAST-MODIFIED:20251125T190438Z
UID:3261-1767024000-1767034800@lancasterelkslodge1625.org
SUMMARY:Cribbage
DESCRIPTION:
URL:https://lancasterelkslodge1625.org/event/cribbage-48/
LOCATION:Elks Lodge #1625\, 240 E Ave k\, Lancaster\, CA\, 93535\, United States
CATEGORIES:Social
ATTACH;FMTTYPE=image/png:https://lancasterelkslodge1625.org/wp-content/uploads/2025/02/image-3.png
END:VEVENT
BEGIN:VEVENT
DTSTART;TZID=America/Los_Angeles:20251229T160000
DTEND;TZID=America/Los_Angeles:20251229T190000
DTSTAMP:20260422T152242
CREATED:20251125T190644Z
LAST-MODIFIED:20251125T190644Z
UID:3267-1767024000-1767034800@lancasterelkslodge1625.org
SUMMARY:Dogs at the bar
DESCRIPTION:
URL:https://lancasterelkslodge1625.org/event/dogs-at-the-bar-127/
LOCATION:Elks Lodge #1625\, 240 E Ave k\, Lancaster\, CA\, 93535\, United States
CATEGORIES:Dining,Social
ATTACH;FMTTYPE=image/webp:https://lancasterelkslodge1625.org/wp-content/uploads/2025/02/hotdogs.webp
END:VEVENT
BEGIN:VEVENT
DTSTART;TZID=America/Los_Angeles:20251229T183000
DTEND;TZID=America/Los_Angeles:20251229T210000
DTSTAMP:20260422T152242
CREATED:20251125T190550Z
LAST-MODIFIED:20251125T190550Z
UID:3264-1767033000-1767042000@lancasterelkslodge1625.org
SUMMARY:Line Dancing
DESCRIPTION:
URL:https://lancasterelkslodge1625.org/event/line-dancing-48/
LOCATION:Elks Lodge #1625\, 240 E Ave k\, Lancaster\, CA\, 93535\, United States
CATEGORIES:Exercise,Social
END:VEVENT
BEGIN:VEVENT
DTSTART;VALUE=DATE:20251230
DTEND;VALUE=DATE:20251231
DTSTAMP:20260422T152242
CREATED:20251125T190726Z
LAST-MODIFIED:20251125T190726Z
UID:3270-1767052800-1767139199@lancasterelkslodge1625.org
SUMMARY:NO MEETING
DESCRIPTION:
URL:https://lancasterelkslodge1625.org/event/no-meeting/
LOCATION:Elks Lodge #1625\, 240 E Ave k\, Lancaster\, CA\, 93535\, United States
END:VEVENT
BEGIN:VEVENT
DTSTART;VALUE=DATE:20251231
DTEND;VALUE=DATE:20260101
DTSTAMP:20260422T152242
CREATED:20251102T013927Z
LAST-MODIFIED:20250213T140300Z
UID:729-1767139200-1767225599@lancasterelkslodge1625.org
SUMMARY:New Year's Eve
DESCRIPTION:
URL:https://lancasterelkslodge1625.org/event/new-years-eve/
LOCATION:CA
CATEGORIES:Holiday
ATTACH;FMTTYPE=image/jpeg:https://lancasterelkslodge1625.org/wp-content/uploads/2025/02/newyear.jpg
END:VEVENT
BEGIN:VEVENT
DTSTART;TZID=America/Los_Angeles:20251231T180000
DTEND;TZID=America/Los_Angeles:20251231T220000
DTSTAMP:20260422T152242
CREATED:20251125T190912Z
LAST-MODIFIED:20251125T190912Z
UID:3273-1767204000-1767218400@lancasterelkslodge1625.org
SUMMARY:New Year's Eve Party
DESCRIPTION:New Years Eve Party
URL:https://lancasterelkslodge1625.org/event/new-years-eve-party/
LOCATION:Elks Lodge #1625\, 240 E Ave k\, Lancaster\, CA\, 93535\, United States
CATEGORIES:Holiday,Social
ATTACH;FMTTYPE=application/pdf:https://lancasterelkslodge1625.org/wp-content/uploads/2025/11/2026-New-Years-Eve-Party-2.pdf
END:VEVENT
BEGIN:VEVENT
DTSTART;VALUE=DATE:20260101
DTEND;VALUE=DATE:20260102
DTSTAMP:20260422T152242
CREATED:20260112T151738Z
LAST-MODIFIED:20260112T151738Z
UID:3277-1767225600-1767311999@lancasterelkslodge1625.org
SUMMARY:LODGE CLOSED
DESCRIPTION:
URL:https://lancasterelkslodge1625.org/event/lodge-closed-18/
LOCATION:Elks Lodge #1625\, 240 E Ave k\, Lancaster\, CA\, 93535\, United States
ATTACH;FMTTYPE=image/jpeg:https://lancasterelkslodge1625.org/wp-content/uploads/2025/03/istockphoto-1323505495-612x612-1.jpg
END:VEVENT
BEGIN:VEVENT
DTSTART;TZID=America/Los_Angeles:20260102T160000
DTEND;TZID=America/Los_Angeles:20260102T190000
DTSTAMP:20260422T152242
CREATED:20260112T151855Z
LAST-MODIFIED:20260112T151855Z
UID:3281-1767369600-1767380400@lancasterelkslodge1625.org
SUMMARY:Dogs at the Bar
DESCRIPTION:
URL:https://lancasterelkslodge1625.org/event/dogs-at-the-bar-128/
LOCATION:Elks Lodge #1625\, 240 E Ave k\, Lancaster\, CA\, 93535\, United States
CATEGORIES:Dining,Social
ATTACH;FMTTYPE=image/webp:https://lancasterelkslodge1625.org/wp-content/uploads/2025/02/hotdogs.webp
END:VEVENT
BEGIN:VEVENT
DTSTART;TZID=America/Los_Angeles:20260102T180000
DTEND;TZID=America/Los_Angeles:20260102T220000
DTSTAMP:20260422T152242
CREATED:20260112T152448Z
LAST-MODIFIED:20260112T152448Z
UID:3284-1767376800-1767391200@lancasterelkslodge1625.org
SUMMARY:Board Game Night
DESCRIPTION:
URL:https://lancasterelkslodge1625.org/event/board-game-night-4/
LOCATION:Elks Lodge #1625\, 240 E Ave k\, Lancaster\, CA\, 93535\, United States
CATEGORIES:Social
END:VEVENT
BEGIN:VEVENT
DTSTART;TZID=America/Los_Angeles:20260103T110000
DTEND;TZID=America/Los_Angeles:20260103T140000
DTSTAMP:20260422T152242
CREATED:20260112T152559Z
LAST-MODIFIED:20260112T152559Z
UID:3288-1767438000-1767448800@lancasterelkslodge1625.org
SUMMARY:DD Clinic in Victorville
DESCRIPTION:
URL:https://lancasterelkslodge1625.org/event/dd-clinic-in-victorville/
LOCATION:CA
CATEGORIES:Closed Meeting
END:VEVENT
BEGIN:VEVENT
DTSTART;TZID=America/Los_Angeles:20260104T090000
DTEND;TZID=America/Los_Angeles:20260104T120000
DTSTAMP:20260422T152242
CREATED:20260112T152710Z
LAST-MODIFIED:20260112T152710Z
UID:3291-1767517200-1767528000@lancasterelkslodge1625.org
SUMMARY:Sunday Breakfast
DESCRIPTION:
URL:https://lancasterelkslodge1625.org/event/sunday-breakfast-27/
LOCATION:Elks Lodge #1625\, 240 E Ave k\, Lancaster\, CA\, 93535\, United States
CATEGORIES:Dining,Social
ATTACH;FMTTYPE=image/jpeg:https://lancasterelkslodge1625.org/wp-content/uploads/2025/02/471604501_903223825310380_8747720846203576067_n.jpg
END:VEVENT
BEGIN:VEVENT
DTSTART;TZID=America/Los_Angeles:20260105T110000
DTEND;TZID=America/Los_Angeles:20260105T140000
DTSTAMP:20260422T152242
CREATED:20260112T152903Z
LAST-MODIFIED:20260112T152903Z
UID:3294-1767610800-1767621600@lancasterelkslodge1625.org
SUMMARY:Burgers and Dogs
DESCRIPTION:
URL:https://lancasterelkslodge1625.org/event/burgers-and-dogs-38/
LOCATION:Elks Lodge #1625\, 240 E Ave k\, Lancaster\, CA\, 93535\, United States
CATEGORIES:Dining,Social
ATTACH;FMTTYPE=image/png:https://lancasterelkslodge1625.org/wp-content/uploads/2025/02/image.png
END:VEVENT
BEGIN:VEVENT
DTSTART;TZID=America/Los_Angeles:20260105T120000
DTEND;TZID=America/Los_Angeles:20260105T130000
DTSTAMP:20260422T152242
CREATED:20260112T153011Z
LAST-MODIFIED:20260112T153011Z
UID:3297-1767614400-1767618000@lancasterelkslodge1625.org
SUMMARY:Veterans Committee
DESCRIPTION:
URL:https://lancasterelkslodge1625.org/event/veterans-committee-7/
LOCATION:Elks Lodge #1625\, 240 E Ave k\, Lancaster\, CA\, 93535\, United States
CATEGORIES:Committee
END:VEVENT
BEGIN:VEVENT
DTSTART;TZID=America/Los_Angeles:20260105T160000
DTEND;TZID=America/Los_Angeles:20260105T190000
DTSTAMP:20260422T152242
CREATED:20260112T153118Z
LAST-MODIFIED:20260112T153118Z
UID:3300-1767628800-1767639600@lancasterelkslodge1625.org
SUMMARY:Cribbage
DESCRIPTION:
URL:https://lancasterelkslodge1625.org/event/cribbage-49/
LOCATION:Elks Lodge #1625\, 240 E Ave k\, Lancaster\, CA\, 93535\, United States
CATEGORIES:Social
ATTACH;FMTTYPE=image/png:https://lancasterelkslodge1625.org/wp-content/uploads/2025/02/image-3.png
END:VEVENT
BEGIN:VEVENT
DTSTART;TZID=America/Los_Angeles:20260105T160000
DTEND;TZID=America/Los_Angeles:20260105T190000
DTSTAMP:20260422T152242
CREATED:20260112T153414Z
LAST-MODIFIED:20260112T153414Z
UID:3310-1767628800-1767639600@lancasterelkslodge1625.org
SUMMARY:Dogs at the Bar
DESCRIPTION:
URL:https://lancasterelkslodge1625.org/event/dogs-at-the-bar-129/
LOCATION:Elks Lodge #1625\, 240 E Ave k\, Lancaster\, CA\, 93535\, United States
CATEGORIES:Dining,Social
ATTACH;FMTTYPE=image/webp:https://lancasterelkslodge1625.org/wp-content/uploads/2025/02/hotdogs.webp
END:VEVENT
BEGIN:VEVENT
DTSTART;TZID=America/Los_Angeles:20260105T180000
DTEND;TZID=America/Los_Angeles:20260105T190000
DTSTAMP:20260422T152242
CREATED:20260112T153202Z
LAST-MODIFIED:20260112T153202Z
UID:3303-1767636000-1767639600@lancasterelkslodge1625.org
SUMMARY:Board Meeting
DESCRIPTION:
URL:https://lancasterelkslodge1625.org/event/board-meeting-7/
LOCATION:Elks Lodge #1625\, 240 E Ave k\, Lancaster\, CA\, 93535\, United States
CATEGORIES:Closed Meeting
END:VEVENT
BEGIN:VEVENT
DTSTART;TZID=America/Los_Angeles:20260105T183000
DTEND;TZID=America/Los_Angeles:20260105T210000
DTSTAMP:20260422T152242
CREATED:20260112T153314Z
LAST-MODIFIED:20260112T153314Z
UID:3307-1767637800-1767646800@lancasterelkslodge1625.org
SUMMARY:Line Dancing
DESCRIPTION:
URL:https://lancasterelkslodge1625.org/event/line-dancing-49/
LOCATION:Elks Lodge #1625\, 240 E Ave k\, Lancaster\, CA\, 93535\, United States
CATEGORIES:Exercise
ATTACH;FMTTYPE=image/jpeg:https://lancasterelkslodge1625.org/wp-content/uploads/2025/10/Line-Dancing-scaled.jpg
END:VEVENT
BEGIN:VEVENT
DTSTART;TZID=America/Los_Angeles:20260106T170000
DTEND;TZID=America/Los_Angeles:20260106T183000
DTSTAMP:20260422T152242
CREATED:20260112T153501Z
LAST-MODIFIED:20260112T153501Z
UID:3313-1767718800-1767724200@lancasterelkslodge1625.org
SUMMARY:Karen's Dinner
DESCRIPTION:
URL:https://lancasterelkslodge1625.org/event/karens-dinner-3/
LOCATION:Elks Lodge #1625\, 240 E Ave k\, Lancaster\, CA\, 93535\, United States
CATEGORIES:Dining,Social
END:VEVENT
BEGIN:VEVENT
DTSTART;TZID=America/Los_Angeles:20260106T190000
DTEND;TZID=America/Los_Angeles:20260106T210000
DTSTAMP:20260422T152242
CREATED:20260112T153548Z
LAST-MODIFIED:20260112T153548Z
UID:3316-1767726000-1767733200@lancasterelkslodge1625.org
SUMMARY:Elks Meeting
DESCRIPTION:
URL:https://lancasterelkslodge1625.org/event/elks-meeting-25/
LOCATION:Elks Lodge #1625\, 240 E Ave k\, Lancaster\, CA\, 93535\, United States
CATEGORIES:Closed Meeting,Social
END:VEVENT
BEGIN:VEVENT
DTSTART;TZID=America/Los_Angeles:20260107T160000
DTEND;TZID=America/Los_Angeles:20260107T190000
DTSTAMP:20260422T152242
CREATED:20260112T153638Z
LAST-MODIFIED:20260112T153638Z
UID:3319-1767801600-1767812400@lancasterelkslodge1625.org
SUMMARY:Dogs at the Bar
DESCRIPTION:
URL:https://lancasterelkslodge1625.org/event/dogs-at-the-bar-130/
LOCATION:Elks Lodge #1625\, 240 E Ave k\, Lancaster\, CA\, 93535\, United States
CATEGORIES:Dining,Social
ATTACH;FMTTYPE=image/webp:https://lancasterelkslodge1625.org/wp-content/uploads/2025/02/hotdogs.webp
END:VEVENT
BEGIN:VEVENT
DTSTART;TZID=America/Los_Angeles:20260107T180000
DTEND;TZID=America/Los_Angeles:20260107T190000
DTSTAMP:20260422T152242
CREATED:20260112T153730Z
LAST-MODIFIED:20260112T153730Z
UID:3322-1767808800-1767812400@lancasterelkslodge1625.org
SUMMARY:Calendar Meeting
DESCRIPTION:
URL:https://lancasterelkslodge1625.org/event/calendar-meeting-8/
LOCATION:Elks Lodge #1625\, 240 E Ave k\, Lancaster\, CA\, 93535\, United States
CATEGORIES:Committee
END:VEVENT
BEGIN:VEVENT
DTSTART;TZID=America/Los_Angeles:20260107T183000
DTEND;TZID=America/Los_Angeles:20260107T193000
DTSTAMP:20260422T152242
CREATED:20260112T153831Z
LAST-MODIFIED:20260112T153831Z
UID:3325-1767810600-1767814200@lancasterelkslodge1625.org
SUMMARY:Desert Sunrise RV Meeting
DESCRIPTION:
URL:https://lancasterelkslodge1625.org/event/desert-sunrise-rv-meeting-7/
LOCATION:Elks Lodge #1625\, 240 E Ave k\, Lancaster\, CA\, 93535\, United States
CATEGORIES:RV Club
END:VEVENT
BEGIN:VEVENT
DTSTART;VALUE=DATE:20260108
DTEND;VALUE=DATE:20260109
DTSTAMP:20260422T152242
CREATED:20260112T154126Z
LAST-MODIFIED:20260112T154126Z
UID:3329-1767830400-1767916799@lancasterelkslodge1625.org
SUMMARY:LODGE CLOSED
DESCRIPTION:
URL:https://lancasterelkslodge1625.org/event/lodge-closed-19/
LOCATION:Elks Lodge #1625\, 240 E Ave k\, Lancaster\, CA\, 93535\, United States
ATTACH;FMTTYPE=image/jpeg:https://lancasterelkslodge1625.org/wp-content/uploads/2025/03/istockphoto-1323505495-612x612-1.jpg
END:VEVENT
BEGIN:VEVENT
DTSTART;TZID=America/Los_Angeles:20260109T160000
DTEND;TZID=America/Los_Angeles:20260109T190000
DTSTAMP:20260422T152242
CREATED:20260112T162559Z
LAST-MODIFIED:20260112T162559Z
UID:3332-1767974400-1767985200@lancasterelkslodge1625.org
SUMMARY:Dogs at the Bar
DESCRIPTION:
URL:https://lancasterelkslodge1625.org/event/dogs-at-the-bar-131/
LOCATION:Elks Lodge #1625\, 240 E Ave k\, Lancaster\, CA\, 93535\, United States
CATEGORIES:Dining,Social
ATTACH;FMTTYPE=image/webp:https://lancasterelkslodge1625.org/wp-content/uploads/2025/02/hotdogs.webp
END:VEVENT
BEGIN:VEVENT
DTSTART;TZID=America/Los_Angeles:20260109T180000
DTEND;TZID=America/Los_Angeles:20260109T190000
DTSTAMP:20260422T152242
CREATED:20260112T163032Z
LAST-MODIFIED:20260112T163032Z
UID:3338-1767981600-1767985200@lancasterelkslodge1625.org
SUMMARY:Investigation
DESCRIPTION:
URL:https://lancasterelkslodge1625.org/event/investigation-11/
LOCATION:Elks Lodge #1625\, 240 E Ave k\, Lancaster\, CA\, 93535\, United States
CATEGORIES:Closed Meeting
END:VEVENT
BEGIN:VEVENT
DTSTART;TZID=America/Los_Angeles:20260109T180000
DTEND;TZID=America/Los_Angeles:20260109T220000
DTSTAMP:20260422T152242
CREATED:20260112T162926Z
LAST-MODIFIED:20260112T162926Z
UID:3335-1767981600-1767996000@lancasterelkslodge1625.org
SUMMARY:Friday Night Dance
DESCRIPTION:
URL:https://lancasterelkslodge1625.org/event/friday-night-dance-8/
LOCATION:Elks Lodge #1625\, 240 E Ave k\, Lancaster\, CA\, 93535\, United States
CATEGORIES:Dining,Exercise,Social
ATTACH;FMTTYPE=image/jpeg:https://lancasterelkslodge1625.org/wp-content/uploads/2025/10/2nd-Friday-Night-Elks-Dance-full-page.jpg
END:VEVENT
BEGIN:VEVENT
DTSTART;TZID=America/Los_Angeles:20260110T170000
DTEND;TZID=America/Los_Angeles:20260110T183000
DTSTAMP:20260422T152242
CREATED:20260112T163136Z
LAST-MODIFIED:20260113T141243Z
UID:3341-1768064400-1768069800@lancasterelkslodge1625.org
SUMMARY:Anwar's Rib BBQ Dinner
DESCRIPTION:[pdf_embed url=”https://lancasterelkslodge1625.org/wp-content/uploads/2026/01/Rib-BBQ-January-10th.pdf”]
URL:https://lancasterelkslodge1625.org/event/anwars-rib-bbq-dinner-2/
LOCATION:Elks Lodge #1625\, 240 E Ave k\, Lancaster\, CA\, 93535\, United States
CATEGORIES:Dining,Social
END:VEVENT
BEGIN:VEVENT
DTSTART;TZID=America/Los_Angeles:20260111T090000
DTEND;TZID=America/Los_Angeles:20260111T120000
DTSTAMP:20260422T152242
CREATED:20260112T163252Z
LAST-MODIFIED:20260112T163252Z
UID:3344-1768122000-1768132800@lancasterelkslodge1625.org
SUMMARY:Sunday Breakfast
DESCRIPTION:
URL:https://lancasterelkslodge1625.org/event/sunday-breakfast-28/
LOCATION:Elks Lodge #1625\, 240 E Ave k\, Lancaster\, CA\, 93535\, United States
CATEGORIES:Dining,Social
ATTACH;FMTTYPE=image/jpeg:https://lancasterelkslodge1625.org/wp-content/uploads/2025/02/471604501_903223825310380_8747720846203576067_n.jpg
END:VEVENT
BEGIN:VEVENT
DTSTART;TZID=America/Los_Angeles:20260112T110000
DTEND;TZID=America/Los_Angeles:20260112T140000
DTSTAMP:20260422T152242
CREATED:20260112T163434Z
LAST-MODIFIED:20260112T163434Z
UID:3347-1768215600-1768226400@lancasterelkslodge1625.org
SUMMARY:Burgers and Dogs
DESCRIPTION:
URL:https://lancasterelkslodge1625.org/event/burgers-and-dogs-39/
LOCATION:Elks Lodge #1625\, 240 E Ave k\, Lancaster\, CA\, 93535\, United States
CATEGORIES:Dining,Social
END:VEVENT
END:VCALENDAR