BEGIN:VCALENDAR
VERSION:2.0
PRODID:-//Lancaster Elks Lodge #1625 - ECPv6.15.20//NONSGML v1.0//EN
CALSCALE:GREGORIAN
METHOD:PUBLISH
X-ORIGINAL-URL:https://lancasterelkslodge1625.org
X-WR-CALDESC:Events for Lancaster Elks Lodge #1625
REFRESH-INTERVAL;VALUE=DURATION:PT1H
X-Robots-Tag:noindex
X-PUBLISHED-TTL:PT1H
BEGIN:VTIMEZONE
TZID:America/Los_Angeles
BEGIN:DAYLIGHT
TZOFFSETFROM:-0800
TZOFFSETTO:-0700
TZNAME:PDT
DTSTART:20240310T100000
END:DAYLIGHT
BEGIN:STANDARD
TZOFFSETFROM:-0700
TZOFFSETTO:-0800
TZNAME:PST
DTSTART:20241103T090000
END:STANDARD
BEGIN:DAYLIGHT
TZOFFSETFROM:-0800
TZOFFSETTO:-0700
TZNAME:PDT
DTSTART:20250309T100000
END:DAYLIGHT
BEGIN:STANDARD
TZOFFSETFROM:-0700
TZOFFSETTO:-0800
TZNAME:PST
DTSTART:20251102T090000
END:STANDARD
BEGIN:DAYLIGHT
TZOFFSETFROM:-0800
TZOFFSETTO:-0700
TZNAME:PDT
DTSTART:20260308T100000
END:DAYLIGHT
BEGIN:STANDARD
TZOFFSETFROM:-0700
TZOFFSETTO:-0800
TZNAME:PST
DTSTART:20261101T090000
END:STANDARD
END:VTIMEZONE
BEGIN:VEVENT
DTSTART;VALUE=DATE:20251019
DTEND;VALUE=DATE:20251026
DTSTAMP:20260422T213127
CREATED:20251003T165136Z
LAST-MODIFIED:20251003T165136Z
UID:2684-1760832000-1761436799@lancasterelkslodge1625.org
SUMMARY:Drug Awareness Week
DESCRIPTION:
URL:https://lancasterelkslodge1625.org/event/drug-awareness-week/
LOCATION:CA
END:VEVENT
BEGIN:VEVENT
DTSTART;TZID=America/Los_Angeles:20251019T090000
DTEND;TZID=America/Los_Angeles:20251019T120000
DTSTAMP:20260422T213127
CREATED:20251003T165001Z
LAST-MODIFIED:20251003T165022Z
UID:2681-1760864400-1760875200@lancasterelkslodge1625.org
SUMMARY:Breakfast
DESCRIPTION:
URL:https://lancasterelkslodge1625.org/event/breakfast-17/
LOCATION:Elks Lodge #1625\, 240 E Ave k\, Lancaster\, CA\, 93535\, United States
CATEGORIES:Dining,Social
ATTACH;FMTTYPE=image/jpeg:https://lancasterelkslodge1625.org/wp-content/uploads/2025/02/471604501_903223825310380_8747720846203576067_n.jpg
END:VEVENT
BEGIN:VEVENT
DTSTART;TZID=America/Los_Angeles:20251020T110000
DTEND;TZID=America/Los_Angeles:20251020T140000
DTSTAMP:20260422T213127
CREATED:20251003T165525Z
LAST-MODIFIED:20251003T165525Z
UID:2687-1760958000-1760968800@lancasterelkslodge1625.org
SUMMARY:Burgers and Dogs
DESCRIPTION:
URL:https://lancasterelkslodge1625.org/event/burgers-and-dogs-31/
LOCATION:Elks Lodge #1625\, 240 E Ave k\, Lancaster\, CA\, 93535\, United States
CATEGORIES:Dining,Social
ATTACH;FMTTYPE=image/png:https://lancasterelkslodge1625.org/wp-content/uploads/2025/02/image.png
END:VEVENT
BEGIN:VEVENT
DTSTART;TZID=America/Los_Angeles:20251020T160000
DTEND;TZID=America/Los_Angeles:20251020T190000
DTSTAMP:20260422T213127
CREATED:20251003T165921Z
LAST-MODIFIED:20251003T165921Z
UID:2690-1760976000-1760986800@lancasterelkslodge1625.org
SUMMARY:Cribbage
DESCRIPTION:
URL:https://lancasterelkslodge1625.org/event/cribbage-38/
LOCATION:Elks Lodge #1625\, 240 E Ave k\, Lancaster\, CA\, 93535\, United States
CATEGORIES:Social
ATTACH;FMTTYPE=image/png:https://lancasterelkslodge1625.org/wp-content/uploads/2025/02/image-3.png
END:VEVENT
BEGIN:VEVENT
DTSTART;TZID=America/Los_Angeles:20251020T160000
DTEND;TZID=America/Los_Angeles:20251020T190000
DTSTAMP:20260422T213127
CREATED:20251003T170508Z
LAST-MODIFIED:20251003T170508Z
UID:2696-1760976000-1760986800@lancasterelkslodge1625.org
SUMMARY:Dogs at the Bar
DESCRIPTION:
URL:https://lancasterelkslodge1625.org/event/dogs-at-the-bar-96/
LOCATION:Elks Lodge #1625\, 240 E Ave k\, Lancaster\, CA\, 93535\, United States
ATTACH;FMTTYPE=image/webp:https://lancasterelkslodge1625.org/wp-content/uploads/2025/02/hotdogs.webp
END:VEVENT
BEGIN:VEVENT
DTSTART;TZID=America/Los_Angeles:20251020T183000
DTEND;TZID=America/Los_Angeles:20251020T210000
DTSTAMP:20260422T213127
CREATED:20251003T170126Z
LAST-MODIFIED:20251003T170126Z
UID:2693-1760985000-1760994000@lancasterelkslodge1625.org
SUMMARY:Line Dancing
DESCRIPTION:
URL:https://lancasterelkslodge1625.org/event/line-dancing-38/
LOCATION:Elks Lodge #1625\, 240 E Ave k\, Lancaster\, CA\, 93535\, United States
CATEGORIES:Exercise,Social
ATTACH;FMTTYPE=image/png:https://lancasterelkslodge1625.org/wp-content/uploads/2025/02/image-1.png
END:VEVENT
BEGIN:VEVENT
DTSTART;TZID=America/Los_Angeles:20251021T170000
DTEND;TZID=America/Los_Angeles:20251021T183000
DTSTAMP:20260422T213127
CREATED:20251003T170848Z
LAST-MODIFIED:20251003T170848Z
UID:2699-1761066000-1761071400@lancasterelkslodge1625.org
SUMMARY:Dinner
DESCRIPTION:
URL:https://lancasterelkslodge1625.org/event/dinner-16/
LOCATION:Elks Lodge #1625\, 240 E Ave k\, Lancaster\, CA\, 93535\, United States
CATEGORIES:Dining,Social
END:VEVENT
BEGIN:VEVENT
DTSTART;TZID=America/Los_Angeles:20251021T190000
DTEND;TZID=America/Los_Angeles:20251021T203000
DTSTAMP:20260422T213127
CREATED:20251003T170953Z
LAST-MODIFIED:20251003T170953Z
UID:2702-1761073200-1761078600@lancasterelkslodge1625.org
SUMMARY:Elks Meeting; Initiation
DESCRIPTION:
URL:https://lancasterelkslodge1625.org/event/elks-meeting-initiation-3/
LOCATION:Elks Lodge #1625\, 240 E Ave k\, Lancaster\, CA\, 93535\, United States
CATEGORIES:Closed Meeting
END:VEVENT
BEGIN:VEVENT
DTSTART;TZID=America/Los_Angeles:20251022T160000
DTEND;TZID=America/Los_Angeles:20251022T190000
DTSTAMP:20260422T213127
CREATED:20251003T173206Z
LAST-MODIFIED:20251003T173206Z
UID:2705-1761148800-1761159600@lancasterelkslodge1625.org
SUMMARY:Dogs at the Bar
DESCRIPTION:
URL:https://lancasterelkslodge1625.org/event/dogs-at-the-bar-97/
LOCATION:Elks Lodge #1625\, 240 E Ave k\, Lancaster\, CA\, 93535\, United States
CATEGORIES:Dining,Social
ATTACH;FMTTYPE=image/webp:https://lancasterelkslodge1625.org/wp-content/uploads/2025/02/hotdogs.webp
END:VEVENT
BEGIN:VEVENT
DTSTART;TZID=America/Los_Angeles:20251022T170000
DTEND;TZID=America/Los_Angeles:20251022T190000
DTSTAMP:20260422T213127
CREATED:20251003T173427Z
LAST-MODIFIED:20251003T173427Z
UID:2712-1761152400-1761159600@lancasterelkslodge1625.org
SUMMARY:Whiskey Tasting
DESCRIPTION:
URL:https://lancasterelkslodge1625.org/event/whiskey-tasting/
LOCATION:Elks Lodge #1625\, 240 E Ave k\, Lancaster\, CA\, 93535\, United States
CATEGORIES:Social
END:VEVENT
BEGIN:VEVENT
DTSTART;VALUE=DATE:20251023
DTEND;VALUE=DATE:20251024
DTSTAMP:20260422T213127
CREATED:20251003T173521Z
LAST-MODIFIED:20251003T173521Z
UID:2715-1761177600-1761263999@lancasterelkslodge1625.org
SUMMARY:LODGE CLOSED
DESCRIPTION:
URL:https://lancasterelkslodge1625.org/event/lodge-closed-12/
LOCATION:Elks Lodge #1625\, 240 E Ave k\, Lancaster\, CA\, 93535\, United States
ATTACH;FMTTYPE=image/jpeg:https://lancasterelkslodge1625.org/wp-content/uploads/2025/03/istockphoto-1323505495-612x612-1.jpg
END:VEVENT
BEGIN:VEVENT
DTSTART;TZID=America/Los_Angeles:20251024T160000
DTEND;TZID=America/Los_Angeles:20251024T190000
DTSTAMP:20260422T213127
CREATED:20251003T173624Z
LAST-MODIFIED:20251003T173624Z
UID:2718-1761321600-1761332400@lancasterelkslodge1625.org
SUMMARY:Dogs at the Bar
DESCRIPTION:
URL:https://lancasterelkslodge1625.org/event/dogs-at-the-bar-98/
LOCATION:Elks Lodge #1625\, 240 E Ave k\, Lancaster\, CA\, 93535\, United States
ATTACH;FMTTYPE=image/webp:https://lancasterelkslodge1625.org/wp-content/uploads/2025/02/hotdogs.webp
END:VEVENT
BEGIN:VEVENT
DTSTART;TZID=America/Los_Angeles:20251024T180000
DTEND;TZID=America/Los_Angeles:20251024T220000
DTSTAMP:20260422T213127
CREATED:20251003T173316Z
LAST-MODIFIED:20251003T173316Z
UID:2708-1761328800-1761343200@lancasterelkslodge1625.org
SUMMARY:Board Game Night
DESCRIPTION:
URL:https://lancasterelkslodge1625.org/event/board-game-night/
LOCATION:Elks Lodge #1625\, 240 E Ave k\, Lancaster\, CA\, 93535\, United States
CATEGORIES:Social
END:VEVENT
BEGIN:VEVENT
DTSTART;TZID=America/Los_Angeles:20251025T170000
DTEND;TZID=America/Los_Angeles:20251025T183000
DTSTAMP:20260422T213127
CREATED:20251003T173754Z
LAST-MODIFIED:20251003T173804Z
UID:2721-1761411600-1761417000@lancasterelkslodge1625.org
SUMMARY:Fish Fry
DESCRIPTION:Last one for Year
URL:https://lancasterelkslodge1625.org/event/fish-fry-7/
LOCATION:Elks Lodge #1625\, 240 E Ave k\, Lancaster\, CA\, 93535\, United States
CATEGORIES:Dining,Social
END:VEVENT
BEGIN:VEVENT
DTSTART;VALUE=DATE:20251026
DTEND;VALUE=DATE:20251030
DTSTAMP:20260422T213127
CREATED:20251003T173958Z
LAST-MODIFIED:20251003T173958Z
UID:2727-1761436800-1761782399@lancasterelkslodge1625.org
SUMMARY:Decorate for Kids Halloween Party
DESCRIPTION:
URL:https://lancasterelkslodge1625.org/event/decorate-for-kids-halloween-party/
LOCATION:Elks Lodge #1625\, 240 E Ave k\, Lancaster\, CA\, 93535\, United States
CATEGORIES:Social
END:VEVENT
BEGIN:VEVENT
DTSTART;TZID=America/Los_Angeles:20251026T160000
DTEND;TZID=America/Los_Angeles:20251026T190000
DTSTAMP:20260422T213127
CREATED:20251003T173914Z
LAST-MODIFIED:20251003T173914Z
UID:2724-1761494400-1761505200@lancasterelkslodge1625.org
SUMMARY:Dogs at the Bar
DESCRIPTION:
URL:https://lancasterelkslodge1625.org/event/dogs-at-the-bar-99/
LOCATION:Elks Lodge #1625\, 240 E Ave k\, Lancaster\, CA\, 93535\, United States
CATEGORIES:Dining,Social
ATTACH;FMTTYPE=image/webp:https://lancasterelkslodge1625.org/wp-content/uploads/2025/02/hotdogs.webp
END:VEVENT
BEGIN:VEVENT
DTSTART;TZID=America/Los_Angeles:20251027T110000
DTEND;TZID=America/Los_Angeles:20251027T140000
DTSTAMP:20260422T213127
CREATED:20251003T174144Z
LAST-MODIFIED:20251003T174144Z
UID:2730-1761562800-1761573600@lancasterelkslodge1625.org
SUMMARY:Burgers and Dogs
DESCRIPTION:
URL:https://lancasterelkslodge1625.org/event/burgers-and-dogs-32/
LOCATION:Elks Lodge #1625\, 240 E Ave k\, Lancaster\, CA\, 93535\, United States
ATTACH;FMTTYPE=image/png:https://lancasterelkslodge1625.org/wp-content/uploads/2025/02/image.png
END:VEVENT
BEGIN:VEVENT
DTSTART;TZID=America/Los_Angeles:20251027T160000
DTEND;TZID=America/Los_Angeles:20251027T190000
DTSTAMP:20260422T213127
CREATED:20251003T174306Z
LAST-MODIFIED:20251003T174306Z
UID:2733-1761580800-1761591600@lancasterelkslodge1625.org
SUMMARY:Cribbage
DESCRIPTION:
URL:https://lancasterelkslodge1625.org/event/cribbage-39/
LOCATION:Elks Lodge #1625\, 240 E Ave k\, Lancaster\, CA\, 93535\, United States
CATEGORIES:Social
ATTACH;FMTTYPE=image/png:https://lancasterelkslodge1625.org/wp-content/uploads/2025/02/image-3.png
END:VEVENT
BEGIN:VEVENT
DTSTART;TZID=America/Los_Angeles:20251027T160000
DTEND;TZID=America/Los_Angeles:20251027T190000
DTSTAMP:20260422T213127
CREATED:20251003T174453Z
LAST-MODIFIED:20251003T174453Z
UID:2739-1761580800-1761591600@lancasterelkslodge1625.org
SUMMARY:Dogs at the Bar
DESCRIPTION:
URL:https://lancasterelkslodge1625.org/event/dogs-at-the-bar-100/
LOCATION:Elks Lodge #1625\, 240 E Ave k\, Lancaster\, CA\, 93535\, United States
CATEGORIES:Dining,Social
ATTACH;FMTTYPE=image/webp:https://lancasterelkslodge1625.org/wp-content/uploads/2025/02/hotdogs.webp
END:VEVENT
BEGIN:VEVENT
DTSTART;TZID=America/Los_Angeles:20251027T183000
DTEND;TZID=America/Los_Angeles:20251027T210000
DTSTAMP:20260422T213127
CREATED:20251003T174357Z
LAST-MODIFIED:20251003T174357Z
UID:2736-1761589800-1761598800@lancasterelkslodge1625.org
SUMMARY:Line Dancing
DESCRIPTION:
URL:https://lancasterelkslodge1625.org/event/line-dancing-39/
LOCATION:Elks Lodge #1625\, 240 E Ave k\, Lancaster\, CA\, 93535\, United States
CATEGORIES:Exercise,Social
ATTACH;FMTTYPE=image/png:https://lancasterelkslodge1625.org/wp-content/uploads/2025/02/image-1.png
END:VEVENT
BEGIN:VEVENT
DTSTART;TZID=America/Los_Angeles:20251028T160000
DTEND;TZID=America/Los_Angeles:20251028T190000
DTSTAMP:20260422T213127
CREATED:20251003T174620Z
LAST-MODIFIED:20251003T174620Z
UID:2742-1761667200-1761678000@lancasterelkslodge1625.org
SUMMARY:Dogs at the Bar
DESCRIPTION:
URL:https://lancasterelkslodge1625.org/event/dogs-at-the-bar-101/
LOCATION:Elks Lodge #1625\, 240 E Ave k\, Lancaster\, CA\, 93535\, United States
CATEGORIES:Dining,Social
ATTACH;FMTTYPE=image/webp:https://lancasterelkslodge1625.org/wp-content/uploads/2025/02/hotdogs.webp
END:VEVENT
BEGIN:VEVENT
DTSTART;TZID=America/Los_Angeles:20251029T160000
DTEND;TZID=America/Los_Angeles:20251029T190000
DTSTAMP:20260422T213127
CREATED:20251003T174713Z
LAST-MODIFIED:20251003T174713Z
UID:2745-1761753600-1761764400@lancasterelkslodge1625.org
SUMMARY:Dogs at the Bar
DESCRIPTION:
URL:https://lancasterelkslodge1625.org/event/dogs-at-the-bar-102/
LOCATION:Elks Lodge #1625\, 240 E Ave k\, Lancaster\, CA\, 93535\, United States
CATEGORIES:Dining,Social
ATTACH;FMTTYPE=image/webp:https://lancasterelkslodge1625.org/wp-content/uploads/2025/02/hotdogs.webp
END:VEVENT
BEGIN:VEVENT
DTSTART;VALUE=DATE:20251030
DTEND;VALUE=DATE:20251031
DTSTAMP:20260422T213127
CREATED:20251003T174755Z
LAST-MODIFIED:20251003T174755Z
UID:2748-1761782400-1761868799@lancasterelkslodge1625.org
SUMMARY:LODGE CLOSED
DESCRIPTION:
URL:https://lancasterelkslodge1625.org/event/lodge-closed-13/
LOCATION:Elks Lodge #1625\, 240 E Ave k\, Lancaster\, CA\, 93535\, United States
ATTACH;FMTTYPE=image/jpeg:https://lancasterelkslodge1625.org/wp-content/uploads/2025/03/istockphoto-1323505495-612x612-1.jpg
END:VEVENT
BEGIN:VEVENT
DTSTART;VALUE=DATE:20251031
DTEND;VALUE=DATE:20251101
DTSTAMP:20260422T213127
CREATED:20250902T011845Z
LAST-MODIFIED:20250213T140155Z
UID:713-1761868800-1761955199@lancasterelkslodge1625.org
SUMMARY:Halloween
DESCRIPTION:
URL:https://lancasterelkslodge1625.org/event/halloween/
LOCATION:CA
CATEGORIES:Holiday
ATTACH;FMTTYPE=image/jpeg:https://lancasterelkslodge1625.org/wp-content/uploads/2025/02/halloween.jpg
END:VEVENT
BEGIN:VEVENT
DTSTART;TZID=America/Los_Angeles:20251031T160000
DTEND;TZID=America/Los_Angeles:20251031T190000
DTSTAMP:20260422T213127
CREATED:20251003T174843Z
LAST-MODIFIED:20251003T174843Z
UID:2751-1761926400-1761937200@lancasterelkslodge1625.org
SUMMARY:Dogs at the Bar
DESCRIPTION:
URL:https://lancasterelkslodge1625.org/event/dogs-at-the-bar-103/
LOCATION:Elks Lodge #1625\, 240 E Ave k\, Lancaster\, CA\, 93535\, United States
CATEGORIES:Dining,Social
ATTACH;FMTTYPE=image/webp:https://lancasterelkslodge1625.org/wp-content/uploads/2025/02/hotdogs.webp
END:VEVENT
BEGIN:VEVENT
DTSTART;TZID=America/Los_Angeles:20251031T170000
DTEND;TZID=America/Los_Angeles:20251031T190000
DTSTAMP:20260422T213127
CREATED:20251003T174959Z
LAST-MODIFIED:20251003T175026Z
UID:2754-1761930000-1761937200@lancasterelkslodge1625.org
SUMMARY:Kids' Halloween Party / Trunk or Treat
DESCRIPTION:
URL:https://lancasterelkslodge1625.org/event/kids-halloween-party/
LOCATION:Elks Lodge #1625\, 240 E Ave k\, Lancaster\, CA\, 93535\, United States
CATEGORIES:Social
ATTACH;FMTTYPE=image/jpeg:https://lancasterelkslodge1625.org/wp-content/uploads/2025/10/2025-Kids-Halloween-Party-scaled.jpg
END:VEVENT
BEGIN:VEVENT
DTSTART;TZID=America/Los_Angeles:20251101T173000
DTEND;TZID=America/Los_Angeles:20251101T183000
DTSTAMP:20260422T213127
CREATED:20251027T140603Z
LAST-MODIFIED:20251027T140603Z
UID:2818-1762018200-1762021800@lancasterelkslodge1625.org
SUMMARY:Western Night Music by Runaway Train
DESCRIPTION:
URL:https://lancasterelkslodge1625.org/event/western-night-music-by-runaway-train/
LOCATION:Elks Lodge #1625\, 240 E Ave k\, Lancaster\, CA\, 93535\, United States
CATEGORIES:Dining,Exercise,Social
ATTACH;FMTTYPE=image/jpeg:https://lancasterelkslodge1625.org/wp-content/uploads/2025/10/Western-Night-Nov-1-scaled.jpg
END:VEVENT
BEGIN:VEVENT
DTSTART;TZID=America/Los_Angeles:20251102T090000
DTEND;TZID=America/Los_Angeles:20251102T120000
DTSTAMP:20260422T213127
CREATED:20251027T140933Z
LAST-MODIFIED:20251027T140933Z
UID:2822-1762074000-1762084800@lancasterelkslodge1625.org
SUMMARY:Sunday Breakfast
DESCRIPTION:
URL:https://lancasterelkslodge1625.org/event/sunday-breakfast-22/
LOCATION:Elks Lodge #1625\, 240 E Ave k\, Lancaster\, CA\, 93535\, United States
CATEGORIES:Dining,Social
ATTACH;FMTTYPE=image/jpeg:https://lancasterelkslodge1625.org/wp-content/uploads/2025/02/471604501_903223825310380_8747720846203576067_n.jpg
END:VEVENT
BEGIN:VEVENT
DTSTART;TZID=America/Los_Angeles:20251103T110000
DTEND;TZID=America/Los_Angeles:20251103T140000
DTSTAMP:20260422T213127
CREATED:20251027T141049Z
LAST-MODIFIED:20251027T141049Z
UID:2825-1762167600-1762178400@lancasterelkslodge1625.org
SUMMARY:Burgers & Dogs
DESCRIPTION:
URL:https://lancasterelkslodge1625.org/event/burgers-dogs-6/
LOCATION:Elks Lodge #1625\, 240 E Ave k\, Lancaster\, CA\, 93535\, United States
CATEGORIES:Dining,Social
ATTACH;FMTTYPE=image/png:https://lancasterelkslodge1625.org/wp-content/uploads/2025/02/image.png
END:VEVENT
BEGIN:VEVENT
DTSTART;TZID=America/Los_Angeles:20251103T120000
DTEND;TZID=America/Los_Angeles:20251103T130000
DTSTAMP:20260422T213127
CREATED:20251027T141203Z
LAST-MODIFIED:20251027T141203Z
UID:2828-1762171200-1762174800@lancasterelkslodge1625.org
SUMMARY:Veterans Committee Meeting
DESCRIPTION:
URL:https://lancasterelkslodge1625.org/event/veterans-committee-meeting/
LOCATION:Elks Lodge #1625\, 240 E Ave k\, Lancaster\, CA\, 93535\, United States
CATEGORIES:Committee,Social
END:VEVENT
END:VCALENDAR