BEGIN:VCALENDAR
VERSION:2.0
PRODID:-//Lancaster Elks Lodge #1625 - ECPv6.15.20//NONSGML v1.0//EN
CALSCALE:GREGORIAN
METHOD:PUBLISH
X-WR-CALNAME:Lancaster Elks Lodge #1625
X-ORIGINAL-URL:https://lancasterelkslodge1625.org
X-WR-CALDESC:Events for Lancaster Elks Lodge #1625
REFRESH-INTERVAL;VALUE=DURATION:PT1H
X-Robots-Tag:noindex
X-PUBLISHED-TTL:PT1H
BEGIN:VTIMEZONE
TZID:America/Los_Angeles
BEGIN:DAYLIGHT
TZOFFSETFROM:-0800
TZOFFSETTO:-0700
TZNAME:PDT
DTSTART:20240310T100000
END:DAYLIGHT
BEGIN:STANDARD
TZOFFSETFROM:-0700
TZOFFSETTO:-0800
TZNAME:PST
DTSTART:20241103T090000
END:STANDARD
BEGIN:DAYLIGHT
TZOFFSETFROM:-0800
TZOFFSETTO:-0700
TZNAME:PDT
DTSTART:20250309T100000
END:DAYLIGHT
BEGIN:STANDARD
TZOFFSETFROM:-0700
TZOFFSETTO:-0800
TZNAME:PST
DTSTART:20251102T090000
END:STANDARD
BEGIN:DAYLIGHT
TZOFFSETFROM:-0800
TZOFFSETTO:-0700
TZNAME:PDT
DTSTART:20260308T100000
END:DAYLIGHT
BEGIN:STANDARD
TZOFFSETFROM:-0700
TZOFFSETTO:-0800
TZNAME:PST
DTSTART:20261101T090000
END:STANDARD
END:VTIMEZONE
BEGIN:VEVENT
DTSTART;TZID=America/Los_Angeles:20250901T160000
DTEND;TZID=America/Los_Angeles:20250901T190000
DTSTAMP:20260423T021259
CREATED:20250827T233552Z
LAST-MODIFIED:20250827T233552Z
UID:2326-1756742400-1756753200@lancasterelkslodge1625.org
SUMMARY:Dogs at the Bar
DESCRIPTION:
URL:https://lancasterelkslodge1625.org/event/dogs-at-the-bar-75/
LOCATION:Elks Lodge #1625\, 240 E Ave k\, Lancaster\, CA\, 93535\, United States
CATEGORIES:Dining,Social
ATTACH;FMTTYPE=image/webp:https://lancasterelkslodge1625.org/wp-content/uploads/2025/02/hotdogs.webp
END:VEVENT
BEGIN:VEVENT
DTSTART;TZID=America/Los_Angeles:20250901T183000
DTEND;TZID=America/Los_Angeles:20250901T210000
DTSTAMP:20260423T021259
CREATED:20250827T233433Z
LAST-MODIFIED:20250827T233433Z
UID:2323-1756751400-1756760400@lancasterelkslodge1625.org
SUMMARY:Line Dancing
DESCRIPTION:
URL:https://lancasterelkslodge1625.org/event/line-dancing-31/
LOCATION:Elks Lodge #1625\, 240 E Ave k\, Lancaster\, CA\, 93535\, United States
CATEGORIES:Exercise,Social
ATTACH;FMTTYPE=image/png:https://lancasterelkslodge1625.org/wp-content/uploads/2025/02/image-1.png
END:VEVENT
BEGIN:VEVENT
DTSTART;TZID=America/Los_Angeles:20250902T170000
DTEND;TZID=America/Los_Angeles:20250902T183000
DTSTAMP:20260423T021259
CREATED:20250828T135249Z
LAST-MODIFIED:20250828T135249Z
UID:2330-1756832400-1756837800@lancasterelkslodge1625.org
SUMMARY:Dinner
DESCRIPTION:
URL:https://lancasterelkslodge1625.org/event/dinner-12/
LOCATION:Elks Lodge #1625\, 240 E Ave k\, Lancaster\, CA\, 93535\, United States
CATEGORIES:Dining,Social
END:VEVENT
BEGIN:VEVENT
DTSTART;TZID=America/Los_Angeles:20250902T190000
DTEND;TZID=America/Los_Angeles:20250902T203000
DTSTAMP:20260423T021259
CREATED:20250828T135339Z
LAST-MODIFIED:20250828T135339Z
UID:2333-1756839600-1756845000@lancasterelkslodge1625.org
SUMMARY:Elks Meeting
DESCRIPTION:
URL:https://lancasterelkslodge1625.org/event/elks-meeting-12/
LOCATION:Elks Lodge #1625\, 240 E Ave k\, Lancaster\, CA\, 93535\, United States
CATEGORIES:Closed Meeting,Social
END:VEVENT
BEGIN:VEVENT
DTSTART;TZID=America/Los_Angeles:20250903T160000
DTEND;TZID=America/Los_Angeles:20250903T190000
DTSTAMP:20260423T021259
CREATED:20250828T135459Z
LAST-MODIFIED:20250828T135459Z
UID:2336-1756915200-1756926000@lancasterelkslodge1625.org
SUMMARY:Dogs at the Bar
DESCRIPTION:
URL:https://lancasterelkslodge1625.org/event/dogs-at-the-bar-76/
LOCATION:Elks Lodge #1625\, 240 E Ave k\, Lancaster\, CA\, 93535\, United States
CATEGORIES:Dining,Social
ATTACH;FMTTYPE=image/webp:https://lancasterelkslodge1625.org/wp-content/uploads/2025/02/hotdogs.webp
END:VEVENT
BEGIN:VEVENT
DTSTART;TZID=America/Los_Angeles:20250903T180000
DTEND;TZID=America/Los_Angeles:20250903T190000
DTSTAMP:20260423T021259
CREATED:20250828T135556Z
LAST-MODIFIED:20250828T135556Z
UID:2339-1756922400-1756926000@lancasterelkslodge1625.org
SUMMARY:Calendar Meeting
DESCRIPTION:
URL:https://lancasterelkslodge1625.org/event/calendar-meeting-5/
LOCATION:Elks Lodge #1625\, 240 E Ave k\, Lancaster\, CA\, 93535\, United States
CATEGORIES:Committee
END:VEVENT
BEGIN:VEVENT
DTSTART;TZID=America/Los_Angeles:20250903T183000
DTEND;TZID=America/Los_Angeles:20250903T193000
DTSTAMP:20260423T021259
CREATED:20250828T135708Z
LAST-MODIFIED:20250828T135708Z
UID:2342-1756924200-1756927800@lancasterelkslodge1625.org
SUMMARY:Desert Sunrise RV Meeting
DESCRIPTION:
URL:https://lancasterelkslodge1625.org/event/desert-sunrise-rv-meeting-5/
LOCATION:Elks Lodge #1625\, 240 E Ave k\, Lancaster\, CA\, 93535\, United States
CATEGORIES:Committee
END:VEVENT
BEGIN:VEVENT
DTSTART;VALUE=DATE:20250904
DTEND;VALUE=DATE:20250905
DTSTAMP:20260423T021259
CREATED:20250828T135759Z
LAST-MODIFIED:20250828T135759Z
UID:2345-1756944000-1757030399@lancasterelkslodge1625.org
SUMMARY:LOUNGE CLOSED
DESCRIPTION:
URL:https://lancasterelkslodge1625.org/event/lounge-closed-23/
LOCATION:Elks Lodge #1625\, 240 E Ave k\, Lancaster\, CA\, 93535\, United States
ATTACH;FMTTYPE=image/jpeg:https://lancasterelkslodge1625.org/wp-content/uploads/2025/03/istockphoto-1323505495-612x612-1.jpg
END:VEVENT
BEGIN:VEVENT
DTSTART;TZID=America/Los_Angeles:20250905T160000
DTEND;TZID=America/Los_Angeles:20250905T190000
DTSTAMP:20260423T021259
CREATED:20250828T135904Z
LAST-MODIFIED:20250828T135904Z
UID:2348-1757088000-1757098800@lancasterelkslodge1625.org
SUMMARY:Dogs at the Bar
DESCRIPTION:
URL:https://lancasterelkslodge1625.org/event/dogs-at-the-bar-77/
LOCATION:Elks Lodge #1625\, 240 E Ave k\, Lancaster\, CA\, 93535\, United States
CATEGORIES:Dining,Social
ATTACH;FMTTYPE=image/webp:https://lancasterelkslodge1625.org/wp-content/uploads/2025/02/hotdogs.webp
END:VEVENT
BEGIN:VEVENT
DTSTART;TZID=America/Los_Angeles:20250905T170000
DTEND;TZID=America/Los_Angeles:20250905T181500
DTSTAMP:20260423T021259
CREATED:20250828T140203Z
LAST-MODIFIED:20250828T140203Z
UID:2354-1757091600-1757096100@lancasterelkslodge1625.org
SUMMARY:Drug Awareness Program Potluck
DESCRIPTION:
URL:https://lancasterelkslodge1625.org/event/drug-awareness-program-potluck/
LOCATION:Elks Lodge #1625\, 240 E Ave k\, Lancaster\, CA\, 93535\, United States
CATEGORIES:Dining,Social
END:VEVENT
BEGIN:VEVENT
DTSTART;TZID=America/Los_Angeles:20250905T180000
DTEND;TZID=America/Los_Angeles:20250905T200000
DTSTAMP:20260423T021259
CREATED:20250828T140002Z
LAST-MODIFIED:20250831T154329Z
UID:2351-1757095200-1757102400@lancasterelkslodge1625.org
SUMMARY:Investigation
DESCRIPTION:
URL:https://lancasterelkslodge1625.org/event/investigation-8/
LOCATION:Elks Lodge #1625\, 240 E Ave k\, Lancaster\, CA\, 93535\, United States
CATEGORIES:Closed Meeting
END:VEVENT
BEGIN:VEVENT
DTSTART;TZID=America/Los_Angeles:20250905T183000
DTEND;TZID=America/Los_Angeles:20250905T200000
DTSTAMP:20260423T021259
CREATED:20250828T140251Z
LAST-MODIFIED:20250828T140251Z
UID:2357-1757097000-1757102400@lancasterelkslodge1625.org
SUMMARY:Spokes Person
DESCRIPTION:
URL:https://lancasterelkslodge1625.org/event/spokes-person/
LOCATION:Elks Lodge #1625\, 240 E Ave k\, Lancaster\, CA\, 93535\, United States
END:VEVENT
BEGIN:VEVENT
DTSTART;TZID=America/Los_Angeles:20250907T090000
DTEND;TZID=America/Los_Angeles:20250907T120000
DTSTAMP:20260423T021259
CREATED:20250828T140403Z
LAST-MODIFIED:20250828T140403Z
UID:2360-1757235600-1757246400@lancasterelkslodge1625.org
SUMMARY:Breakfast
DESCRIPTION:
URL:https://lancasterelkslodge1625.org/event/breakfast-11/
LOCATION:Elks Lodge #1625\, 240 E Ave k\, Lancaster\, CA\, 93535\, United States
CATEGORIES:Dining,Social
ATTACH;FMTTYPE=image/jpeg:https://lancasterelkslodge1625.org/wp-content/uploads/2025/02/471604501_903223825310380_8747720846203576067_n.jpg
END:VEVENT
BEGIN:VEVENT
DTSTART;TZID=America/Los_Angeles:20250908T110000
DTEND;TZID=America/Los_Angeles:20250908T140000
DTSTAMP:20260423T021259
CREATED:20250828T140549Z
LAST-MODIFIED:20250828T140549Z
UID:2363-1757329200-1757340000@lancasterelkslodge1625.org
SUMMARY:Burgers & Dogs
DESCRIPTION:
URL:https://lancasterelkslodge1625.org/event/burgers-dogs-5/
LOCATION:Elks Lodge #1625\, 240 E Ave k\, Lancaster\, CA\, 93535\, United States
CATEGORIES:Dining,Social
ATTACH;FMTTYPE=image/png:https://lancasterelkslodge1625.org/wp-content/uploads/2025/02/image.png
END:VEVENT
BEGIN:VEVENT
DTSTART;TZID=America/Los_Angeles:20250908T160000
DTEND;TZID=America/Los_Angeles:20250908T190000
DTSTAMP:20260423T021259
CREATED:20250828T140707Z
LAST-MODIFIED:20250828T140707Z
UID:2366-1757347200-1757358000@lancasterelkslodge1625.org
SUMMARY:Cribbage
DESCRIPTION:
URL:https://lancasterelkslodge1625.org/event/cribbage-32/
LOCATION:Elks Lodge #1625\, 240 E Ave k\, Lancaster\, CA\, 93535\, United States
CATEGORIES:Social
ATTACH;FMTTYPE=image/png:https://lancasterelkslodge1625.org/wp-content/uploads/2025/02/image-3.png
END:VEVENT
BEGIN:VEVENT
DTSTART;TZID=America/Los_Angeles:20250908T160000
DTEND;TZID=America/Los_Angeles:20250908T190000
DTSTAMP:20260423T021259
CREATED:20250828T141307Z
LAST-MODIFIED:20250828T141307Z
UID:2378-1757347200-1757358000@lancasterelkslodge1625.org
SUMMARY:Dogs at the Bar
DESCRIPTION:
URL:https://lancasterelkslodge1625.org/event/dogs-at-the-bar-78/
LOCATION:Elks Lodge #1625\, 240 E Ave k\, Lancaster\, CA\, 93535\, United States
CATEGORIES:Dining,Social
ATTACH;FMTTYPE=image/webp:https://lancasterelkslodge1625.org/wp-content/uploads/2025/02/hotdogs.webp
END:VEVENT
BEGIN:VEVENT
DTSTART;TZID=America/Los_Angeles:20250908T180000
DTEND;TZID=America/Los_Angeles:20250908T190000
DTSTAMP:20260423T021259
CREATED:20250828T140817Z
LAST-MODIFIED:20250828T140817Z
UID:2369-1757354400-1757358000@lancasterelkslodge1625.org
SUMMARY:Board Meeting
DESCRIPTION:
URL:https://lancasterelkslodge1625.org/event/board-meeting-4/
LOCATION:Elks Lodge #1625\, 240 E Ave k\, Lancaster\, CA\, 93535\, United States
CATEGORIES:Closed Meeting,Committee
END:VEVENT
BEGIN:VEVENT
DTSTART;TZID=America/Los_Angeles:20250908T180000
DTEND;TZID=America/Los_Angeles:20250908T190000
DTSTAMP:20260423T021259
CREATED:20250828T141126Z
LAST-MODIFIED:20250828T141126Z
UID:2372-1757354400-1757358000@lancasterelkslodge1625.org
SUMMARY:Rage of the Sage RV Meeting
DESCRIPTION:
URL:https://lancasterelkslodge1625.org/event/rage-of-the-sage-rv-meeting-5/
LOCATION:Elks Lodge #1625\, 240 E Ave k\, Lancaster\, CA\, 93535\, United States
CATEGORIES:Social
END:VEVENT
BEGIN:VEVENT
DTSTART;TZID=America/Los_Angeles:20250908T183000
DTEND;TZID=America/Los_Angeles:20250908T210000
DTSTAMP:20260423T021259
CREATED:20250828T141222Z
LAST-MODIFIED:20250828T141222Z
UID:2375-1757356200-1757365200@lancasterelkslodge1625.org
SUMMARY:Line Dancing
DESCRIPTION:
URL:https://lancasterelkslodge1625.org/event/line-dancing-32/
LOCATION:Elks Lodge #1625\, 240 E Ave k\, Lancaster\, CA\, 93535\, United States
CATEGORIES:Exercise,Social
ATTACH;FMTTYPE=image/png:https://lancasterelkslodge1625.org/wp-content/uploads/2025/02/image-1.png
END:VEVENT
BEGIN:VEVENT
DTSTART;TZID=America/Los_Angeles:20250909T170000
DTEND;TZID=America/Los_Angeles:20250909T183000
DTSTAMP:20260423T021259
CREATED:20250828T141401Z
LAST-MODIFIED:20250828T141401Z
UID:2381-1757437200-1757442600@lancasterelkslodge1625.org
SUMMARY:Meatloaf
DESCRIPTION:
URL:https://lancasterelkslodge1625.org/event/meatloaf/
LOCATION:Elks Lodge #1625\, 240 E Ave k\, Lancaster\, CA\, 93535\, United States
CATEGORIES:Dining,Social
END:VEVENT
BEGIN:VEVENT
DTSTART;TZID=America/Los_Angeles:20250909T190000
DTEND;TZID=America/Los_Angeles:20250909T203000
DTSTAMP:20260423T021259
CREATED:20250828T150237Z
LAST-MODIFIED:20250831T154422Z
UID:2384-1757444400-1757449800@lancasterelkslodge1625.org
SUMMARY:Elks Meeting - Balloting
DESCRIPTION:
URL:https://lancasterelkslodge1625.org/event/elks-meeting-13/
LOCATION:Elks Lodge #1625\, 240 E Ave k\, Lancaster\, CA\, 93535\, United States
CATEGORIES:Closed Meeting
END:VEVENT
BEGIN:VEVENT
DTSTART;TZID=America/Los_Angeles:20250910T080000
DTEND;TZID=America/Los_Angeles:20250910T170000
DTSTAMP:20260423T021259
CREATED:20250831T144913Z
LAST-MODIFIED:20250831T144913Z
UID:2396-1757491200-1757523600@lancasterelkslodge1625.org
SUMMARY:PER Meeting
DESCRIPTION:
URL:https://lancasterelkslodge1625.org/event/per-meeting-8/
LOCATION:Elks Lodge #1625\, 240 E Ave k\, Lancaster\, CA\, 93535\, United States
CATEGORIES:Closed Meeting
END:VEVENT
BEGIN:VEVENT
DTSTART;TZID=America/Los_Angeles:20250910T160000
DTEND;TZID=America/Los_Angeles:20250910T190000
DTSTAMP:20260423T021259
CREATED:20250831T144733Z
LAST-MODIFIED:20250831T144733Z
UID:2390-1757520000-1757530800@lancasterelkslodge1625.org
SUMMARY:Dogs at the Bar
DESCRIPTION:
URL:https://lancasterelkslodge1625.org/event/dogs-at-the-bar-79/
LOCATION:Elks Lodge #1625\, 240 E Ave k\, Lancaster\, CA\, 93535\, United States
CATEGORIES:Dining,Social
ATTACH;FMTTYPE=image/webp:https://lancasterelkslodge1625.org/wp-content/uploads/2025/02/hotdogs.webp
END:VEVENT
BEGIN:VEVENT
DTSTART;VALUE=DATE:20250911
DTEND;VALUE=DATE:20250912
DTSTAMP:20260423T021259
CREATED:20250831T145006Z
LAST-MODIFIED:20250831T145006Z
UID:2399-1757548800-1757635199@lancasterelkslodge1625.org
SUMMARY:LOUNGE CLOSED
DESCRIPTION:
URL:https://lancasterelkslodge1625.org/event/lounge-closed-24/
LOCATION:Elks Lodge #1625\, 240 E Ave k\, Lancaster\, CA\, 93535\, United States
ATTACH;FMTTYPE=image/jpeg:https://lancasterelkslodge1625.org/wp-content/uploads/2025/03/istockphoto-1323505495-612x612-1.jpg
END:VEVENT
BEGIN:VEVENT
DTSTART;TZID=America/Los_Angeles:20250912T160000
DTEND;TZID=America/Los_Angeles:20250912T190000
DTSTAMP:20260423T021259
CREATED:20250831T145217Z
LAST-MODIFIED:20250831T145217Z
UID:2402-1757692800-1757703600@lancasterelkslodge1625.org
SUMMARY:Dogs at the Bar
DESCRIPTION:
URL:https://lancasterelkslodge1625.org/event/dogs-at-the-bar-80/
LOCATION:Elks Lodge #1625\, 240 E Ave k\, Lancaster\, CA\, 93535\, United States
CATEGORIES:Dining,Social
ATTACH;FMTTYPE=image/webp:https://lancasterelkslodge1625.org/wp-content/uploads/2025/02/hotdogs.webp
END:VEVENT
BEGIN:VEVENT
DTSTART;TZID=America/Los_Angeles:20250912T180000
DTEND;TZID=America/Los_Angeles:20250912T220000
DTSTAMP:20260423T021259
CREATED:20250831T145339Z
LAST-MODIFIED:20250912T231538Z
UID:2405-1757700000-1757714400@lancasterelkslodge1625.org
SUMMARY:Friday Night Dance
DESCRIPTION:
URL:https://lancasterelkslodge1625.org/event/friday-night-dance-5/
LOCATION:Elks Lodge #1625\, 240 E Ave k\, Lancaster\, CA\, 93535\, United States
CATEGORIES:Exercise,Social
ATTACH;FMTTYPE=image/jpeg:https://lancasterelkslodge1625.org/wp-content/uploads/2025/09/2nd-Friday-Night-Elks-Dance.jpg
END:VEVENT
BEGIN:VEVENT
DTSTART;TZID=America/Los_Angeles:20250913T070000
DTEND;TZID=America/Los_Angeles:20250913T120000
DTSTAMP:20260423T021259
CREATED:20250831T145446Z
LAST-MODIFIED:20250831T145446Z
UID:2408-1757746800-1757764800@lancasterelkslodge1625.org
SUMMARY:Lodge Clean-Up
DESCRIPTION:
URL:https://lancasterelkslodge1625.org/event/lodge-clean-up/
LOCATION:Elks Lodge #1625\, 240 E Ave k\, Lancaster\, CA\, 93535\, United States
CATEGORIES:Exercise,Social
END:VEVENT
BEGIN:VEVENT
DTSTART;TZID=America/Los_Angeles:20250913T180000
DTEND;TZID=America/Los_Angeles:20250913T220000
DTSTAMP:20260423T021259
CREATED:20250831T145650Z
LAST-MODIFIED:20250831T145650Z
UID:2411-1757786400-1757800800@lancasterelkslodge1625.org
SUMMARY:Anwar's Rib BBQ Dinner
DESCRIPTION:
URL:https://lancasterelkslodge1625.org/event/anwars-rib-bbq-dinner/
LOCATION:Elks Lodge #1625\, 240 E Ave k\, Lancaster\, CA\, 93535\, United States
CATEGORIES:Dining,Social
END:VEVENT
BEGIN:VEVENT
DTSTART;TZID=America/Los_Angeles:20250914T093000
DTEND;TZID=America/Los_Angeles:20250914T120000
DTSTAMP:20260423T021259
CREATED:20250831T145818Z
LAST-MODIFIED:20250831T145818Z
UID:2415-1757842200-1757851200@lancasterelkslodge1625.org
SUMMARY:Breakfast
DESCRIPTION:
URL:https://lancasterelkslodge1625.org/event/breakfast-12/
LOCATION:Elks Lodge #1625\, 240 E Ave k\, Lancaster\, CA\, 93535\, United States
CATEGORIES:Dining,Social
ATTACH;FMTTYPE=image/jpeg:https://lancasterelkslodge1625.org/wp-content/uploads/2025/02/471604501_903223825310380_8747720846203576067_n.jpg
END:VEVENT
BEGIN:VEVENT
DTSTART;TZID=America/Los_Angeles:20250915T110000
DTEND;TZID=America/Los_Angeles:20250915T140000
DTSTAMP:20260423T021259
CREATED:20250831T150601Z
LAST-MODIFIED:20250831T150601Z
UID:2425-1757934000-1757944800@lancasterelkslodge1625.org
SUMMARY:Burgers and Dogs
DESCRIPTION:
URL:https://lancasterelkslodge1625.org/event/burgers-and-dogs-26/
LOCATION:Elks Lodge #1625\, 240 E Ave k\, Lancaster\, CA\, 93535\, United States
CATEGORIES:Dining,Social
ATTACH;FMTTYPE=image/png:https://lancasterelkslodge1625.org/wp-content/uploads/2025/02/image.png
END:VEVENT
END:VCALENDAR