BEGIN:VCALENDAR
VERSION:2.0
PRODID:-//Lancaster Elks Lodge #1625 - ECPv6.15.20//NONSGML v1.0//EN
CALSCALE:GREGORIAN
METHOD:PUBLISH
X-WR-CALNAME:Lancaster Elks Lodge #1625
X-ORIGINAL-URL:https://lancasterelkslodge1625.org
X-WR-CALDESC:Events for Lancaster Elks Lodge #1625
REFRESH-INTERVAL;VALUE=DURATION:PT1H
X-Robots-Tag:noindex
X-PUBLISHED-TTL:PT1H
BEGIN:VTIMEZONE
TZID:America/Los_Angeles
BEGIN:DAYLIGHT
TZOFFSETFROM:-0800
TZOFFSETTO:-0700
TZNAME:PDT
DTSTART:20240310T100000
END:DAYLIGHT
BEGIN:STANDARD
TZOFFSETFROM:-0700
TZOFFSETTO:-0800
TZNAME:PST
DTSTART:20241103T090000
END:STANDARD
BEGIN:DAYLIGHT
TZOFFSETFROM:-0800
TZOFFSETTO:-0700
TZNAME:PDT
DTSTART:20250309T100000
END:DAYLIGHT
BEGIN:STANDARD
TZOFFSETFROM:-0700
TZOFFSETTO:-0800
TZNAME:PST
DTSTART:20251102T090000
END:STANDARD
BEGIN:DAYLIGHT
TZOFFSETFROM:-0800
TZOFFSETTO:-0700
TZNAME:PDT
DTSTART:20260308T100000
END:DAYLIGHT
BEGIN:STANDARD
TZOFFSETFROM:-0700
TZOFFSETTO:-0800
TZNAME:PST
DTSTART:20261101T090000
END:STANDARD
END:VTIMEZONE
BEGIN:VEVENT
DTSTART;VALUE=DATE:20250327
DTEND;VALUE=DATE:20250328
DTSTAMP:20260423T120250
CREATED:20250222T061456Z
LAST-MODIFIED:20250222T061456Z
UID:987-1743033600-1743119999@lancasterelkslodge1625.org
SUMMARY:LOUNGE CLOSED
DESCRIPTION:
URL:https://lancasterelkslodge1625.org/event/lounge-closed-7/
LOCATION:Elks Lodge #1625\, 240 E Ave k\, Lancaster\, CA\, 93535\, United States
END:VEVENT
BEGIN:VEVENT
DTSTART;TZID=America/Los_Angeles:20250326T173000
DTEND;TZID=America/Los_Angeles:20250326T190000
DTSTAMP:20260423T120250
CREATED:20250222T061406Z
LAST-MODIFIED:20250222T061406Z
UID:984-1743010200-1743015600@lancasterelkslodge1625.org
SUMMARY:Ritual Practice
DESCRIPTION:
URL:https://lancasterelkslodge1625.org/event/ritual-practice-8/
LOCATION:Elks Lodge #1625\, 240 E Ave k\, Lancaster\, CA\, 93535\, United States
CATEGORIES:Closed Meeting
END:VEVENT
BEGIN:VEVENT
DTSTART;TZID=America/Los_Angeles:20250326T170000
DTEND;TZID=America/Los_Angeles:20250326T183000
DTSTAMP:20260423T120250
CREATED:20250327T060402Z
LAST-MODIFIED:20250327T060403Z
UID:1292-1743008400-1743013800@lancasterelkslodge1625.org
SUMMARY:Fish Fry
DESCRIPTION:
URL:https://lancasterelkslodge1625.org/event/fish-fry-2/
LOCATION:Elks Lodge #1625\, 240 E Ave k\, Lancaster\, CA\, 93535\, United States
END:VEVENT
BEGIN:VEVENT
DTSTART;TZID=America/Los_Angeles:20250326T170000
DTEND;TZID=America/Los_Angeles:20250326T183000
DTSTAMP:20260423T120250
CREATED:20250222T061252Z
LAST-MODIFIED:20250222T061316Z
UID:981-1743008400-1743013800@lancasterelkslodge1625.org
SUMMARY:Estate Planning
DESCRIPTION:
URL:https://lancasterelkslodge1625.org/event/estate-planning/
LOCATION:Elks Lodge #1625\, 240 E Ave k\, Lancaster\, CA\, 93535\, United States
CATEGORIES:Committee,Social
END:VEVENT
BEGIN:VEVENT
DTSTART;TZID=America/Los_Angeles:20250326T160000
DTEND;TZID=America/Los_Angeles:20250326T190000
DTSTAMP:20260423T120250
CREATED:20250222T061117Z
LAST-MODIFIED:20250222T061117Z
UID:978-1743004800-1743015600@lancasterelkslodge1625.org
SUMMARY:Dogs at the Bar
DESCRIPTION:*Prices are per dog
URL:https://lancasterelkslodge1625.org/event/dogs-at-the-bar-10/
LOCATION:Elks Lodge #1625\, 240 E Ave k\, Lancaster\, CA\, 93535\, United States
CATEGORIES:Dining,Social
ATTACH;FMTTYPE=image/webp:https://lancasterelkslodge1625.org/wp-content/uploads/2025/02/hotdogs.webp
END:VEVENT
BEGIN:VEVENT
DTSTART;TZID=America/Los_Angeles:20250325T190000
DTEND;TZID=America/Los_Angeles:20250325T210000
DTSTAMP:20260423T120250
CREATED:20250222T060711Z
LAST-MODIFIED:20250222T060711Z
UID:975-1742929200-1742936400@lancasterelkslodge1625.org
SUMMARY:Meeting\, Installation of Officers and Awards
DESCRIPTION:
URL:https://lancasterelkslodge1625.org/event/meeting-installation-of-officers-and-awards/
LOCATION:Elks Lodge #1625\, 240 E Ave k\, Lancaster\, CA\, 93535\, United States
CATEGORIES:Open Meeting,Social
END:VEVENT
BEGIN:VEVENT
DTSTART;TZID=America/Los_Angeles:20250324T183000
DTEND;TZID=America/Los_Angeles:20250324T210000
DTSTAMP:20260423T120250
CREATED:20250222T055655Z
LAST-MODIFIED:20250222T055655Z
UID:972-1742841000-1742850000@lancasterelkslodge1625.org
SUMMARY:Line Dancing
DESCRIPTION:
URL:https://lancasterelkslodge1625.org/event/line-dancing-8/
LOCATION:Elks Lodge #1625\, 240 E Ave k\, Lancaster\, CA\, 93535\, United States
CATEGORIES:Exercise,Social
ATTACH;FMTTYPE=image/png:https://lancasterelkslodge1625.org/wp-content/uploads/2025/02/image-1.png
END:VEVENT
BEGIN:VEVENT
DTSTART;TZID=America/Los_Angeles:20250324T160000
DTEND;TZID=America/Los_Angeles:20250324T190000
DTSTAMP:20260423T120250
CREATED:20250221T221117Z
LAST-MODIFIED:20250221T221117Z
UID:969-1742832000-1742842800@lancasterelkslodge1625.org
SUMMARY:Dogs at the Bar
DESCRIPTION:
URL:https://lancasterelkslodge1625.org/event/dogs-at-the-bar-9/
LOCATION:Elks Lodge #1625\, 240 E Ave k\, Lancaster\, CA\, 93535\, United States
CATEGORIES:Dining,Social
ATTACH;FMTTYPE=image/webp:https://lancasterelkslodge1625.org/wp-content/uploads/2025/02/hotdogs.webp
END:VEVENT
BEGIN:VEVENT
DTSTART;TZID=America/Los_Angeles:20250324T160000
DTEND;TZID=America/Los_Angeles:20250324T190000
DTSTAMP:20260423T120250
CREATED:20250221T220945Z
LAST-MODIFIED:20250221T220945Z
UID:966-1742832000-1742842800@lancasterelkslodge1625.org
SUMMARY:Cribbage
DESCRIPTION:c
URL:https://lancasterelkslodge1625.org/event/cribbage-8/
LOCATION:Elks Lodge #1625\, 240 E Ave k\, Lancaster\, CA\, 93535\, United States
CATEGORIES:Social
ATTACH;FMTTYPE=image/png:https://lancasterelkslodge1625.org/wp-content/uploads/2025/02/image-3.png
END:VEVENT
BEGIN:VEVENT
DTSTART;TZID=America/Los_Angeles:20250324T110000
DTEND;TZID=America/Los_Angeles:20250324T140000
DTSTAMP:20260423T120250
CREATED:20250221T212831Z
LAST-MODIFIED:20250221T212831Z
UID:963-1742814000-1742824800@lancasterelkslodge1625.org
SUMMARY:Burgers and Dogs
DESCRIPTION:
URL:https://lancasterelkslodge1625.org/event/burgers-and-dogs-4/
LOCATION:Elks Lodge #1625\, 240 E Ave k\, Lancaster\, CA\, 93535\, United States
CATEGORIES:Dining,Social
ATTACH;FMTTYPE=image/png:https://lancasterelkslodge1625.org/wp-content/uploads/2025/02/image.png
END:VEVENT
BEGIN:VEVENT
DTSTART;TZID=America/Los_Angeles:20250323T090000
DTEND;TZID=America/Los_Angeles:20250323T120000
DTSTAMP:20260423T120250
CREATED:20250221T210323Z
LAST-MODIFIED:20250221T210323Z
UID:953-1742720400-1742731200@lancasterelkslodge1625.org
SUMMARY:Sunday Breakfast
DESCRIPTION:
URL:https://lancasterelkslodge1625.org/event/sunday-breakfast-9/
LOCATION:Elks Lodge #1625\, 240 E Ave k\, Lancaster\, CA\, 93535\, United States
CATEGORIES:Dining,Social
ATTACH;FMTTYPE=image/jpeg:https://lancasterelkslodge1625.org/wp-content/uploads/2025/02/471604501_903223825310380_8747720846203576067_n.jpg
END:VEVENT
BEGIN:VEVENT
DTSTART;TZID=America/Los_Angeles:20250321T170000
DTEND;TZID=America/Los_Angeles:20250321T183000
DTSTAMP:20260423T120250
CREATED:20250221T172953Z
LAST-MODIFIED:20250224T150945Z
UID:946-1742576400-1742581800@lancasterelkslodge1625.org
SUMMARY:Dinner\, Lasagna
DESCRIPTION:
URL:https://lancasterelkslodge1625.org/event/dinner-lasagna/
LOCATION:Elks Lodge #1625\, 240 E Ave k\, Lancaster\, CA\, 93535\, United States
CATEGORIES:Dining,Social
END:VEVENT
BEGIN:VEVENT
DTSTART;TZID=America/Los_Angeles:20250321T120000
DTEND;TZID=America/Los_Angeles:20250321T120000
DTSTAMP:20260423T120250
CREATED:20250221T231320Z
LAST-MODIFIED:20250221T165354Z
UID:476-1742558400-1742558400@lancasterelkslodge1625.org
SUMMARY:Richard Dockus Entertainment
DESCRIPTION:
URL:https://lancasterelkslodge1625.org/event/richard-dockus-entertainment/
LOCATION:CA
CATEGORIES:Social
END:VEVENT
BEGIN:VEVENT
DTSTART;TZID=America/Los_Angeles:20250320T173000
DTEND;TZID=America/Los_Angeles:20250320T210000
DTSTAMP:20260423T120250
CREATED:20250221T172830Z
LAST-MODIFIED:20250221T172830Z
UID:943-1742491800-1742504400@lancasterelkslodge1625.org
SUMMARY:Bowling at Bowlero
DESCRIPTION:
URL:https://lancasterelkslodge1625.org/event/bowling-at-bowlero-3/
LOCATION:Bowlero\, 43233 Sierra Hwy\, Lancaster\, CA\, 93534\, United States
CATEGORIES:Exercise,Social
ATTACH;FMTTYPE=image/webp:https://lancasterelkslodge1625.org/wp-content/uploads/2025/02/bowling.webp
END:VEVENT
BEGIN:VEVENT
DTSTART;TZID=America/Los_Angeles:20250320T090000
DTEND;TZID=America/Los_Angeles:20250320T150000
DTSTAMP:20260423T120250
CREATED:20250221T172643Z
LAST-MODIFIED:20250221T172643Z
UID:939-1742461200-1742482800@lancasterelkslodge1625.org
SUMMARY:Office Open
DESCRIPTION:
URL:https://lancasterelkslodge1625.org/event/office-open-7/
LOCATION:Elks Lodge #1625\, 240 E Ave k\, Lancaster\, CA\, 93535\, United States
END:VEVENT
BEGIN:VEVENT
DTSTART;VALUE=DATE:20250320
DTEND;VALUE=DATE:20250321
DTSTAMP:20260423T120250
CREATED:20250221T172533Z
LAST-MODIFIED:20250221T172533Z
UID:936-1742428800-1742515199@lancasterelkslodge1625.org
SUMMARY:LOUNGE CLOSED
DESCRIPTION:
URL:https://lancasterelkslodge1625.org/event/lounge-closed-6/
LOCATION:Elks Lodge #1625\, 240 E Ave k\, Lancaster\, CA\, 93535\, United States
END:VEVENT
BEGIN:VEVENT
DTSTART;TZID=America/Los_Angeles:20250319T183000
DTEND;TZID=America/Los_Angeles:20250319T193000
DTSTAMP:20260423T120250
CREATED:20250221T172248Z
LAST-MODIFIED:20250221T172433Z
UID:933-1742409000-1742412600@lancasterelkslodge1625.org
SUMMARY:Orientation
DESCRIPTION:
URL:https://lancasterelkslodge1625.org/event/orientation/
LOCATION:Elks Lodge #1625\, 240 E Ave k\, Lancaster\, CA\, 93535\, United States
CATEGORIES:Closed Meeting
END:VEVENT
BEGIN:VEVENT
DTSTART;TZID=America/Los_Angeles:20250319T173000
DTEND;TZID=America/Los_Angeles:20250319T190000
DTSTAMP:20260423T120250
CREATED:20250221T172150Z
LAST-MODIFIED:20250221T172150Z
UID:930-1742405400-1742410800@lancasterelkslodge1625.org
SUMMARY:Ritual Practice
DESCRIPTION:
URL:https://lancasterelkslodge1625.org/event/ritual-practice-7/
LOCATION:Elks Lodge #1625\, 240 E Ave k\, Lancaster\, CA\, 93535\, United States
CATEGORIES:Closed Meeting
END:VEVENT
BEGIN:VEVENT
DTSTART;TZID=America/Los_Angeles:20250319T160000
DTEND;TZID=America/Los_Angeles:20250319T190000
DTSTAMP:20260423T120250
CREATED:20250221T170939Z
LAST-MODIFIED:20250221T170939Z
UID:927-1742400000-1742410800@lancasterelkslodge1625.org
SUMMARY:Dogs at the Bar
DESCRIPTION:
URL:https://lancasterelkslodge1625.org/event/dogs-at-the-bar-8/
LOCATION:Elks Lodge #1625\, 240 E Ave k\, Lancaster\, CA\, 93535\, United States
CATEGORIES:Dining,Social
ATTACH;FMTTYPE=image/webp:https://lancasterelkslodge1625.org/wp-content/uploads/2025/02/hotdogs.webp
END:VEVENT
BEGIN:VEVENT
DTSTART;TZID=America/Los_Angeles:20250318T190000
DTEND;TZID=America/Los_Angeles:20250318T210000
DTSTAMP:20260423T120250
CREATED:20250221T170559Z
LAST-MODIFIED:20250221T170559Z
UID:924-1742324400-1742331600@lancasterelkslodge1625.org
SUMMARY:Elks Meeting
DESCRIPTION:Initiation
URL:https://lancasterelkslodge1625.org/event/elks-meeting/
LOCATION:Elks Lodge #1625\, 240 E Ave k\, Lancaster\, CA\, 93535\, United States
CATEGORIES:Closed Meeting
END:VEVENT
BEGIN:VEVENT
DTSTART;TZID=America/Los_Angeles:20250317T183000
DTEND;TZID=America/Los_Angeles:20250317T210000
DTSTAMP:20260423T120250
CREATED:20250221T165806Z
LAST-MODIFIED:20250221T165806Z
UID:921-1742236200-1742245200@lancasterelkslodge1625.org
SUMMARY:Line Dancing
DESCRIPTION:
URL:https://lancasterelkslodge1625.org/event/line-dancing-7/
LOCATION:Elks Lodge #1625\, 240 E Ave k\, Lancaster\, CA\, 93535\, United States
CATEGORIES:Exercise,Social
ATTACH;FMTTYPE=image/png:https://lancasterelkslodge1625.org/wp-content/uploads/2025/02/image-1.png
END:VEVENT
BEGIN:VEVENT
DTSTART;TZID=America/Los_Angeles:20250317T160000
DTEND;TZID=America/Los_Angeles:20250317T190000
DTSTAMP:20260423T120250
CREATED:20250221T165644Z
LAST-MODIFIED:20250221T165644Z
UID:918-1742227200-1742238000@lancasterelkslodge1625.org
SUMMARY:Dogs at the Bar
DESCRIPTION:*Price per dog
URL:https://lancasterelkslodge1625.org/event/dogs-at-the-bar-7/
LOCATION:Elks Lodge #1625\, 240 E Ave k\, Lancaster\, CA\, 93535\, United States
CATEGORIES:Dining,Social
ATTACH;FMTTYPE=image/webp:https://lancasterelkslodge1625.org/wp-content/uploads/2025/02/hotdogs.webp
END:VEVENT
BEGIN:VEVENT
DTSTART;TZID=America/Los_Angeles:20250317T160000
DTEND;TZID=America/Los_Angeles:20250317T180000
DTSTAMP:20260423T120250
CREATED:20250221T165530Z
LAST-MODIFIED:20250221T165530Z
UID:915-1742227200-1742234400@lancasterelkslodge1625.org
SUMMARY:Cribbage
DESCRIPTION:
URL:https://lancasterelkslodge1625.org/event/cribbage-7/
LOCATION:Elks Lodge #1625\, 240 E Ave k\, Lancaster\, CA\, 93535\, United States
CATEGORIES:Social
ATTACH;FMTTYPE=image/png:https://lancasterelkslodge1625.org/wp-content/uploads/2025/02/image-3.png
END:VEVENT
BEGIN:VEVENT
DTSTART;TZID=America/Los_Angeles:20250317T110000
DTEND;TZID=America/Los_Angeles:20250317T140000
DTSTAMP:20260423T120250
CREATED:20250221T165210Z
LAST-MODIFIED:20250221T165210Z
UID:912-1742209200-1742220000@lancasterelkslodge1625.org
SUMMARY:Burgers and Dogs
DESCRIPTION:
URL:https://lancasterelkslodge1625.org/event/burgers-and-dogs-3/
LOCATION:CA
CATEGORIES:Dining,Social
ATTACH;FMTTYPE=image/png:https://lancasterelkslodge1625.org/wp-content/uploads/2025/02/image.png
END:VEVENT
BEGIN:VEVENT
DTSTART;VALUE=DATE:20250317
DTEND;VALUE=DATE:20250318
DTSTAMP:20260423T120250
CREATED:20250213T135751Z
LAST-MODIFIED:20250224T150825Z
UID:761-1742169600-1742255999@lancasterelkslodge1625.org
SUMMARY:St. Patrick's Day
DESCRIPTION:
URL:https://lancasterelkslodge1625.org/event/st-patricks-day/
LOCATION:CA
CATEGORIES:Holiday
ATTACH;FMTTYPE=image/jpeg:https://lancasterelkslodge1625.org/wp-content/uploads/2025/02/StPatrick.jpg
END:VEVENT
BEGIN:VEVENT
DTSTART;TZID=America/Los_Angeles:20250316T090000
DTEND;TZID=America/Los_Angeles:20250316T120000
DTSTAMP:20260423T120250
CREATED:20250221T165032Z
LAST-MODIFIED:20250221T165032Z
UID:909-1742115600-1742126400@lancasterelkslodge1625.org
SUMMARY:Sunday Breakfast
DESCRIPTION:
URL:https://lancasterelkslodge1625.org/event/sunday-breakfast-8/
LOCATION:Elks Lodge #1625\, 240 E Ave k\, Lancaster\, CA\, 93535\, United States
CATEGORIES:Dining,Social
ATTACH;FMTTYPE=image/jpeg:https://lancasterelkslodge1625.org/wp-content/uploads/2025/02/471604501_903223825310380_8747720846203576067_n.jpg
END:VEVENT
BEGIN:VEVENT
DTSTART;TZID=America/Los_Angeles:20250315T170000
DTEND;TZID=America/Los_Angeles:20250315T183000
DTSTAMP:20260423T120250
CREATED:20250213T135557Z
LAST-MODIFIED:20250228T214516Z
UID:757-1742058000-1742063400@lancasterelkslodge1625.org
SUMMARY:Purple Pig Night (Dinner: Pork Chops)
DESCRIPTION:Music begins @ 06:30 pm (DJ) \n*Discount on meal if you bring your full pig.
URL:https://lancasterelkslodge1625.org/event/purple-pig-night-2/
LOCATION:Elks Lodge #1625\, 240 E Ave k\, Lancaster\, CA\, 93535\, United States
CATEGORIES:Charity,Dining,Social
ATTACH;FMTTYPE=application/pdf:https://lancasterelkslodge1625.org/wp-content/uploads/2025/02/Purple-Pig-Night-March-15-2025-1.pdf
END:VEVENT
BEGIN:VEVENT
DTSTART;TZID=America/Los_Angeles:20250314T160000
DTEND;TZID=America/Los_Angeles:20250314T190000
DTSTAMP:20260423T120250
CREATED:20250221T164654Z
LAST-MODIFIED:20250221T164654Z
UID:905-1741968000-1741978800@lancasterelkslodge1625.org
SUMMARY:Dogs at the Bar
DESCRIPTION:*Price per dog
URL:https://lancasterelkslodge1625.org/event/dogs-at-the-bar-6/
LOCATION:Elks Lodge #1625\, 240 E Ave k\, Lancaster\, CA\, 93535\, United States
CATEGORIES:Dining,Social
ATTACH;FMTTYPE=image/webp:https://lancasterelkslodge1625.org/wp-content/uploads/2025/02/hotdogs.webp
END:VEVENT
BEGIN:VEVENT
DTSTART;TZID=America/Los_Angeles:20250313T173000
DTEND;TZID=America/Los_Angeles:20250313T210000
DTSTAMP:20260423T120250
CREATED:20250221T164510Z
LAST-MODIFIED:20250221T164510Z
UID:902-1741887000-1741899600@lancasterelkslodge1625.org
SUMMARY:Bowling at Bowlero
DESCRIPTION:
URL:https://lancasterelkslodge1625.org/event/bowling-at-bowlero-2/
LOCATION:Bowlero\, 43233 Sierra Hwy\, Lancaster\, CA\, 93534\, United States
CATEGORIES:Exercise,Social
ATTACH;FMTTYPE=image/webp:https://lancasterelkslodge1625.org/wp-content/uploads/2025/02/bowling.webp
END:VEVENT
BEGIN:VEVENT
DTSTART;TZID=America/Los_Angeles:20250313T090000
DTEND;TZID=America/Los_Angeles:20250313T150000
DTSTAMP:20260423T120250
CREATED:20250221T164404Z
LAST-MODIFIED:20250221T164404Z
UID:899-1741856400-1741878000@lancasterelkslodge1625.org
SUMMARY:Office Open
DESCRIPTION:
URL:https://lancasterelkslodge1625.org/event/office-open-6/
LOCATION:Elks Lodge #1625\, 240 E Ave k\, Lancaster\, CA\, 93535\, United States
END:VEVENT
END:VCALENDAR