BEGIN:VCALENDAR
VERSION:2.0
PRODID:-//Lancaster Elks Lodge #1625 - ECPv6.15.20//NONSGML v1.0//EN
CALSCALE:GREGORIAN
METHOD:PUBLISH
X-WR-CALNAME:Lancaster Elks Lodge #1625
X-ORIGINAL-URL:https://lancasterelkslodge1625.org
X-WR-CALDESC:Events for Lancaster Elks Lodge #1625
REFRESH-INTERVAL;VALUE=DURATION:PT1H
X-Robots-Tag:noindex
X-PUBLISHED-TTL:PT1H
BEGIN:VTIMEZONE
TZID:America/Los_Angeles
BEGIN:DAYLIGHT
TZOFFSETFROM:-0800
TZOFFSETTO:-0700
TZNAME:PDT
DTSTART:20240310T100000
END:DAYLIGHT
BEGIN:STANDARD
TZOFFSETFROM:-0700
TZOFFSETTO:-0800
TZNAME:PST
DTSTART:20241103T090000
END:STANDARD
BEGIN:DAYLIGHT
TZOFFSETFROM:-0800
TZOFFSETTO:-0700
TZNAME:PDT
DTSTART:20250309T100000
END:DAYLIGHT
BEGIN:STANDARD
TZOFFSETFROM:-0700
TZOFFSETTO:-0800
TZNAME:PST
DTSTART:20251102T090000
END:STANDARD
BEGIN:DAYLIGHT
TZOFFSETFROM:-0800
TZOFFSETTO:-0700
TZNAME:PDT
DTSTART:20260308T100000
END:DAYLIGHT
BEGIN:STANDARD
TZOFFSETFROM:-0700
TZOFFSETTO:-0800
TZNAME:PST
DTSTART:20261101T090000
END:STANDARD
END:VTIMEZONE
BEGIN:VEVENT
DTSTART;TZID=America/Los_Angeles:20250914T093000
DTEND;TZID=America/Los_Angeles:20250914T120000
DTSTAMP:20260423T035252
CREATED:20250831T145818Z
LAST-MODIFIED:20250831T145818Z
UID:2415-1757842200-1757851200@lancasterelkslodge1625.org
SUMMARY:Breakfast
DESCRIPTION:
URL:https://lancasterelkslodge1625.org/event/breakfast-12/
LOCATION:Elks Lodge #1625\, 240 E Ave k\, Lancaster\, CA\, 93535\, United States
CATEGORIES:Dining,Social
ATTACH;FMTTYPE=image/jpeg:https://lancasterelkslodge1625.org/wp-content/uploads/2025/02/471604501_903223825310380_8747720846203576067_n.jpg
END:VEVENT
BEGIN:VEVENT
DTSTART;TZID=America/Los_Angeles:20250915T110000
DTEND;TZID=America/Los_Angeles:20250915T140000
DTSTAMP:20260423T035252
CREATED:20250831T150601Z
LAST-MODIFIED:20250831T150601Z
UID:2425-1757934000-1757944800@lancasterelkslodge1625.org
SUMMARY:Burgers and Dogs
DESCRIPTION:
URL:https://lancasterelkslodge1625.org/event/burgers-and-dogs-26/
LOCATION:Elks Lodge #1625\, 240 E Ave k\, Lancaster\, CA\, 93535\, United States
CATEGORIES:Dining,Social
ATTACH;FMTTYPE=image/png:https://lancasterelkslodge1625.org/wp-content/uploads/2025/02/image.png
END:VEVENT
BEGIN:VEVENT
DTSTART;TZID=America/Los_Angeles:20250915T160000
DTEND;TZID=America/Los_Angeles:20250915T190000
DTSTAMP:20260423T035252
CREATED:20250831T150727Z
LAST-MODIFIED:20250831T150727Z
UID:2428-1757952000-1757962800@lancasterelkslodge1625.org
SUMMARY:Cribbage
DESCRIPTION:
URL:https://lancasterelkslodge1625.org/event/cribbage-33/
LOCATION:Elks Lodge #1625\, 240 E Ave k\, Lancaster\, CA\, 93535\, United States
CATEGORIES:Social
ATTACH;FMTTYPE=image/png:https://lancasterelkslodge1625.org/wp-content/uploads/2025/02/image-3.png
END:VEVENT
BEGIN:VEVENT
DTSTART;TZID=America/Los_Angeles:20250915T160000
DTEND;TZID=America/Los_Angeles:20250915T190000
DTSTAMP:20260423T035252
CREATED:20250831T150945Z
LAST-MODIFIED:20250831T150945Z
UID:2434-1757952000-1757962800@lancasterelkslodge1625.org
SUMMARY:Dogs at the Bar
DESCRIPTION:
URL:https://lancasterelkslodge1625.org/event/dogs-at-the-bar-81/
LOCATION:Elks Lodge #1625\, 240 E Ave k\, Lancaster\, CA\, 93535\, United States
CATEGORIES:Dining,Social
ATTACH;FMTTYPE=image/webp:https://lancasterelkslodge1625.org/wp-content/uploads/2025/02/hotdogs.webp
END:VEVENT
BEGIN:VEVENT
DTSTART;TZID=America/Los_Angeles:20250915T183000
DTEND;TZID=America/Los_Angeles:20250915T210000
DTSTAMP:20260423T035252
CREATED:20250831T150844Z
LAST-MODIFIED:20250831T150844Z
UID:2431-1757961000-1757970000@lancasterelkslodge1625.org
SUMMARY:Line Dancing
DESCRIPTION:
URL:https://lancasterelkslodge1625.org/event/line-dancing-33/
LOCATION:Elks Lodge #1625\, 240 E Ave k\, Lancaster\, CA\, 93535\, United States
CATEGORIES:Exercise,Social
ATTACH;FMTTYPE=image/png:https://lancasterelkslodge1625.org/wp-content/uploads/2025/02/image-1.png
END:VEVENT
BEGIN:VEVENT
DTSTART;TZID=America/Los_Angeles:20250916T170000
DTEND;TZID=America/Los_Angeles:20250916T183000
DTSTAMP:20260423T035252
CREATED:20250831T151052Z
LAST-MODIFIED:20250831T151052Z
UID:2437-1758042000-1758047400@lancasterelkslodge1625.org
SUMMARY:Rachel's Tacos
DESCRIPTION:
URL:https://lancasterelkslodge1625.org/event/rachels-tacos/
LOCATION:Elks Lodge #1625\, 240 E Ave k\, Lancaster\, CA\, 93535\, United States
CATEGORIES:Dining,Social
END:VEVENT
BEGIN:VEVENT
DTSTART;TZID=America/Los_Angeles:20250916T190000
DTEND;TZID=America/Los_Angeles:20250916T210000
DTSTAMP:20260423T035252
CREATED:20250831T151142Z
LAST-MODIFIED:20250831T151142Z
UID:2440-1758049200-1758056400@lancasterelkslodge1625.org
SUMMARY:Elks Meeting
DESCRIPTION:
URL:https://lancasterelkslodge1625.org/event/elks-meeting-14/
LOCATION:Elks Lodge #1625\, 240 E Ave k\, Lancaster\, CA\, 93535\, United States
CATEGORIES:Closed Meeting,Social
END:VEVENT
BEGIN:VEVENT
DTSTART;TZID=America/Los_Angeles:20250917T160000
DTEND;TZID=America/Los_Angeles:20250917T190000
DTSTAMP:20260423T035252
CREATED:20250831T151238Z
LAST-MODIFIED:20250831T151238Z
UID:2443-1758124800-1758135600@lancasterelkslodge1625.org
SUMMARY:Dogs at the Bar
DESCRIPTION:
URL:https://lancasterelkslodge1625.org/event/dogs-at-the-bar-82/
LOCATION:Elks Lodge #1625\, 240 E Ave k\, Lancaster\, CA\, 93535\, United States
CATEGORIES:Dining,Social
ATTACH;FMTTYPE=image/webp:https://lancasterelkslodge1625.org/wp-content/uploads/2025/02/hotdogs.webp
END:VEVENT
BEGIN:VEVENT
DTSTART;TZID=America/Los_Angeles:20250917T180000
DTEND;TZID=America/Los_Angeles:20250917T190000
DTSTAMP:20260423T035252
CREATED:20250831T144835Z
LAST-MODIFIED:20250831T154259Z
UID:2393-1758132000-1758135600@lancasterelkslodge1625.org
SUMMARY:Orientation
DESCRIPTION:
URL:https://lancasterelkslodge1625.org/event/orientation-7/
LOCATION:Elks Lodge #1625\, 240 E Ave k\, Lancaster\, CA\, 93535\, United States
CATEGORIES:Closed Meeting
END:VEVENT
BEGIN:VEVENT
DTSTART;VALUE=DATE:20250918
DTEND;VALUE=DATE:20250919
DTSTAMP:20260423T035252
CREATED:20250831T151343Z
LAST-MODIFIED:20250831T151343Z
UID:2446-1758153600-1758239999@lancasterelkslodge1625.org
SUMMARY:LOUNGE CLOSED
DESCRIPTION:
URL:https://lancasterelkslodge1625.org/event/lounge-closed-25/
LOCATION:Elks Lodge #1625\, 240 E Ave k\, Lancaster\, CA\, 93535\, United States
ATTACH;FMTTYPE=image/jpeg:https://lancasterelkslodge1625.org/wp-content/uploads/2025/03/istockphoto-1323505495-612x612-1.jpg
END:VEVENT
BEGIN:VEVENT
DTSTART;TZID=America/Los_Angeles:20250919T160000
DTEND;TZID=America/Los_Angeles:20250919T190000
DTSTAMP:20260423T035252
CREATED:20250831T151447Z
LAST-MODIFIED:20250831T151447Z
UID:2449-1758297600-1758308400@lancasterelkslodge1625.org
SUMMARY:Dogs at the Bar
DESCRIPTION:
URL:https://lancasterelkslodge1625.org/event/dogs-at-the-bar-83/
LOCATION:Elks Lodge #1625\, 240 E Ave k\, Lancaster\, CA\, 93535\, United States
CATEGORIES:Dining,Social
ATTACH;FMTTYPE=image/webp:https://lancasterelkslodge1625.org/wp-content/uploads/2025/02/hotdogs.webp
END:VEVENT
BEGIN:VEVENT
DTSTART;TZID=America/Los_Angeles:20250919T170000
DTEND;TZID=America/Los_Angeles:20250919T183000
DTSTAMP:20260423T035252
CREATED:20250831T151556Z
LAST-MODIFIED:20250912T232620Z
UID:2452-1758301200-1758306600@lancasterelkslodge1625.org
SUMMARY:Lasagna
DESCRIPTION:
URL:https://lancasterelkslodge1625.org/event/lasagna/
LOCATION:Elks Lodge #1625\, 240 E Ave k\, Lancaster\, CA\, 93535\, United States
CATEGORIES:Dining,Social
ATTACH;FMTTYPE=image/jpeg:https://lancasterelkslodge1625.org/wp-content/uploads/2025/09/Lasagna-Dinner-September-19th-scaled.jpg
END:VEVENT
BEGIN:VEVENT
DTSTART;TZID=America/Los_Angeles:20250920T170000
DTEND;TZID=America/Los_Angeles:20250920T183000
DTSTAMP:20260423T035252
CREATED:20250831T151928Z
LAST-MODIFIED:20250912T232426Z
UID:2455-1758387600-1758393000@lancasterelkslodge1625.org
SUMMARY:Purple Pig Night Dinner & Music
DESCRIPTION:Sherri Chefs Cooking
URL:https://lancasterelkslodge1625.org/event/purple-pig-night-dinner-music/
LOCATION:Elks Lodge #1625\, 240 E Ave k\, Lancaster\, CA\, 93535\, United States
CATEGORIES:Dining,Social
ATTACH;FMTTYPE=image/jpeg:https://lancasterelkslodge1625.org/wp-content/uploads/2025/09/Purple-Pig-September-20th-scaled.jpg
END:VEVENT
BEGIN:VEVENT
DTSTART;TZID=America/Los_Angeles:20250921T090000
DTEND;TZID=America/Los_Angeles:20250921T120000
DTSTAMP:20260423T035252
CREATED:20250831T152044Z
LAST-MODIFIED:20250831T152044Z
UID:2458-1758445200-1758456000@lancasterelkslodge1625.org
SUMMARY:Breakfast
DESCRIPTION:
URL:https://lancasterelkslodge1625.org/event/breakfast-13/
LOCATION:Elks Lodge #1625\, 240 E Ave k\, Lancaster\, CA\, 93535\, United States
CATEGORIES:Dining,Social
ATTACH;FMTTYPE=image/jpeg:https://lancasterelkslodge1625.org/wp-content/uploads/2025/02/471604501_903223825310380_8747720846203576067_n.jpg
END:VEVENT
BEGIN:VEVENT
DTSTART;TZID=America/Los_Angeles:20250922T110000
DTEND;TZID=America/Los_Angeles:20250922T140000
DTSTAMP:20260423T035252
CREATED:20250831T152207Z
LAST-MODIFIED:20250831T152207Z
UID:2461-1758538800-1758549600@lancasterelkslodge1625.org
SUMMARY:Burgers and Dogs
DESCRIPTION:
URL:https://lancasterelkslodge1625.org/event/burgers-and-dogs-27/
LOCATION:Elks Lodge #1625\, 240 E Ave k\, Lancaster\, CA\, 93535\, United States
CATEGORIES:Dining,Social
ATTACH;FMTTYPE=image/png:https://lancasterelkslodge1625.org/wp-content/uploads/2025/02/image.png
END:VEVENT
BEGIN:VEVENT
DTSTART;TZID=America/Los_Angeles:20250922T160000
DTEND;TZID=America/Los_Angeles:20250922T190000
DTSTAMP:20260423T035252
CREATED:20250831T152331Z
LAST-MODIFIED:20250831T152331Z
UID:2464-1758556800-1758567600@lancasterelkslodge1625.org
SUMMARY:Cribbage
DESCRIPTION:
URL:https://lancasterelkslodge1625.org/event/cribbage-34/
LOCATION:Elks Lodge #1625\, 240 E Ave k\, Lancaster\, CA\, 93535\, United States
CATEGORIES:Social
ATTACH;FMTTYPE=image/png:https://lancasterelkslodge1625.org/wp-content/uploads/2025/02/image-3.png
END:VEVENT
BEGIN:VEVENT
DTSTART;TZID=America/Los_Angeles:20250922T160000
DTEND;TZID=America/Los_Angeles:20250922T190000
DTSTAMP:20260423T035252
CREATED:20250831T152536Z
LAST-MODIFIED:20250831T152536Z
UID:2470-1758556800-1758567600@lancasterelkslodge1625.org
SUMMARY:Dogs at the Bar
DESCRIPTION:
URL:https://lancasterelkslodge1625.org/event/dogs-at-the-bar-84/
LOCATION:Elks Lodge #1625\, 240 E Ave k\, Lancaster\, CA\, 93535\, United States
CATEGORIES:Dining,Social
ATTACH;FMTTYPE=image/webp:https://lancasterelkslodge1625.org/wp-content/uploads/2025/02/hotdogs.webp
END:VEVENT
BEGIN:VEVENT
DTSTART;TZID=America/Los_Angeles:20250922T183000
DTEND;TZID=America/Los_Angeles:20250922T210000
DTSTAMP:20260423T035252
CREATED:20250831T152435Z
LAST-MODIFIED:20250831T152435Z
UID:2467-1758565800-1758574800@lancasterelkslodge1625.org
SUMMARY:Line Dancing
DESCRIPTION:
URL:https://lancasterelkslodge1625.org/event/line-dancing-34/
LOCATION:Elks Lodge #1625\, 240 E Ave k\, Lancaster\, CA\, 93535\, United States
CATEGORIES:Exercise
ATTACH;FMTTYPE=image/png:https://lancasterelkslodge1625.org/wp-content/uploads/2025/02/image-1.png
END:VEVENT
BEGIN:VEVENT
DTSTART;TZID=America/Los_Angeles:20250923T170000
DTEND;TZID=America/Los_Angeles:20250923T183000
DTSTAMP:20260423T035252
CREATED:20250831T152631Z
LAST-MODIFIED:20250831T152631Z
UID:2473-1758646800-1758652200@lancasterelkslodge1625.org
SUMMARY:Dinner
DESCRIPTION:
URL:https://lancasterelkslodge1625.org/event/dinner-13/
LOCATION:Elks Lodge #1625\, 240 E Ave k\, Lancaster\, CA\, 93535\, United States
CATEGORIES:Dining,Social
END:VEVENT
BEGIN:VEVENT
DTSTART;TZID=America/Los_Angeles:20250923T190000
DTEND;TZID=America/Los_Angeles:20250923T210000
DTSTAMP:20260423T035252
CREATED:20250831T152717Z
LAST-MODIFIED:20250831T152743Z
UID:2476-1758654000-1758661200@lancasterelkslodge1625.org
SUMMARY:Elks Meeting
DESCRIPTION:
URL:https://lancasterelkslodge1625.org/event/elks-meeting-15/
LOCATION:Elks Lodge #1625\, 240 E Ave k\, Lancaster\, CA\, 93535\, United States
CATEGORIES:Closed Meeting,Social
END:VEVENT
BEGIN:VEVENT
DTSTART;TZID=America/Los_Angeles:20250924T160000
DTEND;TZID=America/Los_Angeles:20250924T190000
DTSTAMP:20260423T035252
CREATED:20250831T152851Z
LAST-MODIFIED:20250831T152851Z
UID:2479-1758729600-1758740400@lancasterelkslodge1625.org
SUMMARY:Dogs at the Bar
DESCRIPTION:
URL:https://lancasterelkslodge1625.org/event/dogs-at-the-bar-85/
LOCATION:Elks Lodge #1625\, 240 E Ave k\, Lancaster\, CA\, 93535\, United States
CATEGORIES:Dining,Social
ATTACH;FMTTYPE=image/webp:https://lancasterelkslodge1625.org/wp-content/uploads/2025/02/hotdogs.webp
END:VEVENT
BEGIN:VEVENT
DTSTART;VALUE=DATE:20250925
DTEND;VALUE=DATE:20250926
DTSTAMP:20260423T035252
CREATED:20250831T152936Z
LAST-MODIFIED:20250831T152936Z
UID:2482-1758758400-1758844799@lancasterelkslodge1625.org
SUMMARY:LOUNGE CLOSED
DESCRIPTION:
URL:https://lancasterelkslodge1625.org/event/lounge-closed-26/
LOCATION:Elks Lodge #1625\, 240 E Ave k\, Lancaster\, CA\, 93535\, United States
ATTACH;FMTTYPE=image/jpeg:https://lancasterelkslodge1625.org/wp-content/uploads/2025/03/istockphoto-1323505495-612x612-1.jpg
END:VEVENT
BEGIN:VEVENT
DTSTART;TZID=America/Los_Angeles:20250926T160000
DTEND;TZID=America/Los_Angeles:20250926T190000
DTSTAMP:20260423T035252
CREATED:20250831T153051Z
LAST-MODIFIED:20250831T153051Z
UID:2485-1758902400-1758913200@lancasterelkslodge1625.org
SUMMARY:Dogs at the Bar
DESCRIPTION:
URL:https://lancasterelkslodge1625.org/event/dogs-at-the-bar-86/
LOCATION:Elks Lodge #1625\, 240 E Ave k\, Lancaster\, CA\, 93535\, United States
CATEGORIES:Dining,Social
ATTACH;FMTTYPE=image/webp:https://lancasterelkslodge1625.org/wp-content/uploads/2025/02/hotdogs.webp
END:VEVENT
BEGIN:VEVENT
DTSTART;TZID=America/Los_Angeles:20250926T170000
DTEND;TZID=America/Los_Angeles:20250926T183000
DTSTAMP:20260423T035252
CREATED:20250831T153155Z
LAST-MODIFIED:20250912T232535Z
UID:2488-1758906000-1758911400@lancasterelkslodge1625.org
SUMMARY:Summer Breeze Chicken Dinner
DESCRIPTION:
URL:https://lancasterelkslodge1625.org/event/summer-breeze-chicken-dinner/
LOCATION:Elks Lodge #1625\, 240 E Ave k\, Lancaster\, CA\, 93535\, United States
CATEGORIES:Dining,Social
ATTACH;FMTTYPE=image/jpeg:https://lancasterelkslodge1625.org/wp-content/uploads/2025/09/Chicken-Dinner-September-26th-scaled.jpg
END:VEVENT
BEGIN:VEVENT
DTSTART;TZID=America/Los_Angeles:20250927T080000
DTEND;TZID=America/Los_Angeles:20250927T120000
DTSTAMP:20260423T035252
CREATED:20250831T153301Z
LAST-MODIFIED:20250831T153301Z
UID:2491-1758960000-1758974400@lancasterelkslodge1625.org
SUMMARY:Hoop Shoot\, AV College
DESCRIPTION:
URL:https://lancasterelkslodge1625.org/event/hoop-shoot-av-college/
LOCATION:CA
CATEGORIES:Social
END:VEVENT
BEGIN:VEVENT
DTSTART;TZID=America/Los_Angeles:20250927T170000
DTEND;TZID=America/Los_Angeles:20250927T183000
DTSTAMP:20260423T035252
CREATED:20250831T153410Z
LAST-MODIFIED:20250912T232453Z
UID:2494-1758992400-1758997800@lancasterelkslodge1625.org
SUMMARY:Summer Breeze Rib Eye Steak Dinner
DESCRIPTION:
URL:https://lancasterelkslodge1625.org/event/summer-breeze-rib-eye-steak-dinner/
LOCATION:Elks Lodge #1625\, 240 E Ave k\, Lancaster\, CA\, 93535\, United States
CATEGORIES:Dining,Social
ATTACH;FMTTYPE=image/jpeg:https://lancasterelkslodge1625.org/wp-content/uploads/2025/09/Rib-Eye-BBQ-Sep-27th-scaled.jpg
END:VEVENT
BEGIN:VEVENT
DTSTART;TZID=America/Los_Angeles:20250928T090000
DTEND;TZID=America/Los_Angeles:20250928T120000
DTSTAMP:20260423T035252
CREATED:20250831T153511Z
LAST-MODIFIED:20250831T153543Z
UID:2497-1759050000-1759060800@lancasterelkslodge1625.org
SUMMARY:Breakfast; Summer Breeze
DESCRIPTION:
URL:https://lancasterelkslodge1625.org/event/breakfast-14/
LOCATION:Elks Lodge #1625\, 240 E Ave k\, Lancaster\, CA\, 93535\, United States
CATEGORIES:Dining,Social
ATTACH;FMTTYPE=image/jpeg:https://lancasterelkslodge1625.org/wp-content/uploads/2025/02/471604501_903223825310380_8747720846203576067_n.jpg
END:VEVENT
BEGIN:VEVENT
DTSTART;TZID=America/Los_Angeles:20250929T110000
DTEND;TZID=America/Los_Angeles:20250929T140000
DTSTAMP:20260423T035252
CREATED:20250831T153645Z
LAST-MODIFIED:20250831T153645Z
UID:2501-1759143600-1759154400@lancasterelkslodge1625.org
SUMMARY:Burgers and Dogs
DESCRIPTION:
URL:https://lancasterelkslodge1625.org/event/burgers-and-dogs-28/
LOCATION:Elks Lodge #1625\, 240 E Ave k\, Lancaster\, CA\, 93535\, United States
CATEGORIES:Dining,Social
ATTACH;FMTTYPE=image/png:https://lancasterelkslodge1625.org/wp-content/uploads/2025/02/image.png
END:VEVENT
BEGIN:VEVENT
DTSTART;TZID=America/Los_Angeles:20250929T160000
DTEND;TZID=America/Los_Angeles:20250929T190000
DTSTAMP:20260423T035252
CREATED:20250831T153747Z
LAST-MODIFIED:20250831T153747Z
UID:2504-1759161600-1759172400@lancasterelkslodge1625.org
SUMMARY:Cribbage
DESCRIPTION:
URL:https://lancasterelkslodge1625.org/event/cribbage-35/
LOCATION:Elks Lodge #1625\, 240 E Ave k\, Lancaster\, CA\, 93535\, United States
CATEGORIES:Social
ATTACH;FMTTYPE=image/png:https://lancasterelkslodge1625.org/wp-content/uploads/2025/02/image-3.png
END:VEVENT
BEGIN:VEVENT
DTSTART;TZID=America/Los_Angeles:20250929T160000
DTEND;TZID=America/Los_Angeles:20250929T190000
DTSTAMP:20260423T035252
CREATED:20250831T153944Z
LAST-MODIFIED:20250831T153944Z
UID:2510-1759161600-1759172400@lancasterelkslodge1625.org
SUMMARY:Dogs at the Bar
DESCRIPTION:
URL:https://lancasterelkslodge1625.org/event/dogs-at-the-bar-87/
LOCATION:Elks Lodge #1625\, 240 E Ave k\, Lancaster\, CA\, 93535\, United States
CATEGORIES:Dining,Social
ATTACH;FMTTYPE=image/webp:https://lancasterelkslodge1625.org/wp-content/uploads/2025/02/hotdogs.webp
END:VEVENT
END:VCALENDAR