BEGIN:VCALENDAR
VERSION:2.0
PRODID:-//Lancaster Elks Lodge #1625 - ECPv6.15.20//NONSGML v1.0//EN
CALSCALE:GREGORIAN
METHOD:PUBLISH
X-ORIGINAL-URL:https://lancasterelkslodge1625.org
X-WR-CALDESC:Events for Lancaster Elks Lodge #1625
REFRESH-INTERVAL;VALUE=DURATION:PT1H
X-Robots-Tag:noindex
X-PUBLISHED-TTL:PT1H
BEGIN:VTIMEZONE
TZID:America/Los_Angeles
BEGIN:DAYLIGHT
TZOFFSETFROM:-0800
TZOFFSETTO:-0700
TZNAME:PDT
DTSTART:20240310T100000
END:DAYLIGHT
BEGIN:STANDARD
TZOFFSETFROM:-0700
TZOFFSETTO:-0800
TZNAME:PST
DTSTART:20241103T090000
END:STANDARD
BEGIN:DAYLIGHT
TZOFFSETFROM:-0800
TZOFFSETTO:-0700
TZNAME:PDT
DTSTART:20250309T100000
END:DAYLIGHT
BEGIN:STANDARD
TZOFFSETFROM:-0700
TZOFFSETTO:-0800
TZNAME:PST
DTSTART:20251102T090000
END:STANDARD
BEGIN:DAYLIGHT
TZOFFSETFROM:-0800
TZOFFSETTO:-0700
TZNAME:PDT
DTSTART:20260308T100000
END:DAYLIGHT
BEGIN:STANDARD
TZOFFSETFROM:-0700
TZOFFSETTO:-0800
TZNAME:PST
DTSTART:20261101T090000
END:STANDARD
END:VTIMEZONE
BEGIN:VEVENT
DTSTART;TZID=America/Los_Angeles:20250818T110000
DTEND;TZID=America/Los_Angeles:20250818T140000
DTSTAMP:20260423T035537
CREATED:20250726T155037Z
LAST-MODIFIED:20250726T155037Z
UID:2231-1755514800-1755525600@lancasterelkslodge1625.org
SUMMARY:Burgers and Dogs
DESCRIPTION:
URL:https://lancasterelkslodge1625.org/event/burgers-and-dogs-24/
LOCATION:Elks Lodge #1625\, 240 E Ave k\, Lancaster\, CA\, 93535\, United States
CATEGORIES:Dining,Social
ATTACH;FMTTYPE=image/png:https://lancasterelkslodge1625.org/wp-content/uploads/2025/02/image.png
END:VEVENT
BEGIN:VEVENT
DTSTART;TZID=America/Los_Angeles:20250818T160000
DTEND;TZID=America/Los_Angeles:20250818T190000
DTSTAMP:20260423T035537
CREATED:20250726T155141Z
LAST-MODIFIED:20250726T155141Z
UID:2234-1755532800-1755543600@lancasterelkslodge1625.org
SUMMARY:Cribbage
DESCRIPTION:
URL:https://lancasterelkslodge1625.org/event/cribbage-29/
LOCATION:Elks Lodge #1625\, 240 E Ave k\, Lancaster\, CA\, 93535\, United States
CATEGORIES:Social
ATTACH;FMTTYPE=image/png:https://lancasterelkslodge1625.org/wp-content/uploads/2025/02/image-3.png
END:VEVENT
BEGIN:VEVENT
DTSTART;TZID=America/Los_Angeles:20250818T160000
DTEND;TZID=America/Los_Angeles:20250818T190000
DTSTAMP:20260423T035537
CREATED:20250726T155405Z
LAST-MODIFIED:20250726T155405Z
UID:2240-1755532800-1755543600@lancasterelkslodge1625.org
SUMMARY:Dogs at the Bar
DESCRIPTION:
URL:https://lancasterelkslodge1625.org/event/dogs-at-the-bar-69/
LOCATION:Elks Lodge #1625\, 240 E Ave k\, Lancaster\, CA\, 93535\, United States
CATEGORIES:Dining,Social
ATTACH;FMTTYPE=image/webp:https://lancasterelkslodge1625.org/wp-content/uploads/2025/02/hotdogs.webp
END:VEVENT
BEGIN:VEVENT
DTSTART;TZID=America/Los_Angeles:20250818T183000
DTEND;TZID=America/Los_Angeles:20250818T210000
DTSTAMP:20260423T035537
CREATED:20250726T155303Z
LAST-MODIFIED:20250726T155303Z
UID:2237-1755541800-1755550800@lancasterelkslodge1625.org
SUMMARY:Line Dancing
DESCRIPTION:
URL:https://lancasterelkslodge1625.org/event/line-dancing-29/
LOCATION:Elks Lodge #1625\, 240 E Ave k\, Lancaster\, CA\, 93535\, United States
CATEGORIES:Exercise,Social
ATTACH;FMTTYPE=image/png:https://lancasterelkslodge1625.org/wp-content/uploads/2025/02/image-1.png
END:VEVENT
BEGIN:VEVENT
DTSTART;TZID=America/Los_Angeles:20250819T170000
DTEND;TZID=America/Los_Angeles:20250819T183000
DTSTAMP:20260423T035537
CREATED:20250726T155450Z
LAST-MODIFIED:20250726T155450Z
UID:2243-1755622800-1755628200@lancasterelkslodge1625.org
SUMMARY:Dinner
DESCRIPTION:
URL:https://lancasterelkslodge1625.org/event/dinner-10/
LOCATION:Elks Lodge #1625\, 240 E Ave k\, Lancaster\, CA\, 93535\, United States
CATEGORIES:Dining,Social
END:VEVENT
BEGIN:VEVENT
DTSTART;TZID=America/Los_Angeles:20250819T190000
DTEND;TZID=America/Los_Angeles:20250819T203000
DTSTAMP:20260423T035537
CREATED:20250726T155533Z
LAST-MODIFIED:20250726T155533Z
UID:2246-1755630000-1755635400@lancasterelkslodge1625.org
SUMMARY:Elks Meeting
DESCRIPTION:
URL:https://lancasterelkslodge1625.org/event/elks-meeting-10/
LOCATION:Elks Lodge #1625\, 240 E Ave k\, Lancaster\, CA\, 93535\, United States
CATEGORIES:Closed Meeting,Social
END:VEVENT
BEGIN:VEVENT
DTSTART;TZID=America/Los_Angeles:20250820T160000
DTEND;TZID=America/Los_Angeles:20250820T190000
DTSTAMP:20260423T035537
CREATED:20250726T161719Z
LAST-MODIFIED:20250726T161719Z
UID:2249-1755705600-1755716400@lancasterelkslodge1625.org
SUMMARY:Dogs at the Bar
DESCRIPTION:
URL:https://lancasterelkslodge1625.org/event/dogs-at-the-bar-70/
LOCATION:Elks Lodge #1625\, 240 E Ave k\, Lancaster\, CA\, 93535\, United States
CATEGORIES:Dining,Social
ATTACH;FMTTYPE=image/webp:https://lancasterelkslodge1625.org/wp-content/uploads/2025/02/hotdogs.webp
END:VEVENT
BEGIN:VEVENT
DTSTART;TZID=America/Los_Angeles:20250820T180000
DTEND;TZID=America/Los_Angeles:20250820T190000
DTSTAMP:20260423T035537
CREATED:20250726T161811Z
LAST-MODIFIED:20250726T161811Z
UID:2252-1755712800-1755716400@lancasterelkslodge1625.org
SUMMARY:Orientation
DESCRIPTION:
URL:https://lancasterelkslodge1625.org/event/orientation-6/
LOCATION:Elks Lodge #1625\, 240 E Ave k\, Lancaster\, CA\, 93535\, United States
CATEGORIES:Closed Meeting
END:VEVENT
BEGIN:VEVENT
DTSTART;VALUE=DATE:20250821
DTEND;VALUE=DATE:20250822
DTSTAMP:20260423T035537
CREATED:20250726T161853Z
LAST-MODIFIED:20250726T161853Z
UID:2255-1755734400-1755820799@lancasterelkslodge1625.org
SUMMARY:LODGE CLOSED
DESCRIPTION:
URL:https://lancasterelkslodge1625.org/event/lodge-closed-7/
LOCATION:Elks Lodge #1625\, 240 E Ave k\, Lancaster\, CA\, 93535\, United States
ATTACH;FMTTYPE=image/jpeg:https://lancasterelkslodge1625.org/wp-content/uploads/2025/03/istockphoto-1323505495-612x612-1.jpg
END:VEVENT
BEGIN:VEVENT
DTSTART;TZID=America/Los_Angeles:20250822T160000
DTEND;TZID=America/Los_Angeles:20250822T190000
DTSTAMP:20260423T035537
CREATED:20250726T161941Z
LAST-MODIFIED:20250726T161941Z
UID:2258-1755878400-1755889200@lancasterelkslodge1625.org
SUMMARY:Dogs at the Bar
DESCRIPTION:
URL:https://lancasterelkslodge1625.org/event/dogs-at-the-bar-71/
LOCATION:Elks Lodge #1625\, 240 E Ave k\, Lancaster\, CA\, 93535\, United States
CATEGORIES:Dining,Social
ATTACH;FMTTYPE=image/webp:https://lancasterelkslodge1625.org/wp-content/uploads/2025/02/hotdogs.webp
END:VEVENT
BEGIN:VEVENT
DTSTART;TZID=America/Los_Angeles:20250823T170000
DTEND;TZID=America/Los_Angeles:20250823T210000
DTSTAMP:20260423T035537
CREATED:20250726T162027Z
LAST-MODIFIED:20250726T162027Z
UID:2261-1755968400-1755982800@lancasterelkslodge1625.org
SUMMARY:Casino Night
DESCRIPTION:
URL:https://lancasterelkslodge1625.org/event/casino-night/
LOCATION:Elks Lodge #1625\, 240 E Ave k\, Lancaster\, CA\, 93535\, United States
END:VEVENT
BEGIN:VEVENT
DTSTART;TZID=America/Los_Angeles:20250824T090000
DTEND;TZID=America/Los_Angeles:20250824T120000
DTSTAMP:20260423T035537
CREATED:20250726T162124Z
LAST-MODIFIED:20250726T162124Z
UID:2264-1756026000-1756036800@lancasterelkslodge1625.org
SUMMARY:Breakfast
DESCRIPTION:
URL:https://lancasterelkslodge1625.org/event/breakfast-9/
LOCATION:Elks Lodge #1625\, 240 E Ave k\, Lancaster\, CA\, 93535\, United States
CATEGORIES:Dining,Social
ATTACH;FMTTYPE=image/jpeg:https://lancasterelkslodge1625.org/wp-content/uploads/2025/02/471604501_903223825310380_8747720846203576067_n.jpg
END:VEVENT
BEGIN:VEVENT
DTSTART;TZID=America/Los_Angeles:20250825T110000
DTEND;TZID=America/Los_Angeles:20250825T140000
DTSTAMP:20260423T035537
CREATED:20250726T162224Z
LAST-MODIFIED:20250726T162224Z
UID:2267-1756119600-1756130400@lancasterelkslodge1625.org
SUMMARY:Burgers and Dogs
DESCRIPTION:
URL:https://lancasterelkslodge1625.org/event/burgers-and-dogs-25/
LOCATION:Elks Lodge #1625\, 240 E Ave k\, Lancaster\, CA\, 93535\, United States
CATEGORIES:Dining,Social
ATTACH;FMTTYPE=image/png:https://lancasterelkslodge1625.org/wp-content/uploads/2025/02/image.png
END:VEVENT
BEGIN:VEVENT
DTSTART;TZID=America/Los_Angeles:20250825T160000
DTEND;TZID=America/Los_Angeles:20250825T190000
DTSTAMP:20260423T035537
CREATED:20250726T162326Z
LAST-MODIFIED:20250726T162326Z
UID:2270-1756137600-1756148400@lancasterelkslodge1625.org
SUMMARY:Cribbage
DESCRIPTION:
URL:https://lancasterelkslodge1625.org/event/cribbage-30/
LOCATION:Elks Lodge #1625\, 240 E Ave k\, Lancaster\, CA\, 93535\, United States
CATEGORIES:Social
ATTACH;FMTTYPE=image/png:https://lancasterelkslodge1625.org/wp-content/uploads/2025/02/image-3.png
END:VEVENT
BEGIN:VEVENT
DTSTART;TZID=America/Los_Angeles:20250825T160000
DTEND;TZID=America/Los_Angeles:20250825T190000
DTSTAMP:20260423T035537
CREATED:20250726T162923Z
LAST-MODIFIED:20250726T162923Z
UID:2276-1756137600-1756148400@lancasterelkslodge1625.org
SUMMARY:Dogs at the Bar
DESCRIPTION:
URL:https://lancasterelkslodge1625.org/event/dogs-at-the-bar-72/
LOCATION:Elks Lodge #1625\, 240 E Ave k\, Lancaster\, CA\, 93535\, United States
CATEGORIES:Dining,Social
ATTACH;FMTTYPE=image/webp:https://lancasterelkslodge1625.org/wp-content/uploads/2025/02/hotdogs.webp
END:VEVENT
BEGIN:VEVENT
DTSTART;TZID=America/Los_Angeles:20250825T183000
DTEND;TZID=America/Los_Angeles:20250825T210000
DTSTAMP:20260423T035537
CREATED:20250726T162838Z
LAST-MODIFIED:20250726T162838Z
UID:2273-1756146600-1756155600@lancasterelkslodge1625.org
SUMMARY:Line Dancing
DESCRIPTION:
URL:https://lancasterelkslodge1625.org/event/line-dancing-30/
LOCATION:Elks Lodge #1625\, 240 E Ave k\, Lancaster\, CA\, 93535\, United States
CATEGORIES:Exercise,Social
ATTACH;FMTTYPE=image/png:https://lancasterelkslodge1625.org/wp-content/uploads/2025/02/image-1.png
END:VEVENT
BEGIN:VEVENT
DTSTART;TZID=America/Los_Angeles:20250826T170000
DTEND;TZID=America/Los_Angeles:20250826T183000
DTSTAMP:20260423T035537
CREATED:20250726T163013Z
LAST-MODIFIED:20250726T163013Z
UID:2279-1756227600-1756233000@lancasterelkslodge1625.org
SUMMARY:Dinner
DESCRIPTION:
URL:https://lancasterelkslodge1625.org/event/dinner-11/
LOCATION:Elks Lodge #1625\, 240 E Ave k\, Lancaster\, CA\, 93535\, United States
CATEGORIES:Dining,Social
END:VEVENT
BEGIN:VEVENT
DTSTART;TZID=America/Los_Angeles:20250826T190000
DTEND;TZID=America/Los_Angeles:20250826T203000
DTSTAMP:20260423T035537
CREATED:20250726T163051Z
LAST-MODIFIED:20250726T163051Z
UID:2282-1756234800-1756240200@lancasterelkslodge1625.org
SUMMARY:Elks Meeting
DESCRIPTION:
URL:https://lancasterelkslodge1625.org/event/elks-meeting-11/
LOCATION:Elks Lodge #1625\, 240 E Ave k\, Lancaster\, CA\, 93535\, United States
CATEGORIES:Closed Meeting,Social
END:VEVENT
BEGIN:VEVENT
DTSTART;TZID=America/Los_Angeles:20250827T160000
DTEND;TZID=America/Los_Angeles:20250827T190000
DTSTAMP:20260423T035537
CREATED:20250726T163254Z
LAST-MODIFIED:20250726T163254Z
UID:2285-1756310400-1756321200@lancasterelkslodge1625.org
SUMMARY:Dogs at the Bar
DESCRIPTION:
URL:https://lancasterelkslodge1625.org/event/dogs-at-the-bar-73/
LOCATION:Elks Lodge #1625\, 240 E Ave k\, Lancaster\, CA\, 93535\, United States
CATEGORIES:Dining,Social
END:VEVENT
BEGIN:VEVENT
DTSTART;VALUE=DATE:20250828
DTEND;VALUE=DATE:20250829
DTSTAMP:20260423T035537
CREATED:20250726T163331Z
LAST-MODIFIED:20250726T163331Z
UID:2288-1756339200-1756425599@lancasterelkslodge1625.org
SUMMARY:LODGE CLOSED
DESCRIPTION:
URL:https://lancasterelkslodge1625.org/event/lodge-closed-8/
LOCATION:Elks Lodge #1625\, 240 E Ave k\, Lancaster\, CA\, 93535\, United States
ATTACH;FMTTYPE=image/jpeg:https://lancasterelkslodge1625.org/wp-content/uploads/2025/03/istockphoto-1323505495-612x612-1.jpg
END:VEVENT
BEGIN:VEVENT
DTSTART;TZID=America/Los_Angeles:20250829T160000
DTEND;TZID=America/Los_Angeles:20250829T190000
DTSTAMP:20260423T035537
CREATED:20250726T163414Z
LAST-MODIFIED:20250726T163414Z
UID:2291-1756483200-1756494000@lancasterelkslodge1625.org
SUMMARY:Dogs at the Bar
DESCRIPTION:
URL:https://lancasterelkslodge1625.org/event/dogs-at-the-bar-74/
LOCATION:Elks Lodge #1625\, 240 E Ave k\, Lancaster\, CA\, 93535\, United States
CATEGORIES:Dining,Social
ATTACH;FMTTYPE=image/webp:https://lancasterelkslodge1625.org/wp-content/uploads/2025/02/hotdogs.webp
END:VEVENT
BEGIN:VEVENT
DTSTART;TZID=America/Los_Angeles:20250830T170000
DTEND;TZID=America/Los_Angeles:20250830T183000
DTSTAMP:20260423T035537
CREATED:20250726T163550Z
LAST-MODIFIED:20250726T163550Z
UID:2294-1756573200-1756578600@lancasterelkslodge1625.org
SUMMARY:Fish Fry
DESCRIPTION:
URL:https://lancasterelkslodge1625.org/event/fish-fry-6/
LOCATION:Elks Lodge #1625\, 240 E Ave k\, Lancaster\, CA\, 93535\, United States
CATEGORIES:Dining,Social
END:VEVENT
BEGIN:VEVENT
DTSTART;TZID=America/Los_Angeles:20250831T090000
DTEND;TZID=America/Los_Angeles:20250831T120000
DTSTAMP:20260423T035537
CREATED:20250726T163642Z
LAST-MODIFIED:20250726T163642Z
UID:2297-1756630800-1756641600@lancasterelkslodge1625.org
SUMMARY:Breakfast
DESCRIPTION:
URL:https://lancasterelkslodge1625.org/event/breakfast-10/
LOCATION:Elks Lodge #1625\, 240 E Ave k\, Lancaster\, CA\, 93535\, United States
CATEGORIES:Dining,Social
ATTACH;FMTTYPE=image/jpeg:https://lancasterelkslodge1625.org/wp-content/uploads/2025/02/471604501_903223825310380_8747720846203576067_n.jpg
END:VEVENT
BEGIN:VEVENT
DTSTART;VALUE=DATE:20250901
DTEND;VALUE=DATE:20250902
DTSTAMP:20260423T035537
CREATED:20250802T011543Z
LAST-MODIFIED:20250213T140147Z
UID:710-1756684800-1756771199@lancasterelkslodge1625.org
SUMMARY:Labor Day
DESCRIPTION:
URL:https://lancasterelkslodge1625.org/event/labor-day/
LOCATION:CA
CATEGORIES:Holiday
ATTACH;FMTTYPE=image/jpeg:https://lancasterelkslodge1625.org/wp-content/uploads/2025/02/labor.jpg
END:VEVENT
BEGIN:VEVENT
DTSTART;TZID=America/Los_Angeles:20250901T110000
DTEND;TZID=America/Los_Angeles:20250901T140000
DTSTAMP:20260423T035537
CREATED:20250827T232750Z
LAST-MODIFIED:20250827T232750Z
UID:2311-1756724400-1756735200@lancasterelkslodge1625.org
SUMMARY:Burgers & Dogs
DESCRIPTION:
URL:https://lancasterelkslodge1625.org/event/burgers-dogs-4/
LOCATION:Elks Lodge #1625\, 240 E Ave k\, Lancaster\, CA\, 93535\, United States
CATEGORIES:Dining,Social
ATTACH;FMTTYPE=image/png:https://lancasterelkslodge1625.org/wp-content/uploads/2025/02/image.png
END:VEVENT
BEGIN:VEVENT
DTSTART;TZID=America/Los_Angeles:20250901T120000
DTEND;TZID=America/Los_Angeles:20250901T130000
DTSTAMP:20260423T035537
CREATED:20250827T233135Z
LAST-MODIFIED:20250827T233135Z
UID:2314-1756728000-1756731600@lancasterelkslodge1625.org
SUMMARY:Veterans Committee
DESCRIPTION:
URL:https://lancasterelkslodge1625.org/event/veterans-committee-5/
LOCATION:Elks Lodge #1625\, 240 E Ave k\, Lancaster\, CA\, 93535\, United States
CATEGORIES:Committee
END:VEVENT
BEGIN:VEVENT
DTSTART;TZID=America/Los_Angeles:20250901T150000
DTEND;TZID=America/Los_Angeles:20250901T180000
DTSTAMP:20260423T035537
CREATED:20250827T233331Z
LAST-MODIFIED:20250912T232719Z
UID:2320-1756738800-1756749600@lancasterelkslodge1625.org
SUMMARY:Labor Day Potluck
DESCRIPTION:
URL:https://lancasterelkslodge1625.org/event/labor-day-potluck/
LOCATION:Elks Lodge #1625\, 240 E Ave k\, Lancaster\, CA\, 93535\, United States
CATEGORIES:Dining,Social
ATTACH;FMTTYPE=image/jpeg:https://lancasterelkslodge1625.org/wp-content/uploads/2025/09/Sept-1-Labor-Day-Celebration-Lancaster-Elks-Lodge-1625-scaled.jpg
END:VEVENT
BEGIN:VEVENT
DTSTART;TZID=America/Los_Angeles:20250901T160000
DTEND;TZID=America/Los_Angeles:20250901T190000
DTSTAMP:20260423T035537
CREATED:20250827T233229Z
LAST-MODIFIED:20250827T233229Z
UID:2317-1756742400-1756753200@lancasterelkslodge1625.org
SUMMARY:Cribbage
DESCRIPTION:
URL:https://lancasterelkslodge1625.org/event/cribbage-31/
LOCATION:Elks Lodge #1625\, 240 E Ave k\, Lancaster\, CA\, 93535\, United States
CATEGORIES:Social
ATTACH;FMTTYPE=image/png:https://lancasterelkslodge1625.org/wp-content/uploads/2025/02/image-3.png
END:VEVENT
BEGIN:VEVENT
DTSTART;TZID=America/Los_Angeles:20250901T160000
DTEND;TZID=America/Los_Angeles:20250901T190000
DTSTAMP:20260423T035537
CREATED:20250827T233552Z
LAST-MODIFIED:20250827T233552Z
UID:2326-1756742400-1756753200@lancasterelkslodge1625.org
SUMMARY:Dogs at the Bar
DESCRIPTION:
URL:https://lancasterelkslodge1625.org/event/dogs-at-the-bar-75/
LOCATION:Elks Lodge #1625\, 240 E Ave k\, Lancaster\, CA\, 93535\, United States
CATEGORIES:Dining,Social
ATTACH;FMTTYPE=image/webp:https://lancasterelkslodge1625.org/wp-content/uploads/2025/02/hotdogs.webp
END:VEVENT
BEGIN:VEVENT
DTSTART;TZID=America/Los_Angeles:20250901T183000
DTEND;TZID=America/Los_Angeles:20250901T210000
DTSTAMP:20260423T035537
CREATED:20250827T233433Z
LAST-MODIFIED:20250827T233433Z
UID:2323-1756751400-1756760400@lancasterelkslodge1625.org
SUMMARY:Line Dancing
DESCRIPTION:
URL:https://lancasterelkslodge1625.org/event/line-dancing-31/
LOCATION:Elks Lodge #1625\, 240 E Ave k\, Lancaster\, CA\, 93535\, United States
CATEGORIES:Exercise,Social
ATTACH;FMTTYPE=image/png:https://lancasterelkslodge1625.org/wp-content/uploads/2025/02/image-1.png
END:VEVENT
END:VCALENDAR