BEGIN:VCALENDAR
VERSION:2.0
PRODID:-//Lancaster Elks Lodge #1625 - ECPv6.15.20//NONSGML v1.0//EN
CALSCALE:GREGORIAN
METHOD:PUBLISH
X-ORIGINAL-URL:https://lancasterelkslodge1625.org
X-WR-CALDESC:Events for Lancaster Elks Lodge #1625
REFRESH-INTERVAL;VALUE=DURATION:PT1H
X-Robots-Tag:noindex
X-PUBLISHED-TTL:PT1H
BEGIN:VTIMEZONE
TZID:America/Los_Angeles
BEGIN:DAYLIGHT
TZOFFSETFROM:-0800
TZOFFSETTO:-0700
TZNAME:PDT
DTSTART:20250309T100000
END:DAYLIGHT
BEGIN:STANDARD
TZOFFSETFROM:-0700
TZOFFSETTO:-0800
TZNAME:PST
DTSTART:20251102T090000
END:STANDARD
BEGIN:DAYLIGHT
TZOFFSETFROM:-0800
TZOFFSETTO:-0700
TZNAME:PDT
DTSTART:20260308T100000
END:DAYLIGHT
BEGIN:STANDARD
TZOFFSETFROM:-0700
TZOFFSETTO:-0800
TZNAME:PST
DTSTART:20261101T090000
END:STANDARD
BEGIN:DAYLIGHT
TZOFFSETFROM:-0800
TZOFFSETTO:-0700
TZNAME:PDT
DTSTART:20270314T100000
END:DAYLIGHT
BEGIN:STANDARD
TZOFFSETFROM:-0700
TZOFFSETTO:-0800
TZNAME:PST
DTSTART:20271107T090000
END:STANDARD
END:VTIMEZONE
BEGIN:VEVENT
DTSTART;TZID=America/Los_Angeles:20260428T170000
DTEND;TZID=America/Los_Angeles:20260428T183000
DTSTAMP:20260422T145957
CREATED:20260319T162343Z
LAST-MODIFIED:20260319T162343Z
UID:4039-1777395600-1777401000@lancasterelkslodge1625.org
SUMMARY:Dinner
DESCRIPTION:
URL:https://lancasterelkslodge1625.org/event/dinner-22/
LOCATION:Elks Lodge #1625\, 240 E Ave k\, Lancaster\, CA\, 93535\, United States
CATEGORIES:Dining,Social
END:VEVENT
BEGIN:VEVENT
DTSTART;TZID=America/Los_Angeles:20260428T190000
DTEND;TZID=America/Los_Angeles:20260428T210000
DTSTAMP:20260422T145957
CREATED:20260319T162508Z
LAST-MODIFIED:20260319T162535Z
UID:4042-1777402800-1777410000@lancasterelkslodge1625.org
SUMMARY:Lodge Meeting; Initiation
DESCRIPTION:
URL:https://lancasterelkslodge1625.org/event/lodge-meeting-initiation/
LOCATION:Elks Lodge #1625\, 240 E Ave k\, Lancaster\, CA\, 93535\, United States
CATEGORIES:Closed Meeting,Social
ATTACH;FMTTYPE=image/jpeg:https://lancasterelkslodge1625.org/wp-content/uploads/2026/03/650946025_1223580746608018_8035688406577368261_n.jpg
END:VEVENT
BEGIN:VEVENT
DTSTART;TZID=America/Los_Angeles:20260429T160000
DTEND;TZID=America/Los_Angeles:20260429T190000
DTSTAMP:20260422T145957
CREATED:20260319T162642Z
LAST-MODIFIED:20260319T162642Z
UID:4045-1777478400-1777489200@lancasterelkslodge1625.org
SUMMARY:Dogs at the Bar
DESCRIPTION:
URL:https://lancasterelkslodge1625.org/event/dogs-at-the-bar-177/
LOCATION:Elks Lodge #1625\, 240 E Ave k\, Lancaster\, CA\, 93535\, United States
CATEGORIES:Dining,Social
ATTACH;FMTTYPE=image/webp:https://lancasterelkslodge1625.org/wp-content/uploads/2025/02/hotdogs.webp
END:VEVENT
BEGIN:VEVENT
DTSTART;VALUE=DATE:20260430
DTEND;VALUE=DATE:20260501
DTSTAMP:20260422T145957
CREATED:20260319T163002Z
LAST-MODIFIED:20260319T163002Z
UID:4048-1777507200-1777593599@lancasterelkslodge1625.org
SUMMARY:LODGE CLOSED
DESCRIPTION:
URL:https://lancasterelkslodge1625.org/event/lodge-closed-35/
LOCATION:Elks Lodge #1625\, 240 E Ave k\, Lancaster\, CA\, 93535\, United States
ATTACH;FMTTYPE=image/jpeg:https://lancasterelkslodge1625.org/wp-content/uploads/2025/03/istockphoto-1323505495-612x612-1.jpg
END:VEVENT
BEGIN:VEVENT
DTSTART;VALUE=DATE:20260501
DTEND;VALUE=DATE:20260508
DTSTAMP:20260422T145957
CREATED:20260417T152337Z
LAST-MODIFIED:20260417T152337Z
UID:4116-1777593600-1778198399@lancasterelkslodge1625.org
SUMMARY:Elks National Youth Week
DESCRIPTION:
URL:https://lancasterelkslodge1625.org/event/elks-national-youth-week/
LOCATION:CA
END:VEVENT
BEGIN:VEVENT
DTSTART;TZID=America/Los_Angeles:20260501T160000
DTEND;TZID=America/Los_Angeles:20260501T190000
DTSTAMP:20260422T145957
CREATED:20260417T131626Z
LAST-MODIFIED:20260417T131626Z
UID:4070-1777651200-1777662000@lancasterelkslodge1625.org
SUMMARY:Dogs at the Bar
DESCRIPTION:
URL:https://lancasterelkslodge1625.org/event/dogs-at-the-bar-178/
LOCATION:Elks Lodge #1625\, 240 E Ave k\, Lancaster\, CA\, 93535\, United States
CATEGORIES:Dining,Social
ATTACH;FMTTYPE=image/webp:https://lancasterelkslodge1625.org/wp-content/uploads/2025/02/hotdogs.webp
END:VEVENT
BEGIN:VEVENT
DTSTART;TZID=America/Los_Angeles:20260501T180000
DTEND;TZID=America/Los_Angeles:20260501T190000
DTSTAMP:20260422T145957
CREATED:20260417T152136Z
LAST-MODIFIED:20260417T152136Z
UID:4113-1777658400-1777662000@lancasterelkslodge1625.org
SUMMARY:Investigation
DESCRIPTION:
URL:https://lancasterelkslodge1625.org/event/investigation-15/
LOCATION:Elks Lodge #1625\, 240 E Ave k\, Lancaster\, CA\, 93535\, United States
CATEGORIES:Closed Meeting
END:VEVENT
BEGIN:VEVENT
DTSTART;TZID=America/Los_Angeles:20260502T090000
DTEND;TZID=America/Los_Angeles:20260502T130000
DTSTAMP:20260422T145957
CREATED:20260417T152541Z
LAST-MODIFIED:20260417T152555Z
UID:4119-1777712400-1777726800@lancasterelkslodge1625.org
SUMMARY:Car Show & Bake Sale
DESCRIPTION:
URL:https://lancasterelkslodge1625.org/event/car-show-bake-sale/
LOCATION:Elks Lodge #1625\, 240 E Ave k\, Lancaster\, CA\, 93535\, United States
CATEGORIES:Charity,Dining,Exercise,Social
END:VEVENT
BEGIN:VEVENT
DTSTART;TZID=America/Los_Angeles:20260503T090000
DTEND;TZID=America/Los_Angeles:20260503T120000
DTSTAMP:20260422T145957
CREATED:20260417T152710Z
LAST-MODIFIED:20260417T152728Z
UID:4122-1777798800-1777809600@lancasterelkslodge1625.org
SUMMARY:Sunday Breakfast
DESCRIPTION:Team 3
URL:https://lancasterelkslodge1625.org/event/sunday-breakfast-42/
LOCATION:Elks Lodge #1625\, 240 E Ave k\, Lancaster\, CA\, 93535\, United States
CATEGORIES:Dining,Social
ATTACH;FMTTYPE=image/jpeg:https://lancasterelkslodge1625.org/wp-content/uploads/2025/02/471604501_903223825310380_8747720846203576067_n.jpg
END:VEVENT
BEGIN:VEVENT
DTSTART;TZID=America/Los_Angeles:20260504T110000
DTEND;TZID=America/Los_Angeles:20260504T140000
DTSTAMP:20260422T145957
CREATED:20260417T152917Z
LAST-MODIFIED:20260417T152917Z
UID:4126-1777892400-1777903200@lancasterelkslodge1625.org
SUMMARY:Burgers and Dogs
DESCRIPTION:Team 2
URL:https://lancasterelkslodge1625.org/event/burgers-and-dogs-54/
LOCATION:Elks Lodge #1625\, 240 E Ave k\, Lancaster\, CA\, 93535\, United States
CATEGORIES:Dining,Social
ATTACH;FMTTYPE=image/png:https://lancasterelkslodge1625.org/wp-content/uploads/2025/02/image.png
END:VEVENT
BEGIN:VEVENT
DTSTART;TZID=America/Los_Angeles:20260504T120000
DTEND;TZID=America/Los_Angeles:20260504T130000
DTSTAMP:20260422T145957
CREATED:20260417T153031Z
LAST-MODIFIED:20260417T153031Z
UID:4129-1777896000-1777899600@lancasterelkslodge1625.org
SUMMARY:Veterans Committee
DESCRIPTION:
URL:https://lancasterelkslodge1625.org/event/veterans-committee-9/
LOCATION:Elks Lodge #1625\, 240 E Ave k\, Lancaster\, CA\, 93535\, United States
CATEGORIES:Committee,Open Meeting
END:VEVENT
BEGIN:VEVENT
DTSTART;TZID=America/Los_Angeles:20260504T160000
DTEND;TZID=America/Los_Angeles:20260504T190000
DTSTAMP:20260422T145957
CREATED:20260417T153335Z
LAST-MODIFIED:20260417T153605Z
UID:4132-1777910400-1777921200@lancasterelkslodge1625.org
SUMMARY:Cribbage
DESCRIPTION:
URL:https://lancasterelkslodge1625.org/event/cribbage-66/
LOCATION:Elks Lodge #1625\, 240 E Ave k\, Lancaster\, CA\, 93535\, United States
CATEGORIES:Social
ATTACH;FMTTYPE=image/png:https://lancasterelkslodge1625.org/wp-content/uploads/2025/02/image-3.png
END:VEVENT
BEGIN:VEVENT
DTSTART;TZID=America/Los_Angeles:20260504T160000
DTEND;TZID=America/Los_Angeles:20260504T190000
DTSTAMP:20260422T145957
CREATED:20260417T153543Z
LAST-MODIFIED:20260417T153543Z
UID:4138-1777910400-1777921200@lancasterelkslodge1625.org
SUMMARY:Line Dancing
DESCRIPTION:
URL:https://lancasterelkslodge1625.org/event/line-dancing-66/
LOCATION:Elks Lodge #1625\, 240 E Ave k\, Lancaster\, CA\, 93535\, United States
CATEGORIES:Exercise,Social
ATTACH;FMTTYPE=image/jpeg:https://lancasterelkslodge1625.org/wp-content/uploads/2025/10/Line-Dancing-scaled.jpg
END:VEVENT
BEGIN:VEVENT
DTSTART;TZID=America/Los_Angeles:20260504T160000
DTEND;TZID=America/Los_Angeles:20260504T190000
DTSTAMP:20260422T145957
CREATED:20260417T153947Z
LAST-MODIFIED:20260417T153947Z
UID:4141-1777910400-1777921200@lancasterelkslodge1625.org
SUMMARY:Dogs at the Bar
DESCRIPTION:
URL:https://lancasterelkslodge1625.org/event/dogs-at-the-bar-179/
LOCATION:CA
CATEGORIES:Dining,Social
ATTACH;FMTTYPE=image/webp:https://lancasterelkslodge1625.org/wp-content/uploads/2025/02/hotdogs.webp
END:VEVENT
BEGIN:VEVENT
DTSTART;TZID=America/Los_Angeles:20260504T180000
DTEND;TZID=America/Los_Angeles:20260504T190000
DTSTAMP:20260422T145957
CREATED:20260417T153428Z
LAST-MODIFIED:20260417T153428Z
UID:4135-1777917600-1777921200@lancasterelkslodge1625.org
SUMMARY:Board Meeting
DESCRIPTION:
URL:https://lancasterelkslodge1625.org/event/board-meeting-10/
LOCATION:Elks Lodge #1625\, 240 E Ave k\, Lancaster\, CA\, 93535\, United States
CATEGORIES:Closed Meeting,Committee
END:VEVENT
BEGIN:VEVENT
DTSTART;TZID=America/Los_Angeles:20260505T170000
DTEND;TZID=America/Los_Angeles:20260505T183000
DTSTAMP:20260422T145957
CREATED:20260417T154202Z
LAST-MODIFIED:20260417T154202Z
UID:4144-1778000400-1778005800@lancasterelkslodge1625.org
SUMMARY:Karen’s Dinner
DESCRIPTION:
URL:https://lancasterelkslodge1625.org/event/karens-dinner-7/
LOCATION:Elks Lodge #1625\, 240 E Ave k\, Lancaster\, CA\, 93535\, United States
CATEGORIES:Dining,Social
END:VEVENT
BEGIN:VEVENT
DTSTART;TZID=America/Los_Angeles:20260505T190000
DTEND;TZID=America/Los_Angeles:20260505T210000
DTSTAMP:20260422T145957
CREATED:20260417T154302Z
LAST-MODIFIED:20260417T182950Z
UID:4147-1778007600-1778014800@lancasterelkslodge1625.org
SUMMARY:Elks Meeting
DESCRIPTION:
URL:https://lancasterelkslodge1625.org/event/elks-meeting-37/
LOCATION:Elks Lodge #1625\, 240 E Ave k\, Lancaster\, CA\, 93535\, United States
CATEGORIES:Closed Meeting,Social
ATTACH;FMTTYPE=image/jpeg:https://lancasterelkslodge1625.org/wp-content/uploads/2026/03/650946025_1223580746608018_8035688406577368261_n.jpg
END:VEVENT
BEGIN:VEVENT
DTSTART;TZID=America/Los_Angeles:20260506T160000
DTEND;TZID=America/Los_Angeles:20260506T190000
DTSTAMP:20260422T145957
CREATED:20260417T155721Z
LAST-MODIFIED:20260417T155721Z
UID:4150-1778083200-1778094000@lancasterelkslodge1625.org
SUMMARY:Dogs at the Bar
DESCRIPTION:
URL:https://lancasterelkslodge1625.org/event/dogs-at-the-bar-180/
LOCATION:Elks Lodge #1625\, 240 E Ave k\, Lancaster\, CA\, 93535\, United States
CATEGORIES:Dining,Social
ATTACH;FMTTYPE=image/webp:https://lancasterelkslodge1625.org/wp-content/uploads/2025/02/hotdogs.webp
END:VEVENT
BEGIN:VEVENT
DTSTART;TZID=America/Los_Angeles:20260506T180000
DTEND;TZID=America/Los_Angeles:20260506T193000
DTSTAMP:20260422T145957
CREATED:20260417T155848Z
LAST-MODIFIED:20260417T155848Z
UID:4153-1778090400-1778095800@lancasterelkslodge1625.org
SUMMARY:Calendar Meeting
DESCRIPTION:
URL:https://lancasterelkslodge1625.org/event/calendar-meeting-11/
LOCATION:Elks Lodge #1625\, 240 E Ave k\, Lancaster\, CA\, 93535\, United States
CATEGORIES:Committee
END:VEVENT
BEGIN:VEVENT
DTSTART;TZID=America/Los_Angeles:20260506T183000
DTEND;TZID=America/Los_Angeles:20260506T193000
DTSTAMP:20260422T145957
CREATED:20260417T160003Z
LAST-MODIFIED:20260417T160003Z
UID:4156-1778092200-1778095800@lancasterelkslodge1625.org
SUMMARY:Desert Sunrise RV Club Meeting
DESCRIPTION:
URL:https://lancasterelkslodge1625.org/event/desert-sunrise-rv-club-meeting-5/
LOCATION:Elks Lodge #1625\, 240 E Ave k\, Lancaster\, CA\, 93535\, United States
CATEGORIES:RV Club
END:VEVENT
BEGIN:VEVENT
DTSTART;VALUE=DATE:20260507
DTEND;VALUE=DATE:20260508
DTSTAMP:20260422T145957
CREATED:20260417T160105Z
LAST-MODIFIED:20260417T160105Z
UID:4159-1778112000-1778198399@lancasterelkslodge1625.org
SUMMARY:LODGE CLOSED
DESCRIPTION:
URL:https://lancasterelkslodge1625.org/event/lodge-closed-36/
LOCATION:Elks Lodge #1625\, 240 E Ave k\, Lancaster\, CA\, 93535\, United States
ATTACH;FMTTYPE=image/jpeg:https://lancasterelkslodge1625.org/wp-content/uploads/2025/03/istockphoto-1323505495-612x612-1.jpg
END:VEVENT
BEGIN:VEVENT
DTSTART;TZID=America/Los_Angeles:20260508T160000
DTEND;TZID=America/Los_Angeles:20260508T190000
DTSTAMP:20260422T145957
CREATED:20260417T160456Z
LAST-MODIFIED:20260417T160456Z
UID:4162-1778256000-1778266800@lancasterelkslodge1625.org
SUMMARY:Dogs at the Bar
DESCRIPTION:
URL:https://lancasterelkslodge1625.org/event/dogs-at-the-bar-181/
LOCATION:Elks Lodge #1625\, 240 E Ave k\, Lancaster\, CA\, 93535\, United States
CATEGORIES:Dining,Social
ATTACH;FMTTYPE=image/webp:https://lancasterelkslodge1625.org/wp-content/uploads/2025/02/hotdogs.webp
END:VEVENT
BEGIN:VEVENT
DTSTART;TZID=America/Los_Angeles:20260508T180000
DTEND;TZID=America/Los_Angeles:20260508T220000
DTSTAMP:20260422T145957
CREATED:20260417T160755Z
LAST-MODIFIED:20260417T160756Z
UID:4165-1778263200-1778277600@lancasterelkslodge1625.org
SUMMARY:Friday Night Dance
DESCRIPTION:Music by Dj Luis
URL:https://lancasterelkslodge1625.org/event/friday-night-dance-10/
LOCATION:Elks Lodge #1625\, 240 E Ave k\, Lancaster\, CA\, 93535\, United States
CATEGORIES:Dining,Exercise,Social
END:VEVENT
BEGIN:VEVENT
DTSTART;TZID=America/Los_Angeles:20260509T170000
DTEND;TZID=America/Los_Angeles:20260509T183000
DTSTAMP:20260422T145957
CREATED:20260417T161833Z
LAST-MODIFIED:20260417T161833Z
UID:4168-1778346000-1778351400@lancasterelkslodge1625.org
SUMMARY:Anwar’s Rib BBQ Dinner
DESCRIPTION:
URL:https://lancasterelkslodge1625.org/event/anwars-rib-bbq-dinner-4/
LOCATION:Elks Lodge #1625\, 240 E Ave k\, Lancaster\, CA\, 93535\, United States
CATEGORIES:Dining,Social
END:VEVENT
BEGIN:VEVENT
DTSTART;TZID=America/Los_Angeles:20260510T090000
DTEND;TZID=America/Los_Angeles:20260510T120000
DTSTAMP:20260422T145957
CREATED:20260417T162823Z
LAST-MODIFIED:20260417T163119Z
UID:4171-1778403600-1778414400@lancasterelkslodge1625.org
SUMMARY:MOTHER’S DAY CEREMONY / Sunday Breakfast
DESCRIPTION:
URL:https://lancasterelkslodge1625.org/event/mothers-day-ceremony/
LOCATION:Elks Lodge #1625\, 240 E Ave k\, Lancaster\, CA\, 93535\, United States
CATEGORIES:Dining,Social
ATTACH;FMTTYPE=image/jpeg:https://lancasterelkslodge1625.org/wp-content/uploads/2025/02/mother.jpg
END:VEVENT
BEGIN:VEVENT
DTSTART;TZID=America/Los_Angeles:20260511T110000
DTEND;TZID=America/Los_Angeles:20260511T140000
DTSTAMP:20260422T145957
CREATED:20260417T163252Z
LAST-MODIFIED:20260417T163252Z
UID:4175-1778497200-1778508000@lancasterelkslodge1625.org
SUMMARY:Burgers & Dogs
DESCRIPTION:Team 3
URL:https://lancasterelkslodge1625.org/event/burgers-dogs-11/
LOCATION:Elks Lodge #1625\, 240 E Ave k\, Lancaster\, CA\, 93535\, United States
CATEGORIES:Dining,Social
ATTACH;FMTTYPE=image/png:https://lancasterelkslodge1625.org/wp-content/uploads/2025/02/image.png
END:VEVENT
BEGIN:VEVENT
DTSTART;TZID=America/Los_Angeles:20260511T160000
DTEND;TZID=America/Los_Angeles:20260511T190000
DTSTAMP:20260422T145957
CREATED:20260417T163415Z
LAST-MODIFIED:20260417T184333Z
UID:4178-1778515200-1778526000@lancasterelkslodge1625.org
SUMMARY:Cribbage
DESCRIPTION:
URL:https://lancasterelkslodge1625.org/event/cribbage-67/
LOCATION:Elks Lodge #1625\, 240 E Ave k\, Lancaster\, CA\, 93535\, United States
CATEGORIES:Social
ATTACH;FMTTYPE=image/png:https://lancasterelkslodge1625.org/wp-content/uploads/2025/02/image-3.png
END:VEVENT
BEGIN:VEVENT
DTSTART;TZID=America/Los_Angeles:20260511T160000
DTEND;TZID=America/Los_Angeles:20260511T190000
DTSTAMP:20260422T145957
CREATED:20260417T164344Z
LAST-MODIFIED:20260417T164344Z
UID:4187-1778515200-1778526000@lancasterelkslodge1625.org
SUMMARY:Dogs at the Bar
DESCRIPTION:
URL:https://lancasterelkslodge1625.org/event/dogs-at-the-bar-182/
LOCATION:Elks Lodge #1625\, 240 E Ave k\, Lancaster\, CA\, 93535\, United States
CATEGORIES:Dining,Social
ATTACH;FMTTYPE=image/webp:https://lancasterelkslodge1625.org/wp-content/uploads/2025/02/hotdogs.webp
END:VEVENT
BEGIN:VEVENT
DTSTART;TZID=America/Los_Angeles:20260511T180000
DTEND;TZID=America/Los_Angeles:20260511T190000
DTSTAMP:20260422T145957
CREATED:20260417T164041Z
LAST-MODIFIED:20260417T164041Z
UID:4181-1778522400-1778526000@lancasterelkslodge1625.org
SUMMARY:Rage of the Sage RV Club
DESCRIPTION:
URL:https://lancasterelkslodge1625.org/event/rage-of-the-sage-rv-club-2/
LOCATION:Elks Lodge #1625\, 240 E Ave k\, Lancaster\, CA\, 93535\, United States
CATEGORIES:RV Club
END:VEVENT
BEGIN:VEVENT
DTSTART;TZID=America/Los_Angeles:20260511T183000
DTEND;TZID=America/Los_Angeles:20260511T210000
DTSTAMP:20260422T145957
CREATED:20260417T164233Z
LAST-MODIFIED:20260417T164233Z
UID:4184-1778524200-1778533200@lancasterelkslodge1625.org
SUMMARY:Line Dancing
DESCRIPTION:
URL:https://lancasterelkslodge1625.org/event/line-dancing-67/
LOCATION:Elks Lodge #1625\, 240 E Ave k\, Lancaster\, CA\, 93535\, United States
CATEGORIES:Exercise,Social
ATTACH;FMTTYPE=image/png:https://lancasterelkslodge1625.org/wp-content/uploads/2025/02/image-1.png
END:VEVENT
END:VCALENDAR