BEGIN:VCALENDAR
VERSION:2.0
PRODID:-//Lancaster Elks Lodge #1625 - ECPv6.15.20//NONSGML v1.0//EN
CALSCALE:GREGORIAN
METHOD:PUBLISH
X-WR-CALNAME:Lancaster Elks Lodge #1625
X-ORIGINAL-URL:https://lancasterelkslodge1625.org
X-WR-CALDESC:Events for Lancaster Elks Lodge #1625
REFRESH-INTERVAL;VALUE=DURATION:PT1H
X-Robots-Tag:noindex
X-PUBLISHED-TTL:PT1H
BEGIN:VTIMEZONE
TZID:America/Los_Angeles
BEGIN:DAYLIGHT
TZOFFSETFROM:-0800
TZOFFSETTO:-0700
TZNAME:PDT
DTSTART:20240310T100000
END:DAYLIGHT
BEGIN:STANDARD
TZOFFSETFROM:-0700
TZOFFSETTO:-0800
TZNAME:PST
DTSTART:20241103T090000
END:STANDARD
BEGIN:DAYLIGHT
TZOFFSETFROM:-0800
TZOFFSETTO:-0700
TZNAME:PDT
DTSTART:20250309T100000
END:DAYLIGHT
BEGIN:STANDARD
TZOFFSETFROM:-0700
TZOFFSETTO:-0800
TZNAME:PST
DTSTART:20251102T090000
END:STANDARD
BEGIN:DAYLIGHT
TZOFFSETFROM:-0800
TZOFFSETTO:-0700
TZNAME:PDT
DTSTART:20260308T100000
END:DAYLIGHT
BEGIN:STANDARD
TZOFFSETFROM:-0700
TZOFFSETTO:-0800
TZNAME:PST
DTSTART:20261101T090000
END:STANDARD
END:VTIMEZONE
BEGIN:VEVENT
DTSTART;TZID=America/Los_Angeles:20250302T090000
DTEND;TZID=America/Los_Angeles:20250302T120000
DTSTAMP:20260423T034718
CREATED:20250221T145430Z
LAST-MODIFIED:20250221T145755Z
UID:798-1740906000-1740916800@lancasterelkslodge1625.org
SUMMARY:Sunday Breakfast
DESCRIPTION:
URL:https://lancasterelkslodge1625.org/event/sunday-breakfast-6/
LOCATION:Elks Lodge #1625\, 240 E Ave k\, Lancaster\, CA\, 93535\, United States
CATEGORIES:Dining,Social
ATTACH;FMTTYPE=image/jpeg:https://lancasterelkslodge1625.org/wp-content/uploads/2025/02/471604501_903223825310380_8747720846203576067_n.jpg
END:VEVENT
BEGIN:VEVENT
DTSTART;TZID=America/Los_Angeles:20250303T063000
DTEND;TZID=America/Los_Angeles:20250303T210000
DTSTAMP:20260423T034718
CREATED:20250221T150533Z
LAST-MODIFIED:20250221T174708Z
UID:810-1740983400-1741035600@lancasterelkslodge1625.org
SUMMARY:Line Dancing
DESCRIPTION:Beginner Line Dance: 4:30 pm – 7:30 pm\nIntermediate/Advanced: 7:45 pm – 8:45 pm
URL:https://lancasterelkslodge1625.org/event/line-dancing-5/
LOCATION:Elks Lodge #1625\, 240 E Ave k\, Lancaster\, CA\, 93535\, United States
CATEGORIES:Exercise,Social
ATTACH;FMTTYPE=image/png:https://lancasterelkslodge1625.org/wp-content/uploads/2025/02/image-1.png
END:VEVENT
BEGIN:VEVENT
DTSTART;TZID=America/Los_Angeles:20250303T110000
DTEND;TZID=America/Los_Angeles:20250303T140000
DTSTAMP:20260423T034718
CREATED:20250221T145708Z
LAST-MODIFIED:20250221T145708Z
UID:801-1740999600-1741010400@lancasterelkslodge1625.org
SUMMARY:Burgers and Dogs
DESCRIPTION:
URL:https://lancasterelkslodge1625.org/event/burgers-and-dogs/
LOCATION:Elks Lodge #1625\, 240 E Ave k\, Lancaster\, CA\, 93535\, United States
CATEGORIES:Dining,Social
ATTACH;FMTTYPE=image/png:https://lancasterelkslodge1625.org/wp-content/uploads/2025/02/image.png
END:VEVENT
BEGIN:VEVENT
DTSTART;TZID=America/Los_Angeles:20250303T160000
DTEND;TZID=America/Los_Angeles:20250303T170000
DTSTAMP:20260423T034718
CREATED:20250221T145926Z
LAST-MODIFIED:20250221T161920Z
UID:804-1741017600-1741021200@lancasterelkslodge1625.org
SUMMARY:Cribbage
DESCRIPTION:
URL:https://lancasterelkslodge1625.org/event/cribbage-5/
LOCATION:Elks Lodge #1625\, 240 E Ave k\, Lancaster\, CA\, 93535\, United States
CATEGORIES:Social
ATTACH;FMTTYPE=image/png:https://lancasterelkslodge1625.org/wp-content/uploads/2025/02/image-3.png
END:VEVENT
BEGIN:VEVENT
DTSTART;TZID=America/Los_Angeles:20250303T160000
DTEND;TZID=America/Los_Angeles:20250303T190000
DTSTAMP:20260423T034718
CREATED:20250221T150139Z
LAST-MODIFIED:20250221T174648Z
UID:807-1741017600-1741028400@lancasterelkslodge1625.org
SUMMARY:Dogs at the Bar
DESCRIPTION:Get’em while they’re hot! \n*Priced per dog.
URL:https://lancasterelkslodge1625.org/event/dogs-at-the-bar/
LOCATION:Elks Lodge #1625\, 240 E Ave k\, Lancaster\, CA\, 93535\, United States
CATEGORIES:Dining,Social
ATTACH;FMTTYPE=image/webp:https://lancasterelkslodge1625.org/wp-content/uploads/2025/02/hotdogs.webp
END:VEVENT
BEGIN:VEVENT
DTSTART;TZID=America/Los_Angeles:20250303T173000
DTEND;TZID=America/Los_Angeles:20250303T180000
DTSTAMP:20260423T034718
CREATED:20250221T151032Z
LAST-MODIFIED:20250221T151032Z
UID:814-1741023000-1741024800@lancasterelkslodge1625.org
SUMMARY:Board Meeting
DESCRIPTION:
URL:https://lancasterelkslodge1625.org/event/board-meeting-2/
LOCATION:Elks Lodge #1625\, 240 E Ave k\, Lancaster\, CA\, 93535\, United States
CATEGORIES:Closed Meeting
ATTACH;FMTTYPE=image/jpeg:https://lancasterelkslodge1625.org/wp-content/uploads/2025/02/board.jpg
END:VEVENT
BEGIN:VEVENT
DTSTART;TZID=America/Los_Angeles:20250304T190000
DTEND;TZID=America/Los_Angeles:20250304T210000
DTSTAMP:20260423T034718
CREATED:20250221T152451Z
LAST-MODIFIED:20250226T162834Z
UID:821-1741114800-1741122000@lancasterelkslodge1625.org
SUMMARY:Elks Meeting
DESCRIPTION:
URL:https://lancasterelkslodge1625.org/event/open-meeting/
LOCATION:Elks Lodge #1625\, 240 E Ave k\, Lancaster\, CA\, 93535\, United States
CATEGORIES:Charity,Closed Meeting,Social
END:VEVENT
BEGIN:VEVENT
DTSTART;TZID=America/Los_Angeles:20250305T080000
DTEND;TZID=America/Los_Angeles:20250305T170000
DTSTAMP:20260423T034718
CREATED:20250221T153825Z
LAST-MODIFIED:20250221T153825Z
UID:827-1741161600-1741194000@lancasterelkslodge1625.org
SUMMARY:Dogs at the Bar
DESCRIPTION:Get’em while they’re hot! \n  \n*Price per dog
URL:https://lancasterelkslodge1625.org/event/dogs-at-the-bar-2/
LOCATION:Elks Lodge #1625\, 240 E Ave k\, Lancaster\, CA\, 93535\, United States
CATEGORIES:Dining,Social
ATTACH;FMTTYPE=image/webp:https://lancasterelkslodge1625.org/wp-content/uploads/2025/02/hotdogs.webp
END:VEVENT
BEGIN:VEVENT
DTSTART;TZID=America/Los_Angeles:20250305T173000
DTEND;TZID=America/Los_Angeles:20250305T183000
DTSTAMP:20260423T034718
CREATED:20250221T153436Z
LAST-MODIFIED:20250221T153436Z
UID:824-1741195800-1741199400@lancasterelkslodge1625.org
SUMMARY:Ritual Practice
DESCRIPTION:
URL:https://lancasterelkslodge1625.org/event/ritual-practice-5/
LOCATION:Elks Lodge #1625\, 240 E Ave k\, Lancaster\, CA\, 93535\, United States
CATEGORIES:Closed Meeting
END:VEVENT
BEGIN:VEVENT
DTSTART;TZID=America/Los_Angeles:20250305T183000
DTEND;TZID=America/Los_Angeles:20250305T190000
DTSTAMP:20260423T034718
CREATED:20250221T154249Z
LAST-MODIFIED:20250224T150423Z
UID:830-1741199400-1741201200@lancasterelkslodge1625.org
SUMMARY:Calendar Meeting
DESCRIPTION:
URL:https://lancasterelkslodge1625.org/event/calendar-meeting-2/
LOCATION:Elks Lodge #1625\, 240 E Ave k\, Lancaster\, CA\, 93535\, United States
CATEGORIES:Committee
ATTACH;FMTTYPE=image/png:https://lancasterelkslodge1625.org/wp-content/uploads/2025/02/calendar.png
END:VEVENT
BEGIN:VEVENT
DTSTART;TZID=America/Los_Angeles:20250305T183000
DTEND;TZID=America/Los_Angeles:20250305T193000
DTSTAMP:20260423T034718
CREATED:20250221T154458Z
LAST-MODIFIED:20250224T150431Z
UID:834-1741199400-1741203000@lancasterelkslodge1625.org
SUMMARY:Officer's Meeting
DESCRIPTION:
URL:https://lancasterelkslodge1625.org/event/officers-meeting/
LOCATION:Elks Lodge #1625\, 240 E Ave k\, Lancaster\, CA\, 93535\, United States
CATEGORIES:Closed Meeting,Committee
END:VEVENT
BEGIN:VEVENT
DTSTART;TZID=America/Los_Angeles:20250305T183000
DTEND;TZID=America/Los_Angeles:20250305T193000
DTSTAMP:20260423T034718
CREATED:20250221T154638Z
LAST-MODIFIED:20250224T150442Z
UID:837-1741199400-1741203000@lancasterelkslodge1625.org
SUMMARY:Desert Sunrise RV Club Meeting
DESCRIPTION:
URL:https://lancasterelkslodge1625.org/event/desert-sunrise-rv-club-meeting/
LOCATION:Elks Lodge #1625\, 240 E Ave k\, Lancaster\, CA\, 93535\, United States
CATEGORIES:Committee
END:VEVENT
BEGIN:VEVENT
DTSTART;VALUE=DATE:20250306
DTEND;VALUE=DATE:20250307
DTSTAMP:20260423T034718
CREATED:20250221T154814Z
LAST-MODIFIED:20250221T154814Z
UID:840-1741219200-1741305599@lancasterelkslodge1625.org
SUMMARY:LOUNGE CLOSED
DESCRIPTION:
URL:https://lancasterelkslodge1625.org/event/lounge-closed-3/
LOCATION:Elks Lodge #1625\, 240 E Ave k\, Lancaster\, CA\, 93535\, United States
END:VEVENT
BEGIN:VEVENT
DTSTART;TZID=America/Los_Angeles:20250306T090000
DTEND;TZID=America/Los_Angeles:20250306T150000
DTSTAMP:20260423T034718
CREATED:20250221T154904Z
LAST-MODIFIED:20250221T154904Z
UID:843-1741251600-1741273200@lancasterelkslodge1625.org
SUMMARY:Office Open
DESCRIPTION:
URL:https://lancasterelkslodge1625.org/event/office-open-5/
LOCATION:Elks Lodge #1625\, 240 E Ave k\, Lancaster\, CA\, 93535\, United States
END:VEVENT
BEGIN:VEVENT
DTSTART;TZID=America/Los_Angeles:20250306T170000
DTEND;TZID=America/Los_Angeles:20250306T210000
DTSTAMP:20260423T034718
CREATED:20250221T155435Z
LAST-MODIFIED:20250221T155525Z
UID:846-1741280400-1741294800@lancasterelkslodge1625.org
SUMMARY:Bowling at Bowlero
DESCRIPTION:
URL:https://lancasterelkslodge1625.org/event/bowling-at-bowlero/
LOCATION:Bowlero\, 43233 Sierra Hwy\, Lancaster\, CA\, 93534\, United States
CATEGORIES:Exercise,Social
ATTACH;FMTTYPE=image/webp:https://lancasterelkslodge1625.org/wp-content/uploads/2025/02/bowling.webp
END:VEVENT
BEGIN:VEVENT
DTSTART;TZID=America/Los_Angeles:20250307T160000
DTEND;TZID=America/Los_Angeles:20250307T190000
DTSTAMP:20260423T034718
CREATED:20250221T160513Z
LAST-MODIFIED:20250221T160513Z
UID:851-1741363200-1741374000@lancasterelkslodge1625.org
SUMMARY:Dogs at the Bar
DESCRIPTION:* Prices are per hotdog
URL:https://lancasterelkslodge1625.org/event/dogs-at-the-bar-3/
LOCATION:Elks Lodge #1625\, 240 E Ave k\, Lancaster\, CA\, 93535\, United States
CATEGORIES:Dining,Social
ATTACH;FMTTYPE=image/webp:https://lancasterelkslodge1625.org/wp-content/uploads/2025/02/hotdogs.webp
END:VEVENT
BEGIN:VEVENT
DTSTART;TZID=America/Los_Angeles:20250307T180000
DTEND;TZID=America/Los_Angeles:20250307T193000
DTSTAMP:20260423T034718
CREATED:20250221T160632Z
LAST-MODIFIED:20250221T160632Z
UID:854-1741370400-1741375800@lancasterelkslodge1625.org
SUMMARY:Investigation
DESCRIPTION:
URL:https://lancasterelkslodge1625.org/event/investigation-2/
LOCATION:Elks Lodge #1625\, 240 E Ave k\, Lancaster\, CA\, 93535\, United States
CATEGORIES:Closed Meeting
END:VEVENT
BEGIN:VEVENT
DTSTART;TZID=America/Los_Angeles:20250308T110000
DTEND;TZID=America/Los_Angeles:20250308T140000
DTSTAMP:20260423T034718
CREATED:20250206T004428Z
LAST-MODIFIED:20250221T160814Z
UID:578-1741431600-1741442400@lancasterelkslodge1625.org
SUMMARY:Masquerade Party
DESCRIPTION:
URL:https://lancasterelkslodge1625.org/event/masquerade-party/
LOCATION:Elks Lodge #1625\, 240 E Ave k\, Lancaster\, CA\, 93535\, United States
CATEGORIES:Social
ATTACH;FMTTYPE=image/jpeg:https://lancasterelkslodge1625.org/wp-content/uploads/2025/02/474620813_914476620851767_5520767538218683317_n.jpg
END:VEVENT
BEGIN:VEVENT
DTSTART;TZID=America/Los_Angeles:20250309T090000
DTEND;TZID=America/Los_Angeles:20250309T120000
DTSTAMP:20260423T034718
CREATED:20250221T161119Z
LAST-MODIFIED:20250221T161119Z
UID:857-1741510800-1741521600@lancasterelkslodge1625.org
SUMMARY:Sunday Breakfast
DESCRIPTION:
URL:https://lancasterelkslodge1625.org/event/sunday-breakfast-7/
LOCATION:Elks Lodge #1625\, 240 E Ave k\, Lancaster\, CA\, 93535\, United States
CATEGORIES:Dining,Social
ATTACH;FMTTYPE=image/jpeg:https://lancasterelkslodge1625.org/wp-content/uploads/2025/02/471604501_903223825310380_8747720846203576067_n.jpg
END:VEVENT
BEGIN:VEVENT
DTSTART;TZID=America/Los_Angeles:20250310T110000
DTEND;TZID=America/Los_Angeles:20250310T140000
DTSTAMP:20260423T034718
CREATED:20250221T161331Z
LAST-MODIFIED:20250221T174632Z
UID:860-1741604400-1741615200@lancasterelkslodge1625.org
SUMMARY:Burgers and Dogs
DESCRIPTION:
URL:https://lancasterelkslodge1625.org/event/burgers-and-dogs-2/
LOCATION:Elks Lodge #1625\, 240 E Ave k\, Lancaster\, CA\, 93535\, United States
CATEGORIES:Dining,Social
ATTACH;FMTTYPE=image/png:https://lancasterelkslodge1625.org/wp-content/uploads/2025/02/image.png
END:VEVENT
BEGIN:VEVENT
DTSTART;TZID=America/Los_Angeles:20250310T160000
DTEND;TZID=America/Los_Angeles:20250310T170000
DTSTAMP:20260423T034718
CREATED:20250221T161625Z
LAST-MODIFIED:20250221T161840Z
UID:863-1741622400-1741626000@lancasterelkslodge1625.org
SUMMARY:Cribbage
DESCRIPTION:
URL:https://lancasterelkslodge1625.org/event/cribbage-6/
LOCATION:Elks Lodge #1625\, 240 E Ave k\, Lancaster\, CA\, 93535\, United States
CATEGORIES:Social
ATTACH;FMTTYPE=image/png:https://lancasterelkslodge1625.org/wp-content/uploads/2025/02/image-3.png
END:VEVENT
BEGIN:VEVENT
DTSTART;TZID=America/Los_Angeles:20250310T160000
DTEND;TZID=America/Los_Angeles:20250310T190000
DTSTAMP:20260423T034718
CREATED:20250221T162047Z
LAST-MODIFIED:20250221T174626Z
UID:866-1741622400-1741633200@lancasterelkslodge1625.org
SUMMARY:Dogs at the Bar
DESCRIPTION:*Price per dog
URL:https://lancasterelkslodge1625.org/event/dogs-at-the-bar-4/
LOCATION:Elks Lodge #1625\, 240 E Ave k\, Lancaster\, CA\, 93535\, United States
CATEGORIES:Dining,Social
ATTACH;FMTTYPE=image/webp:https://lancasterelkslodge1625.org/wp-content/uploads/2025/02/hotdogs.webp
END:VEVENT
BEGIN:VEVENT
DTSTART;TZID=America/Los_Angeles:20250310T170000
DTEND;TZID=America/Los_Angeles:20250310T190000
DTSTAMP:20260423T034718
CREATED:20250221T162401Z
LAST-MODIFIED:20250221T162401Z
UID:872-1741626000-1741633200@lancasterelkslodge1625.org
SUMMARY:Board Meeting
DESCRIPTION:
URL:https://lancasterelkslodge1625.org/event/board-meeting-3/
LOCATION:Elks Lodge #1625\, 240 E Ave k\, Lancaster\, CA\, 93535\, United States
CATEGORIES:Closed Meeting
ATTACH;FMTTYPE=image/jpeg:https://lancasterelkslodge1625.org/wp-content/uploads/2025/02/board.jpg
END:VEVENT
BEGIN:VEVENT
DTSTART;TZID=America/Los_Angeles:20250310T183000
DTEND;TZID=America/Los_Angeles:20250310T210000
DTSTAMP:20260423T034718
CREATED:20250221T162300Z
LAST-MODIFIED:20250221T162300Z
UID:869-1741631400-1741640400@lancasterelkslodge1625.org
SUMMARY:Line Dancing
DESCRIPTION:
URL:https://lancasterelkslodge1625.org/event/line-dancing-6/
LOCATION:Elks Lodge #1625\, 240 E Ave k\, Lancaster\, CA\, 93535\, United States
CATEGORIES:Exercise,Social
ATTACH;FMTTYPE=image/png:https://lancasterelkslodge1625.org/wp-content/uploads/2025/02/image-1.png
END:VEVENT
BEGIN:VEVENT
DTSTART;TZID=America/Los_Angeles:20250311T173000
DTEND;TZID=America/Los_Angeles:20250311T180000
DTSTAMP:20260423T034718
CREATED:20250221T163116Z
LAST-MODIFIED:20250224T150609Z
UID:883-1741714200-1741716000@lancasterelkslodge1625.org
SUMMARY:Baked Potato Bar
DESCRIPTION:
URL:https://lancasterelkslodge1625.org/event/baked-potato-bar/
LOCATION:Elks Lodge #1625\, 240 E Ave k\, Lancaster\, CA\, 93535\, United States
CATEGORIES:Dining,Social
END:VEVENT
BEGIN:VEVENT
DTSTART;TZID=America/Los_Angeles:20250311T190000
DTEND;TZID=America/Los_Angeles:20250311T210000
DTSTAMP:20260423T034718
CREATED:20250221T162538Z
LAST-MODIFIED:20250221T172731Z
UID:875-1741719600-1741726800@lancasterelkslodge1625.org
SUMMARY:Meeting\, Balloting
DESCRIPTION:
URL:https://lancasterelkslodge1625.org/event/meeting/
LOCATION:Elks Lodge #1625\, 240 E Ave k\, Lancaster\, CA\, 93535\, United States
CATEGORIES:Closed Meeting,Social
END:VEVENT
BEGIN:VEVENT
DTSTART;TZID=America/Los_Angeles:20250312T160000
DTEND;TZID=America/Los_Angeles:20250312T190000
DTSTAMP:20260423T034718
CREATED:20250221T163341Z
LAST-MODIFIED:20250221T170633Z
UID:887-1741795200-1741806000@lancasterelkslodge1625.org
SUMMARY:Dogs at the Bar
DESCRIPTION:*Price per dog
URL:https://lancasterelkslodge1625.org/event/dogs-at-the-bar-5/
LOCATION:Elks Lodge #1625\, 240 E Ave k\, Lancaster\, CA\, 93535\, United States
CATEGORIES:Dining,Social
ATTACH;FMTTYPE=image/webp:https://lancasterelkslodge1625.org/wp-content/uploads/2025/02/hotdogs.webp
END:VEVENT
BEGIN:VEVENT
DTSTART;TZID=America/Los_Angeles:20250312T173000
DTEND;TZID=America/Los_Angeles:20250312T190000
DTSTAMP:20260423T034718
CREATED:20250221T164223Z
LAST-MODIFIED:20250221T164223Z
UID:893-1741800600-1741806000@lancasterelkslodge1625.org
SUMMARY:Ritual Practice
DESCRIPTION:
URL:https://lancasterelkslodge1625.org/event/ritual-practice-6/
LOCATION:Elks Lodge #1625\, 240 E Ave k\, Lancaster\, CA\, 93535\, United States
CATEGORIES:Closed Meeting
END:VEVENT
BEGIN:VEVENT
DTSTART;TZID=America/Los_Angeles:20250312T180000
DTEND;TZID=America/Los_Angeles:20250312T200000
DTSTAMP:20260423T034718
CREATED:20250221T164314Z
LAST-MODIFIED:20250224T150717Z
UID:896-1741802400-1741809600@lancasterelkslodge1625.org
SUMMARY:PER Meeting
DESCRIPTION:
URL:https://lancasterelkslodge1625.org/event/per-meeting-2/
LOCATION:Elks Lodge #1625\, 240 E Ave k\, Lancaster\, CA\, 93535\, United States
CATEGORIES:Committee
END:VEVENT
BEGIN:VEVENT
DTSTART;VALUE=DATE:20250313
DTEND;VALUE=DATE:20250314
DTSTAMP:20260423T034718
CREATED:20250221T164123Z
LAST-MODIFIED:20250221T174619Z
UID:890-1741824000-1741910399@lancasterelkslodge1625.org
SUMMARY:LOUNGE CLOSED
DESCRIPTION:
URL:https://lancasterelkslodge1625.org/event/lounge-closed-4/
LOCATION:Elks Lodge #1625\, 240 E Ave k\, Lancaster\, CA\, 93535\, United States
END:VEVENT
END:VCALENDAR