BEGIN:VCALENDAR
VERSION:2.0
PRODID:-//Lancaster Elks Lodge #1625 - ECPv6.15.20//NONSGML v1.0//EN
CALSCALE:GREGORIAN
METHOD:PUBLISH
X-WR-CALNAME:Lancaster Elks Lodge #1625
X-ORIGINAL-URL:https://lancasterelkslodge1625.org
X-WR-CALDESC:Events for Lancaster Elks Lodge #1625
REFRESH-INTERVAL;VALUE=DURATION:PT1H
X-Robots-Tag:noindex
X-PUBLISHED-TTL:PT1H
BEGIN:VTIMEZONE
TZID:America/Los_Angeles
BEGIN:DAYLIGHT
TZOFFSETFROM:-0800
TZOFFSETTO:-0700
TZNAME:PDT
DTSTART:20240310T100000
END:DAYLIGHT
BEGIN:STANDARD
TZOFFSETFROM:-0700
TZOFFSETTO:-0800
TZNAME:PST
DTSTART:20241103T090000
END:STANDARD
BEGIN:DAYLIGHT
TZOFFSETFROM:-0800
TZOFFSETTO:-0700
TZNAME:PDT
DTSTART:20250309T100000
END:DAYLIGHT
BEGIN:STANDARD
TZOFFSETFROM:-0700
TZOFFSETTO:-0800
TZNAME:PST
DTSTART:20251102T090000
END:STANDARD
BEGIN:DAYLIGHT
TZOFFSETFROM:-0800
TZOFFSETTO:-0700
TZNAME:PDT
DTSTART:20260308T100000
END:DAYLIGHT
BEGIN:STANDARD
TZOFFSETFROM:-0700
TZOFFSETTO:-0800
TZNAME:PST
DTSTART:20261101T090000
END:STANDARD
END:VTIMEZONE
BEGIN:VEVENT
DTSTART;TZID=America/Los_Angeles:20250401T170000
DTEND;TZID=America/Los_Angeles:20250401T183000
DTSTAMP:20260423T020523
CREATED:20250327T033225Z
LAST-MODIFIED:20250327T033225Z
UID:1126-1743526800-1743532200@lancasterelkslodge1625.org
SUMMARY:Meatloaf Night
DESCRIPTION:
URL:https://lancasterelkslodge1625.org/event/meatloaf-night/
LOCATION:Elks Lodge #1625\, 240 E Ave k\, Lancaster\, CA\, 93535\, United States
CATEGORIES:Dining,Social
END:VEVENT
BEGIN:VEVENT
DTSTART;TZID=America/Los_Angeles:20250401T190000
DTEND;TZID=America/Los_Angeles:20250401T203000
DTSTAMP:20260423T020523
CREATED:20250327T033409Z
LAST-MODIFIED:20250327T033409Z
UID:1129-1743534000-1743539400@lancasterelkslodge1625.org
SUMMARY:Lodge Meeting
DESCRIPTION:
URL:https://lancasterelkslodge1625.org/event/lodge-meeting/
LOCATION:Elks Lodge #1625\, 240 E Ave k\, Lancaster\, CA\, 93535\, United States
CATEGORIES:Closed Meeting,Social
END:VEVENT
BEGIN:VEVENT
DTSTART;TZID=America/Los_Angeles:20250402T080000
DTEND;TZID=America/Los_Angeles:20250402T170000
DTSTAMP:20260423T020523
CREATED:20250327T033913Z
LAST-MODIFIED:20250327T033913Z
UID:1138-1743580800-1743613200@lancasterelkslodge1625.org
SUMMARY:Desert Sunrise Mtg
DESCRIPTION:
URL:https://lancasterelkslodge1625.org/event/desert-sunrise-mtg/
LOCATION:Elks Lodge #1625\, 240 E Ave k\, Lancaster\, CA\, 93535\, United States
CATEGORIES:Committee,Open Meeting
END:VEVENT
BEGIN:VEVENT
DTSTART;TZID=America/Los_Angeles:20250402T160000
DTEND;TZID=America/Los_Angeles:20250402T190000
DTSTAMP:20260423T020523
CREATED:20250327T033527Z
LAST-MODIFIED:20250327T033527Z
UID:1132-1743609600-1743620400@lancasterelkslodge1625.org
SUMMARY:Dogs at the Bar
DESCRIPTION:
URL:https://lancasterelkslodge1625.org/event/dogs-at-the-bar-13/
LOCATION:Elks Lodge #1625\, 240 E Ave k\, Lancaster\, CA\, 93535\, United States
CATEGORIES:Dining,Social
ATTACH;FMTTYPE=image/webp:https://lancasterelkslodge1625.org/wp-content/uploads/2025/02/hotdogs.webp
END:VEVENT
BEGIN:VEVENT
DTSTART;TZID=America/Los_Angeles:20250402T173000
DTEND;TZID=America/Los_Angeles:20250402T190000
DTSTAMP:20260423T020523
CREATED:20250327T033633Z
LAST-MODIFIED:20250327T033633Z
UID:1135-1743615000-1743620400@lancasterelkslodge1625.org
SUMMARY:Ritual Practice
DESCRIPTION:
URL:https://lancasterelkslodge1625.org/event/ritual-practice-9/
LOCATION:Elks Lodge #1625\, 240 E Ave k\, Lancaster\, CA\, 93535\, United States
CATEGORIES:Closed Meeting
END:VEVENT
BEGIN:VEVENT
DTSTART;VALUE=DATE:20250403
DTEND;VALUE=DATE:20250404
DTSTAMP:20260423T020523
CREATED:20250327T034214Z
LAST-MODIFIED:20250327T034214Z
UID:1141-1743638400-1743724799@lancasterelkslodge1625.org
SUMMARY:LOUNGE CLOSED
DESCRIPTION:
URL:https://lancasterelkslodge1625.org/event/lounge-closed-8/
LOCATION:Elks Lodge #1625\, 240 E Ave k\, Lancaster\, CA\, 93535\, United States
ATTACH;FMTTYPE=image/jpeg:https://lancasterelkslodge1625.org/wp-content/uploads/2025/03/istockphoto-1323505495-612x612-1.jpg
END:VEVENT
BEGIN:VEVENT
DTSTART;TZID=America/Los_Angeles:20250404T160000
DTEND;TZID=America/Los_Angeles:20250404T190000
DTSTAMP:20260423T020523
CREATED:20250327T034321Z
LAST-MODIFIED:20250327T034321Z
UID:1145-1743782400-1743793200@lancasterelkslodge1625.org
SUMMARY:Dogs at the bar
DESCRIPTION:
URL:https://lancasterelkslodge1625.org/event/dogs-at-the-bar-14/
LOCATION:Elks Lodge #1625\, 240 E Ave k\, Lancaster\, CA\, 93535\, United States
CATEGORIES:Dining,Social
ATTACH;FMTTYPE=image/webp:https://lancasterelkslodge1625.org/wp-content/uploads/2025/02/hotdogs.webp
END:VEVENT
BEGIN:VEVENT
DTSTART;TZID=America/Los_Angeles:20250404T180000
DTEND;TZID=America/Los_Angeles:20250404T193000
DTSTAMP:20260423T020523
CREATED:20250327T034857Z
LAST-MODIFIED:20250327T035310Z
UID:1148-1743789600-1743795000@lancasterelkslodge1625.org
SUMMARY:Investigation
DESCRIPTION:
URL:https://lancasterelkslodge1625.org/event/investigation-3/
LOCATION:Elks Lodge #1625\, 240 E Ave k\, Lancaster\, CA\, 93535\, United States
CATEGORIES:Closed Meeting
END:VEVENT
BEGIN:VEVENT
DTSTART;TZID=America/Los_Angeles:20250404T180000
DTEND;TZID=America/Los_Angeles:20250404T193000
DTSTAMP:20260423T020523
CREATED:20250327T035240Z
LAST-MODIFIED:20250327T035240Z
UID:1151-1743789600-1743795000@lancasterelkslodge1625.org
SUMMARY:Sip n Paint
DESCRIPTION:
URL:https://lancasterelkslodge1625.org/event/sip-n-paint/
LOCATION:Elks Lodge #1625\, 240 E Ave k\, Lancaster\, CA\, 93535\, United States
CATEGORIES:Social
ATTACH;FMTTYPE=image/jpeg:https://lancasterelkslodge1625.org/wp-content/uploads/2025/03/348s.jpg
END:VEVENT
BEGIN:VEVENT
DTSTART;TZID=America/Los_Angeles:20250405T130000
DTEND;TZID=America/Los_Angeles:20250405T140000
DTSTAMP:20260423T020523
CREATED:20250327T035516Z
LAST-MODIFIED:20250403T171916Z
UID:1155-1743858000-1743861600@lancasterelkslodge1625.org
SUMMARY:DDGER Homecoming
DESCRIPTION:Time misprinted on Newletter Calendar
URL:https://lancasterelkslodge1625.org/event/ddger-homecoming/
LOCATION:Elks Lodge #1625\, 240 E Ave k\, Lancaster\, CA\, 93535\, United States
CATEGORIES:Charity,Social
END:VEVENT
BEGIN:VEVENT
DTSTART;TZID=America/Los_Angeles:20250405T140000
DTEND;TZID=America/Los_Angeles:20250405T160000
DTSTAMP:20260423T020523
CREATED:20250327T035613Z
LAST-MODIFIED:20250403T172021Z
UID:1158-1743861600-1743868800@lancasterelkslodge1625.org
SUMMARY:DD Clinic
DESCRIPTION:Time printed incorrectly on Newletter Calendar
URL:https://lancasterelkslodge1625.org/event/dd-clinic/
LOCATION:Elks Lodge #1625\, 240 E Ave k\, Lancaster\, CA\, 93535\, United States
CATEGORIES:Social
END:VEVENT
BEGIN:VEVENT
DTSTART;TZID=America/Los_Angeles:20250406T090000
DTEND;TZID=America/Los_Angeles:20250406T110000
DTSTAMP:20260423T020523
CREATED:20250327T035737Z
LAST-MODIFIED:20250327T035754Z
UID:1161-1743930000-1743937200@lancasterelkslodge1625.org
SUMMARY:Sunday Breakfast
DESCRIPTION:
URL:https://lancasterelkslodge1625.org/event/breakfast/
LOCATION:Elks Lodge #1625\, 240 E Ave k\, Lancaster\, CA\, 93535\, United States
CATEGORIES:Dining,Social
ATTACH;FMTTYPE=image/jpeg:https://lancasterelkslodge1625.org/wp-content/uploads/2025/02/471604501_903223825310380_8747720846203576067_n.jpg
END:VEVENT
BEGIN:VEVENT
DTSTART;TZID=America/Los_Angeles:20250407T110000
DTEND;TZID=America/Los_Angeles:20250407T140000
DTSTAMP:20260423T020523
CREATED:20250327T035954Z
LAST-MODIFIED:20250327T035954Z
UID:1165-1744023600-1744034400@lancasterelkslodge1625.org
SUMMARY:Burgers and Dogs
DESCRIPTION:
URL:https://lancasterelkslodge1625.org/event/burgers-and-dogs-6/
LOCATION:Elks Lodge #1625\, 240 E Ave k\, Lancaster\, CA\, 93535\, United States
CATEGORIES:Dining,Social
ATTACH;FMTTYPE=image/png:https://lancasterelkslodge1625.org/wp-content/uploads/2025/02/image.png
END:VEVENT
BEGIN:VEVENT
DTSTART;TZID=America/Los_Angeles:20250407T113000
DTEND;TZID=America/Los_Angeles:20250407T123000
DTSTAMP:20260423T020523
CREATED:20250327T040733Z
LAST-MODIFIED:20250327T040733Z
UID:1168-1744025400-1744029000@lancasterelkslodge1625.org
SUMMARY:Veterans Committee Mtg
DESCRIPTION:The printed calendar erroneously states that this meeting will be held at 11 p.m. – please note that it is being investigated.
URL:https://lancasterelkslodge1625.org/event/veterans-committee-mtg/
LOCATION:Elks Lodge #1625\, 240 E Ave k\, Lancaster\, CA\, 93535\, United States
CATEGORIES:Committee
END:VEVENT
BEGIN:VEVENT
DTSTART;TZID=America/Los_Angeles:20250407T160000
DTEND;TZID=America/Los_Angeles:20250407T170000
DTSTAMP:20260423T020523
CREATED:20250327T040850Z
LAST-MODIFIED:20250327T040919Z
UID:1171-1744041600-1744045200@lancasterelkslodge1625.org
SUMMARY:Cribbage
DESCRIPTION:
URL:https://lancasterelkslodge1625.org/event/cribbage-10/
LOCATION:Elks Lodge #1625\, 240 E Ave k\, Lancaster\, CA\, 93535\, United States
CATEGORIES:Charity,Social
ATTACH;FMTTYPE=image/png:https://lancasterelkslodge1625.org/wp-content/uploads/2025/02/image-3.png
END:VEVENT
BEGIN:VEVENT
DTSTART;TZID=America/Los_Angeles:20250407T160000
DTEND;TZID=America/Los_Angeles:20250407T190000
DTSTAMP:20260423T020523
CREATED:20250327T041038Z
LAST-MODIFIED:20250327T041038Z
UID:1174-1744041600-1744052400@lancasterelkslodge1625.org
SUMMARY:Dogs at the bar
DESCRIPTION:
URL:https://lancasterelkslodge1625.org/event/dogs-at-the-bar-15/
LOCATION:Elks Lodge #1625\, 240 E Ave k\, Lancaster\, CA\, 93535\, United States
CATEGORIES:Dining,Social
ATTACH;FMTTYPE=image/webp:https://lancasterelkslodge1625.org/wp-content/uploads/2025/02/hotdogs.webp
END:VEVENT
BEGIN:VEVENT
DTSTART;TZID=America/Los_Angeles:20250407T180000
DTEND;TZID=America/Los_Angeles:20250407T190000
DTSTAMP:20260423T020523
CREATED:20250327T041211Z
LAST-MODIFIED:20250327T041211Z
UID:1177-1744048800-1744052400@lancasterelkslodge1625.org
SUMMARY:Board Mtg
DESCRIPTION:
URL:https://lancasterelkslodge1625.org/event/board-mtg/
LOCATION:Elks Lodge #1625\, 240 E Ave k\, Lancaster\, CA\, 93535\, United States
CATEGORIES:Closed Meeting
END:VEVENT
BEGIN:VEVENT
DTSTART;TZID=America/Los_Angeles:20250407T183000
DTEND;TZID=America/Los_Angeles:20250407T200000
DTSTAMP:20260423T020523
CREATED:20250327T041330Z
LAST-MODIFIED:20250327T041330Z
UID:1180-1744050600-1744056000@lancasterelkslodge1625.org
SUMMARY:Line Dancing
DESCRIPTION:
URL:https://lancasterelkslodge1625.org/event/line-dancing-10/
LOCATION:Elks Lodge #1625\, 240 E Ave k\, Lancaster\, CA\, 93535\, United States
CATEGORIES:Exercise,Social
ATTACH;FMTTYPE=image/png:https://lancasterelkslodge1625.org/wp-content/uploads/2025/02/image-1.png
END:VEVENT
BEGIN:VEVENT
DTSTART;TZID=America/Los_Angeles:20250408T170000
DTEND;TZID=America/Los_Angeles:20250408T183000
DTSTAMP:20260423T020523
CREATED:20250327T041442Z
LAST-MODIFIED:20250403T172230Z
UID:1183-1744131600-1744137000@lancasterelkslodge1625.org
SUMMARY:Potato Bar CANCELLED - DINNER TBD
DESCRIPTION:Potato Bar (CANCELLED) A Dinner will be available on this night\, but it is in the planning stages
URL:https://lancasterelkslodge1625.org/event/potato-bar/
LOCATION:Elks Lodge #1625\, 240 E Ave k\, Lancaster\, CA\, 93535\, United States
CATEGORIES:Cancelled,Dining,Social
END:VEVENT
BEGIN:VEVENT
DTSTART;TZID=America/Los_Angeles:20250408T190000
DTEND;TZID=America/Los_Angeles:20250408T203000
DTSTAMP:20260423T020523
CREATED:20250327T041551Z
LAST-MODIFIED:20250327T041551Z
UID:1186-1744138800-1744144200@lancasterelkslodge1625.org
SUMMARY:Lodge Meeting
DESCRIPTION:
URL:https://lancasterelkslodge1625.org/event/lodge-meeting-2/
LOCATION:Elks Lodge #1625\, 240 E Ave k\, Lancaster\, CA\, 93535\, United States
CATEGORIES:Closed Meeting
END:VEVENT
BEGIN:VEVENT
DTSTART;TZID=America/Los_Angeles:20250409T160000
DTEND;TZID=America/Los_Angeles:20250409T190000
DTSTAMP:20260423T020523
CREATED:20250327T041702Z
LAST-MODIFIED:20250327T041702Z
UID:1189-1744214400-1744225200@lancasterelkslodge1625.org
SUMMARY:Dogs at the bar
DESCRIPTION:
URL:https://lancasterelkslodge1625.org/event/dogs-at-the-bar-16/
LOCATION:Elks Lodge #1625\, 240 E Ave k\, Lancaster\, CA\, 93535\, United States
CATEGORIES:Dining,Social
ATTACH;FMTTYPE=image/webp:https://lancasterelkslodge1625.org/wp-content/uploads/2025/02/hotdogs.webp
END:VEVENT
BEGIN:VEVENT
DTSTART;TZID=America/Los_Angeles:20250409T173000
DTEND;TZID=America/Los_Angeles:20250409T190000
DTSTAMP:20260423T020523
CREATED:20250327T041758Z
LAST-MODIFIED:20250327T041758Z
UID:1192-1744219800-1744225200@lancasterelkslodge1625.org
SUMMARY:Ritual Practice
DESCRIPTION:
URL:https://lancasterelkslodge1625.org/event/ritual-practice-10/
LOCATION:Elks Lodge #1625\, 240 E Ave k\, Lancaster\, CA\, 93535\, United States
CATEGORIES:Closed Meeting
END:VEVENT
BEGIN:VEVENT
DTSTART;TZID=America/Los_Angeles:20250409T180000
DTEND;TZID=America/Los_Angeles:20250409T190000
DTSTAMP:20260423T020523
CREATED:20250327T041851Z
LAST-MODIFIED:20250327T041851Z
UID:1195-1744221600-1744225200@lancasterelkslodge1625.org
SUMMARY:PER Mtg
DESCRIPTION:
URL:https://lancasterelkslodge1625.org/event/per-mtg/
LOCATION:Elks Lodge #1625\, 240 E Ave k\, Lancaster\, CA\, 93535\, United States
CATEGORIES:Closed Meeting
END:VEVENT
BEGIN:VEVENT
DTSTART;TZID=America/Los_Angeles:20250409T183000
DTEND;TZID=America/Los_Angeles:20250409T193000
DTSTAMP:20260423T020523
CREATED:20250327T041943Z
LAST-MODIFIED:20250327T041943Z
UID:1198-1744223400-1744227000@lancasterelkslodge1625.org
SUMMARY:Calendar Mtg
DESCRIPTION:
URL:https://lancasterelkslodge1625.org/event/calendar-mtg/
LOCATION:Elks Lodge #1625\, 240 E Ave k\, Lancaster\, CA\, 93535\, United States
CATEGORIES:Committee
END:VEVENT
BEGIN:VEVENT
DTSTART;VALUE=DATE:20250410
DTEND;VALUE=DATE:20250411
DTSTAMP:20260423T020523
CREATED:20250327T042035Z
LAST-MODIFIED:20250327T042035Z
UID:1201-1744243200-1744329599@lancasterelkslodge1625.org
SUMMARY:LOUNGE CLOSED
DESCRIPTION:
URL:https://lancasterelkslodge1625.org/event/lounge-closed-9/
LOCATION:Elks Lodge #1625\, 240 E Ave k\, Lancaster\, CA\, 93535\, United States
ATTACH;FMTTYPE=image/jpeg:https://lancasterelkslodge1625.org/wp-content/uploads/2025/03/istockphoto-1323505495-612x612-1.jpg
END:VEVENT
BEGIN:VEVENT
DTSTART;TZID=America/Los_Angeles:20250411T160000
DTEND;TZID=America/Los_Angeles:20250411T190000
DTSTAMP:20260423T020523
CREATED:20250327T042148Z
LAST-MODIFIED:20250327T042148Z
UID:1204-1744387200-1744398000@lancasterelkslodge1625.org
SUMMARY:Dogs at the bar
DESCRIPTION:
URL:https://lancasterelkslodge1625.org/event/dogs-at-the-bar-17/
LOCATION:Elks Lodge #1625\, 240 E Ave k\, Lancaster\, CA\, 93535\, United States
CATEGORIES:Dining,Social
ATTACH;FMTTYPE=image/webp:https://lancasterelkslodge1625.org/wp-content/uploads/2025/02/hotdogs.webp
END:VEVENT
BEGIN:VEVENT
DTSTART;TZID=America/Los_Angeles:20250411T180000
DTEND;TZID=America/Los_Angeles:20250411T220000
DTSTAMP:20260423T020523
CREATED:20250327T042658Z
LAST-MODIFIED:20250327T042658Z
UID:1207-1744394400-1744408800@lancasterelkslodge1625.org
SUMMARY:Friday Night Dance
DESCRIPTION:
URL:https://lancasterelkslodge1625.org/event/friday-night-dance/
LOCATION:Elks Lodge #1625\, 240 E Ave k\, Lancaster\, CA\, 93535\, United States
CATEGORIES:Exercise,Social
END:VEVENT
BEGIN:VEVENT
DTSTART;TZID=America/Los_Angeles:20250412T163000
DTEND;TZID=America/Los_Angeles:20250412T173000
DTSTAMP:20260423T020523
CREATED:20250327T042851Z
LAST-MODIFIED:20250327T042851Z
UID:1210-1744475400-1744479000@lancasterelkslodge1625.org
SUMMARY:Cocktails
DESCRIPTION:
URL:https://lancasterelkslodge1625.org/event/cocktails/
LOCATION:Elks Lodge #1625\, 240 E Ave k\, Lancaster\, CA\, 93535\, United States
CATEGORIES:Social
END:VEVENT
BEGIN:VEVENT
DTSTART;TZID=America/Los_Angeles:20250412T163000
DTEND;TZID=America/Los_Angeles:20250412T190000
DTSTAMP:20260423T020523
CREATED:20250226T163654Z
LAST-MODIFIED:20250226T170916Z
UID:1023-1744475400-1744484400@lancasterelkslodge1625.org
SUMMARY:Inaugural Ball
DESCRIPTION:Join us in welcoming our 2025-2026 Exhalted Ruler Mike Barnum and His Corps of Officers \nCocktails: 04:30 pm to 05:30 pm\nDinner: 05:30 pm to 07:00 pm \nBand – on Tap\, 07:00 pm – 10:00 pm \nGuests welcome \nTickets available at Bar\nPurchase deadline is April 8th
URL:https://lancasterelkslodge1625.org/event/inaugural-ball/
LOCATION:Elks Lodge #1625\, 240 E Ave k\, Lancaster\, CA\, 93535\, United States
CATEGORIES:Charity,Dining,Exercise,Open Meeting,Social
ATTACH;FMTTYPE=application/pdf:https://lancasterelkslodge1625.org/wp-content/uploads/2025/02/2025-26-Inaugural-Ball-Flyer-Color.pdf
END:VEVENT
BEGIN:VEVENT
DTSTART;TZID=America/Los_Angeles:20250413T090000
DTEND;TZID=America/Los_Angeles:20250413T120000
DTSTAMP:20260423T020523
CREATED:20250327T043207Z
LAST-MODIFIED:20250327T043207Z
UID:1213-1744534800-1744545600@lancasterelkslodge1625.org
SUMMARY:Sunday Breakfast
DESCRIPTION:
URL:https://lancasterelkslodge1625.org/event/sunday-breakfast-11/
LOCATION:Elks Lodge #1625\, 240 E Ave k\, Lancaster\, CA\, 93535\, United States
CATEGORIES:Dining,Social
ATTACH;FMTTYPE=image/jpeg:https://lancasterelkslodge1625.org/wp-content/uploads/2025/02/471604501_903223825310380_8747720846203576067_n.jpg
END:VEVENT
END:VCALENDAR