BEGIN:VCALENDAR
VERSION:2.0
PRODID:-//Lancaster Elks Lodge #1625 - ECPv6.15.20//NONSGML v1.0//EN
CALSCALE:GREGORIAN
METHOD:PUBLISH
X-ORIGINAL-URL:https://lancasterelkslodge1625.org
X-WR-CALDESC:Events for Lancaster Elks Lodge #1625
REFRESH-INTERVAL;VALUE=DURATION:PT1H
X-Robots-Tag:noindex
X-PUBLISHED-TTL:PT1H
BEGIN:VTIMEZONE
TZID:America/Los_Angeles
BEGIN:DAYLIGHT
TZOFFSETFROM:-0800
TZOFFSETTO:-0700
TZNAME:PDT
DTSTART:20250309T100000
END:DAYLIGHT
BEGIN:STANDARD
TZOFFSETFROM:-0700
TZOFFSETTO:-0800
TZNAME:PST
DTSTART:20251102T090000
END:STANDARD
BEGIN:DAYLIGHT
TZOFFSETFROM:-0800
TZOFFSETTO:-0700
TZNAME:PDT
DTSTART:20260308T100000
END:DAYLIGHT
BEGIN:STANDARD
TZOFFSETFROM:-0700
TZOFFSETTO:-0800
TZNAME:PST
DTSTART:20261101T090000
END:STANDARD
BEGIN:DAYLIGHT
TZOFFSETFROM:-0800
TZOFFSETTO:-0700
TZNAME:PDT
DTSTART:20270314T100000
END:DAYLIGHT
BEGIN:STANDARD
TZOFFSETFROM:-0700
TZOFFSETTO:-0800
TZNAME:PST
DTSTART:20271107T090000
END:STANDARD
END:VTIMEZONE
BEGIN:VEVENT
DTSTART;TZID=America/Los_Angeles:20260428T170000
DTEND;TZID=America/Los_Angeles:20260428T183000
DTSTAMP:20260422T115253
CREATED:20260319T162343Z
LAST-MODIFIED:20260319T162343Z
UID:4039-1777395600-1777401000@lancasterelkslodge1625.org
SUMMARY:Dinner
DESCRIPTION:
URL:https://lancasterelkslodge1625.org/event/dinner-22/
LOCATION:Elks Lodge #1625\, 240 E Ave k\, Lancaster\, CA\, 93535\, United States
CATEGORIES:Dining,Social
END:VEVENT
BEGIN:VEVENT
DTSTART;TZID=America/Los_Angeles:20260505T170000
DTEND;TZID=America/Los_Angeles:20260505T183000
DTSTAMP:20260422T115253
CREATED:20260417T154202Z
LAST-MODIFIED:20260417T154202Z
UID:4144-1778000400-1778005800@lancasterelkslodge1625.org
SUMMARY:Karen’s Dinner
DESCRIPTION:
URL:https://lancasterelkslodge1625.org/event/karens-dinner-7/
LOCATION:Elks Lodge #1625\, 240 E Ave k\, Lancaster\, CA\, 93535\, United States
CATEGORIES:Dining,Social
END:VEVENT
BEGIN:VEVENT
DTSTART;TZID=America/Los_Angeles:20260509T170000
DTEND;TZID=America/Los_Angeles:20260509T183000
DTSTAMP:20260422T115253
CREATED:20260417T161833Z
LAST-MODIFIED:20260417T161833Z
UID:4168-1778346000-1778351400@lancasterelkslodge1625.org
SUMMARY:Anwar’s Rib BBQ Dinner
DESCRIPTION:
URL:https://lancasterelkslodge1625.org/event/anwars-rib-bbq-dinner-4/
LOCATION:Elks Lodge #1625\, 240 E Ave k\, Lancaster\, CA\, 93535\, United States
CATEGORIES:Dining,Social
END:VEVENT
BEGIN:VEVENT
DTSTART;TZID=America/Los_Angeles:20260512T170000
DTEND;TZID=America/Los_Angeles:20260512T183000
DTSTAMP:20260422T115253
CREATED:20260417T164448Z
LAST-MODIFIED:20260417T164448Z
UID:4190-1778605200-1778610600@lancasterelkslodge1625.org
SUMMARY:Troy’s Chili Verde Dinner
DESCRIPTION:
URL:https://lancasterelkslodge1625.org/event/troys-chili-verde-dinner-5/
LOCATION:Elks Lodge #1625\, 240 E Ave k\, Lancaster\, CA\, 93535\, United States
CATEGORIES:Dining,Social
END:VEVENT
BEGIN:VEVENT
DTSTART;TZID=America/Los_Angeles:20260515T170000
DTEND;TZID=America/Los_Angeles:20260515T190000
DTSTAMP:20260422T115253
CREATED:20260417T172741Z
LAST-MODIFIED:20260417T172741Z
UID:4211-1778864400-1778871600@lancasterelkslodge1625.org
SUMMARY:Scout Troop 313 Dinner Fundraiser
DESCRIPTION:
URL:https://lancasterelkslodge1625.org/event/scout-troop-313-dinner-fundraiser/
LOCATION:Elks Lodge #1625\, 240 E Ave k\, Lancaster\, CA\, 93535\, United States
CATEGORIES:Charity,Dining,Social
END:VEVENT
BEGIN:VEVENT
DTSTART;TZID=America/Los_Angeles:20260519T170000
DTEND;TZID=America/Los_Angeles:20260519T183000
DTSTAMP:20260422T115253
CREATED:20260417T180434Z
LAST-MODIFIED:20260417T180434Z
UID:4242-1779210000-1779215400@lancasterelkslodge1625.org
SUMMARY:Wanda’s Meatloaf Dinner
DESCRIPTION:
URL:https://lancasterelkslodge1625.org/event/wandas-meatloaf-dinner-4/
LOCATION:Elks Lodge #1625\, 240 E Ave k\, Lancaster\, CA\, 93535\, United States
CATEGORIES:Dining,Social
END:VEVENT
BEGIN:VEVENT
DTSTART;TZID=America/Los_Angeles:20260523T170000
DTEND;TZID=America/Los_Angeles:20260523T190000
DTSTAMP:20260422T115253
CREATED:20260417T181415Z
LAST-MODIFIED:20260417T181415Z
UID:4260-1779555600-1779562800@lancasterelkslodge1625.org
SUMMARY:Bravery Pizza Night
DESCRIPTION:
URL:https://lancasterelkslodge1625.org/event/bravery-pizza-night/
LOCATION:Elks Lodge #1625\, 240 E Ave k\, Lancaster\, CA\, 93535\, United States
CATEGORIES:Dining,Social
END:VEVENT
BEGIN:VEVENT
DTSTART;TZID=America/Los_Angeles:20260526T170000
DTEND;TZID=America/Los_Angeles:20260526T183000
DTSTAMP:20260422T115253
CREATED:20260417T182715Z
LAST-MODIFIED:20260417T182715Z
UID:4282-1779814800-1779820200@lancasterelkslodge1625.org
SUMMARY:April’s Dinner
DESCRIPTION:Chicken Parmesan
URL:https://lancasterelkslodge1625.org/event/aprils-dinner/
LOCATION:Elks Lodge #1625\, 240 E Ave k\, Lancaster\, CA\, 93535\, United States
CATEGORIES:Dining,Social
END:VEVENT
BEGIN:VEVENT
DTSTART;TZID=America/Los_Angeles:20260530T170000
DTEND;TZID=America/Los_Angeles:20260530T183000
DTSTAMP:20260422T115253
CREATED:20260417T183421Z
LAST-MODIFIED:20260417T183421Z
UID:4297-1780160400-1780165800@lancasterelkslodge1625.org
SUMMARY:Fish Fry
DESCRIPTION:
URL:https://lancasterelkslodge1625.org/event/fish-fry-12/
LOCATION:Elks Lodge #1625\, 240 E Ave k\, Lancaster\, CA\, 93535\, United States
CATEGORIES:Dining,Social
END:VEVENT
END:VCALENDAR